Workbook
Name Event: #REF!
Name mile: #REF!
Name mile: #REF!
Name mile: #REF!
Name World_Standard_Times: [1]DropDownLists!$H$2:$H$13

Sheet INFO
B2: Age grading is a way to adjust an athlete's performance according to age and gender. The age-grading tables were developed by the World Association of Veteran Athletes.
B3: The tables work by recording the world record performance for regular distance events, for men and women.
B4: The table looks up the WR for your age, gender and for that distance.
B5: This age WR is then devided by your actual finish time, producing a percentage of the WR. The higher the percentage the closer you are to the WR for that age
B6: What is age-grading used for?
B7: Age grading can be used to compare performances across different ages and gender, track your own performance over time; identify your best events; set goals for current and future years; and identify your best ever performance.
B9: Your age grade can be affected by weather conditions, terrain type ie. soft sand, grass etc, and hills etc.

Sheet RULES
B3: 1. If there is a tie on age grade percentage in an individual race, the slowest person will be listed first | N3: Over 100% = World record level
B4: as there is a probability that the slowest selg graded their start and took longer to cross the start line | N4: Over 90% = World Class
N5: Over 80% = National Class
B6: 2. If there is a tie on overall age grade percentage after 10 races, the one who has won | N6: Over 70% = County Class
B7: the most head to head races is the winner. | N7: Over 60% = local Class
B9: If that doesn't separate them then 1. applies

Sheet Race 1
B1: 46204 | C1: Ynystawe | G1: 3.1 | H1: mile | J1: 5km results in Column C in Male/Female Age Grade tabs
A2: Pos | B2: AGE GRADE Order | C2: Time | D2: Age WR | E2: Min/Mi | F2: Pts | G2: Age Grade % | I2: Pos | J2: ACTUAL Race Order | K2: Time
A3: 1 | B3: Gavin Davies | C3: 00:21:16 | D3: =VLOOKUP(DATEDIF(VLOOKUP(B3,Ages!A$1:D$164,4,FALSE),B$1,"y"),'MEN Age Grade'!A$2:L$101,3,FALSE) -> 0.011215278 | E3: =C3/G$1 -> 0.0047640382 | F3: 100 | G3: =(D3/C3) -> 0.75940439 | I3: 1 | J3: Gareth Parry | K3: 00:19:30 | M3: Women | N3: =VLOOKUP("OC",'WOMEN Age Grade'!A$5:L$104,3,FALSE) -> 0.0096527778
A4: 2 | B4: Hans Thompson | C4: 00:23:53 | D4: =VLOOKUP(DATEDIF(VLOOKUP(B4,Ages!A$1:D$164,4,FALSE),B$1,"y"),'MEN Age Grade'!A$2:L$101,3,FALSE) -> 0.012418981 | E4: =C4/G$1 -> 0.0053502091 | F4: 99 | G4: =(D4/C4) -> 0.74877879 | I4: 2 | J4: Justin Sperrin | K4: 00:20:25 | M4: Men | N4: =VLOOKUP("OC",'MEN Age Grade'!A$3:L$102,3,FALSE) -> 0.008900463
A5: 3 | B5: Gareth Parry | C5: 00:19:30 | D5: =VLOOKUP(DATEDIF(VLOOKUP(B5,Ages!A$1:D$164,4,FALSE),B$1,"y"),'MEN Age Grade'!A$2:L$101,3,FALSE) -> 0.0099074074 | E5: =C5/G$1 -> 0.0043682796 | F5: 98 | G5: =(D5/C5) -> 0.73162393 | I5: 3 | J5: Lee Morris | K5: 00:20:42
A6: 4 | B6: Christina Smith | C6: 00:27:43 | D6: =VLOOKUP(DATEDIF(VLOOKUP(B6,Ages!A$1:D$164,4,FALSE),B$1,"y"),'WOMEN Age Grade'!A$2:L$101,3,FALSE) -> 0.013715278 | E6: =C6/G$1 -> 0.0062089307 | F6: 97 | G6: =D6/C6 -> 0.71256765 | I6: 4 | J6: Paul Jenkins | K6: 00:20:46
A7: 5 | B7: Francis Heron | C7: 00:25:18 | D7: =VLOOKUP(DATEDIF(VLOOKUP(B7,Ages!A$1:D$164,4,FALSE),B$1,"y"),'MEN Age Grade'!A$2:L$101,3,FALSE) -> 0.012418981 | E7: =C7/G$1 -> 0.0056675627 | F7: 96 | G7: =(D7/C7) -> 0.70685112 | I7: 5 | J7: Aron Jones | K7: 00:21:01 | M7: =VLOOKUP(B9,Ages!A$1:D$164,4,FALSE) -> 24836
A8: 6 | B8: Paul Jenkins | C8: 00:20:46 | D8: =VLOOKUP(DATEDIF(VLOOKUP(B8,Ages!A$1:D$164,4,FALSE),B$1,"y"),'MEN Age Grade'!A$2:L$101,3,FALSE) -> 0.01005787 | E8: =C8/G$1 -> 0.0046520311 | F8: 95 | G8: =(D8/C8) -> 0.69743178 | I8: 6 | J8: Dan Evans | K8: 00:21:12
A9: 7 | B9: Julie Archer | C9: 00:26:00 | D9: =VLOOKUP(DATEDIF(VLOOKUP(B9,Ages!A$1:D$164,4,FALSE),B$1,"y"),'WOMEN Age Grade'!A$2:L$101,3,FALSE) -> 0.012349537 | E9: =C9/G$1 -> 0.0058243728 | F9: 94 | G9: =D9/C9 -> 0.68397436 | I9: 7 | J9: Gavin Davies | K9: 00:21:16
A10: 8 | B10: Leighton Jones | C10: 00:28:58 | D10: =VLOOKUP(DATEDIF(VLOOKUP(B10,Ages!A$1:D$164,4,FALSE),B$1,"y"),'MEN Age Grade'!A$2:L$101,3,FALSE) -> 0.01375 | E10: =C10/G$1 -> 0.0064889486 | F10: 93 | G10: =(D10/C10) -> 0.6835443 | I10: 8 | J10: Megan Chick | K10: 00:21:28 | M10: 64 | N10: Age WR Tester
A11: 9 | B11: Rob Sandles | C11: 00:23:18 | D11: =VLOOKUP(DATEDIF(VLOOKUP(B11,Ages!A$1:D$164,4,FALSE),B$1,"y"),'MEN Age Grade'!A$2:L$101,3,FALSE) -> 0.011018519 | E11: =C11/G$1 -> 0.0052195341 | F11: 92 | G11: =(D11/C11) -> 0.68097282 | I11: 9 | J11: Rob Sandles | K11: 00:23:18 | N11: WR Time | O11: Gender
A12: 10 | B12: Lee Morris | C12: 00:20:42 | D12: =VLOOKUP(DATEDIF(VLOOKUP(B12,Ages!A$1:D$164,4,FALSE),B$1,"y"),'MEN Age Grade'!A$2:L$101,3,FALSE) -> 0.0097569444 | E12: =C12/G$1 -> 0.0046370968 | F12: 91 | G12: =(D12/C12) -> 0.67874396 | I12: 10 | J12: Sean Morgans | K12: 00:23:38 | N12: =VLOOKUP(M10,'WOMEN Age Grade'!A$5:L$104,3,FALSE) -> 0.013344907 | O12: Female
A13: 11 | B13: Diane Ridgeway | C13: 00:26:30 | D13: =VLOOKUP(DATEDIF(VLOOKUP(B13,Ages!A$1:D$164,4,FALSE),B$1,"y"),'WOMEN Age Grade'!A$2:L$101,3,FALSE) -> 0.012349537 | E13: =C13/G$1 -> 0.0059363799 | F13: 90 | G13: =D13/C13 -> 0.67106918 | I13: 11 | J13: Hans Thompson | K13: 00:23:53 | N13: =VLOOKUP(M10,'MEN Age Grade'!A$3:L$102,3,FALSE) -> 0.011423611 | O13: Male
A14: 12 | B14: Caroline Sandles | C14: 00:26:55 | D14: =VLOOKUP(DATEDIF(VLOOKUP(B14,Ages!A$1:D$164,4,FALSE),B$1,"y"),'WOMEN Age Grade'!A$2:L$101,3,FALSE) -> 0.012511574 | E14: =C14/G$1 -> 0.0060297192 | F14: 89 | G14: =D14/C14 -> 0.66934985 | I14: 12 | J14: Michelle Grey | K14: 00:23:57
A15: 13 | B15: Peter Clement | C15: 00:24:32 | D15: =VLOOKUP(DATEDIF(VLOOKUP(B15,Ages!A$1:D$164,4,FALSE),B$1,"y"),'MEN Age Grade'!A$2:L$101,3,FALSE) -> 0.011122685 | E15: =C15/G$1 -> 0.0054958184 | F15: 88 | G15: =(D15/C15) -> 0.65285326 | I15: 13 | J15: Laura Gilbert | K15: 00:24:10
A16: 14 | B16: Megan Chick | C16: 00:21:28 | D16: =VLOOKUP(DATEDIF(VLOOKUP(B16,Ages!A$1:D$164,4,FALSE),B$1,"y"),'WOMEN Age Grade'!A$2:L$101,3,FALSE) -> 0.0097106481 | E16: =C16/G$1 -> 0.0048088411 | F16: 87 | G16: =D16/C16 -> 0.65139752 | I16: 14 | J16: Chris Simons | K16: 00:24:19 | M16: Over 100% = World record level
A17: 15 | B17: Cris Arnold | C17: 00:24:24 | D17: =VLOOKUP(DATEDIF(VLOOKUP(B17,Ages!A$1:D$164,4,FALSE),B$1,"y"),'MEN Age Grade'!A$2:L$101,3,FALSE) -> 0.011018519 | E17: =C17/G$1 -> 0.0054659498 | F17: 86 | G17: =(D17/C17) -> 0.65027322 | I17: 15 | J17: Cris Arnold | K17: 00:24:24 | M17: Over 90% = World Class
A18: 16 | B18: Sean Morgans | C18: 00:23:38 | D18: =VLOOKUP(DATEDIF(VLOOKUP(B18,Ages!A$1:D$164,4,FALSE),B$1,"y"),'MEN Age Grade'!A$2:L$101,3,FALSE) -> 0.010648148 | E18: =C18/G$1 -> 0.0052942055 | F18: 85 | G18: =(D18/C18) -> 0.64880113 | I18: 16 | J18: Peter Clement | K18: 00:24:32 | M18: Over 80% = National Class
A19: 17 | B19: Aron Jones | C19: 00:21:01 | D19: =VLOOKUP(DATEDIF(VLOOKUP(B19,Ages!A$1:D$164,4,FALSE),B$1,"y"),'MEN Age Grade'!A$2:L$101,3,FALSE) -> 0.0094675926 | E19: =C19/G$1 -> 0.0047080346 | F19: 84 | G19: =(D19/C19) -> 0.64869151 | I19: 17 | J19: Cori Davies | K19: 00:25:11 | M19: Over 70% = County Class
A20: 18 | B20: Michelle Grey | C20: 00:23:57 | D20: =VLOOKUP(DATEDIF(VLOOKUP(B20,Ages!A$1:D$164,4,FALSE),B$1,"y"),'WOMEN Age Grade'!A$2:L$101,3,FALSE) -> 0.010636574 | E20: =C20/G$1 -> 0.0053651434 | F20: 83 | G20: =D20/C20 -> 0.63952679 | I20: 18 | J20: Sam Grunhut | K20: 00:25:13 | M20: Over 60% = local Class
A21: 19 | B21: Justin Sperrin | C21: 00:20:25 | D21: =VLOOKUP(DATEDIF(VLOOKUP(B21,Ages!A$1:D$164,4,FALSE),B$1,"y"),'MEN Age Grade'!A$2:L$101,3,FALSE) -> 0.0090625 | E21: =C21/G$1 -> 0.004573626 | F21: 82 | G21: =(D21/C21) -> 0.63918367 | I21: 19 | J21: Francis Heron | K21: 00:25:18
A22: 20 | B22: Steve McLelland | C22: 00:28:18 | D22: =VLOOKUP(DATEDIF(VLOOKUP(B22,Ages!A$1:D$164,4,FALSE),B$1,"y"),'MEN Age Grade'!A$2:L$101,3,FALSE) -> 0.012418981 | E22: =C22/G$1 -> 0.0063396057 | F22: 81 | G22: =(D22/C22) -> 0.63191991 | I22: 20 | J22: Clare Baxter | K22: 00:25:46
A23: 21 | B23: Sharon Trotman | C23: 00:27:30 | D23: =VLOOKUP(DATEDIF(VLOOKUP(B23,Ages!A$1:D$164,4,FALSE),B$1,"y"),'WOMEN Age Grade'!A$2:L$101,3,FALSE) -> 0.012048611 | E23: =C23/G$1 -> 0.0061603943 | F23: 80 | G23: =D23/C23 -> 0.63090909 | I23: 21 | J23: Julie Archer | K23: 00:26:00
A24: 22 | B24: Dan Evans | C24: 00:21:12 | D24: =VLOOKUP(DATEDIF(VLOOKUP(B24,Ages!A$1:D$164,4,FALSE),B$1,"y"),'MEN Age Grade'!A$2:L$101,3,FALSE) -> 0.0090625 | E24: =C24/G$1 -> 0.0047491039 | F24: 79 | G24: =(D24/C24) -> 0.61556604 | I24: 22 | J24: Diane Ridgeway | K24: 00:26:30
A25: 23 | B25: Manisha Rickards | C25: 00:31:43 | D25: =VLOOKUP(DATEDIF(VLOOKUP(B25,Ages!A$1:D$164,4,FALSE),B$1,"y"),'WOMEN Age Grade'!A$2:L$101,3,FALSE) -> 0.013171296 | E25: =C25/G$1 -> 0.0071049881 | F25: 78 | G25: =D25/C25 -> 0.59800315 | I25: 23 | J25: Caroline Sandles | K25: 00:26:55
A26: 24 | B26: David Doherty | C26: 00:29:57 | D26: =VLOOKUP(DATEDIF(VLOOKUP(B26,Ages!A$1:D$164,4,FALSE),B$1,"y"),'MEN Age Grade'!A$2:L$101,3,FALSE) -> 0.012418981 | E26: =C26/G$1 -> 0.0067092294 | F26: 77 | G26: =(D26/C26) -> 0.59710629 | I26: 24 | J26: Jia Ping Lee | K26: 00:27:05
A27: 25 | B27: Laura Gilbert | C27: 00:24:10 | D27: =VLOOKUP(DATEDIF(VLOOKUP(B27,Ages!A$1:D$164,4,FALSE),B$1,"y"),'WOMEN Age Grade'!A$2:L$101,3,FALSE) -> 0.0099074074 | E27: =C27/G$1 -> 0.0054136798 | F27: 76 | G27: =D27/C27 -> 0.59034483 | I27: 25 | J27: Sharon Trotman | K27: 00:27:30
A28: 26 | B28: Clare Baxter | C28: 00:25:46 | D28: =VLOOKUP(DATEDIF(VLOOKUP(B28,Ages!A$1:D$164,4,FALSE),B$1,"y"),'WOMEN Age Grade'!A$2:L$101,3,FALSE) -> 0.010520833 | E28: =C28/G$1 -> 0.0057721027 | F28: 75 | G28: =D28/C28 -> 0.58796895 | I28: 26 | J28: Christina Smith | K28: 00:27:43
A29: 27 | B29: Fay Sharpe | C29: 00:33:51 | D29: =VLOOKUP(DATEDIF(VLOOKUP(B29,Ages!A$1:D$164,4,FALSE),B$1,"y"),'WOMEN Age Grade'!A$2:L$101,3,FALSE) -> 0.013715278 | E29: =C29/G$1 -> 0.0075828853 | F29: 74 | G29: =D29/C29 -> 0.58345643 | I29: 27 | J29: Steve McLelland | K29: 00:28:18
A30: 28 | B30: Sandra rees | C30: 00:33:22 | D30: =VLOOKUP(DATEDIF(VLOOKUP(B30,Ages!A$1:D$164,4,FALSE),B$1,"y"),'WOMEN Age Grade'!A$2:L$101,3,FALSE) -> 0.013171296 | E30: =C30/G$1 -> 0.0074746117 | F30: 73 | G30: =D30/C30 -> 0.56843157 | I30: 28 | J30: Leighton Jones | K30: 00:28:58
A31: 29 | B31: Chris Simons | C31: 00:24:19 | D31: =VLOOKUP(DATEDIF(VLOOKUP(B31,Ages!A$1:D$164,4,FALSE),B$1,"y"),'MEN Age Grade'!A$2:L$101,3,FALSE) -> 0.0093287037 | E31: =C31/G$1 -> 0.005447282 | F31: 72 | G31: =(D31/C31) -> 0.55243317 | I31: 29 | J31: Mike Prasad | K31: 00:29:31
A32: 30 | B32: Lynn Holmes | C32: 00:35:34 | D32: =VLOOKUP(DATEDIF(VLOOKUP(B32,Ages!A$1:D$164,4,FALSE),B$1,"y"),'WOMEN Age Grade'!A$2:L$101,3,FALSE) -> 0.013344907 | E32: =C32/G$1 -> 0.0079674432 | F32: 71 | G32: =D32/C32 -> 0.54029991 | I32: 30 | J32: David Doherty | K32: 00:29:57
A33: 31 | B33: Caroline Morgan | C33: 00:32:11 | D33: =VLOOKUP(DATEDIF(VLOOKUP(B33,Ages!A$1:D$164,4,FALSE),B$1,"y"),'WOMEN Age Grade'!A$2:L$101,3,FALSE) -> 0.012048611 | E33: =C33/G$1 -> 0.0072095281 | F33: 70 | G33: =D33/C33 -> 0.53909891 | I33: 31 | J33: Eiri Evans-Jones | K33: 00:30:16
A34: 32 | B34: Mike Prasad | C34: 00:29:31 | D34: =VLOOKUP(DATEDIF(VLOOKUP(B34,Ages!A$1:D$164,4,FALSE),B$1,"y"),'MEN Age Grade'!A$2:L$101,3,FALSE) -> 0.010925926 | E34: =C34/G$1 -> 0.0066121565 | F34: 69 | G34: =(D34/C34) -> 0.53303219 | I34: 32 | J34: Meaghan Jenkins | K34: 00:30:40
A35: 33 | B35: Cori Davies | C35: 00:25:11 | D35: =VLOOKUP(DATEDIF(VLOOKUP(B35,Ages!A$1:D$164,4,FALSE),B$1,"y"),'MEN Age Grade'!A$2:L$101,3,FALSE) -> 0.0092592593 | E35: =C35/G$1 -> 0.0056414277 | F35: 68 | G35: =(D35/C35) -> 0.52945069 | I35: 33 | J35: Victoria Holmes | K35: 00:31:19
A36: 34 | B36: Eiri Evans-Jones | C36: 00:30:16 | D36: =VLOOKUP(DATEDIF(VLOOKUP(B36,Ages!A$1:D$164,4,FALSE),B$1,"y"),'WOMEN Age Grade'!A$2:L$101,3,FALSE) -> 0.010868056 | E36: =C36/G$1 -> 0.0067801673 | F36: 67 | G36: =D36/C36 -> 0.51707048 | I36: 34 | J36: Manisha Rickards | K36: 00:31:43
A37: 35 | B37: Jia Ping Lee | C37: 00:27:05 | D37: =VLOOKUP(DATEDIF(VLOOKUP(B37,Ages!A$1:D$164,4,FALSE),B$1,"y"),'WOMEN Age Grade'!A$2:L$101,3,FALSE) -> 0.0097106481 | E37: =C37/G$1 -> 0.006067055 | F37: 66 | G37: =D37/C37 -> 0.51630769 | I37: 35 | J37: Caroline Morgan | K37: 00:32:11
A38: 36 | B38: Sam Grunhut | C38: 00:25:13 | D38: =VLOOKUP(DATEDIF(VLOOKUP(B38,Ages!A$1:D$164,4,FALSE),B$1,"y"),'MEN Age Grade'!A$2:L$101,3,FALSE) -> 0.008900463 | E38: =C38/G$1 -> 0.0056488949 | F38: 65 | G38: =(D38/C38) -> 0.50826173 | I38: 36 | J38: Sandra rees | K38: 00:33:22
A39: 37 | B39: Jane Wallace | C39: 00:36:54 | D39: =VLOOKUP(DATEDIF(VLOOKUP(B39,Ages!A$1:D$164,4,FALSE),B$1,"y"),'WOMEN Age Grade'!A$2:L$101,3,FALSE) -> 0.012662037 | E39: =C39/G$1 -> 0.008266129 | F39: 64 | G39: =D39/C39 -> 0.49412827 | I39: 37 | J39: Gina Southam | K39: 00:33:31
A40: 38 | B40: Meaghan Jenkins | C40: 00:30:40 | D40: =VLOOKUP(DATEDIF(VLOOKUP(B40,Ages!A$1:D$164,4,FALSE),B$1,"y"),'WOMEN Age Grade'!A$2:L$101,3,FALSE) -> 0.010439815 | E40: =C40/G$1 -> 0.006869773 | F40: 63 | G40: =D40/C40 -> 0.49021739 | I40: 38 | J40: Frances Ratcliff | K40: 00:33:37
A41: 39 | B41: Gina Southam | C41: 00:33:31 | D41: =VLOOKUP(DATEDIF(VLOOKUP(B41,Ages!A$1:D$164,4,FALSE),B$1,"y"),'WOMEN Age Grade'!A$2:L$101,3,FALSE) -> 0.011365741 | E41: =C41/G$1 -> 0.0075082139 | F41: 62 | G41: =D41/C41 -> 0.48831427 | I41: 39 | J41: Fay Sharpe | K41: 00:33:51
A42: 40 | B42: Victoria Holmes | C42: 00:31:19 | D42: =VLOOKUP(DATEDIF(VLOOKUP(B42,Ages!A$1:D$164,4,FALSE),B$1,"y"),'WOMEN Age Grade'!A$2:L$101,3,FALSE) -> 0.0096759259 | E42: =C42/G$1 -> 0.0070153823 | F42: 61 | G42: =D42/C42 -> 0.44491751 | I42: 40 | J42: Lynn Holmes | K42: 00:35:34
A43: 41 | B43: Frances Ratcliff | C43: 00:33:37 | D43: =VLOOKUP(DATEDIF(VLOOKUP(B43,Ages!A$1:D$164,4,FALSE),B$1,"y"),'WOMEN Age Grade'!A$2:L$101,3,FALSE) -> 0.010243056 | E43: =C43/G$1 -> 0.0075306153 | F43: 60 | G43: =D43/C43 -> 0.43877045 | I43: 41 | J43: Jane Wallace | K43: 00:36:54
A44: 42 | B44: Chris Snary | C44: 00:36:57 | D44: =VLOOKUP(DATEDIF(VLOOKUP(B44,Ages!A$1:D$164,4,FALSE),B$1,"y"),'MEN Age Grade'!A$2:L$101,3,FALSE) -> 0.0093981481 | E44: =C44/G$1 -> 0.0082773297 | F44: 59 | G44: =(D44/C44) -> 0.36626071 | I44: 42 | J44: Chris Snary | K44: 00:36:57

Sheet Race 2
B1: 46232 | D1: Singleton Pk | G1: 3.1 | H1: mile | J1: 5km results in Column C in Male/Female Age Grade tabs
A2: Pos | B2: AGE GRADE Order | C2: Time | D2: Age WR | E2: Min/Mi | F2: Pts | G2: Age Grade % | I2: Pos | J2: ACTUAL Race Order | K2: Time
A3: 1 | B3: Ashley Pascoe | C3: 00:19:17 | D3: =VLOOKUP(DATEDIF(VLOOKUP(B3,Ages!A$1:D$164,4,FALSE),B$1,"y"),'MEN Age Grade'!A$2:L$101,3,FALSE) -> 0.010474537 | E3: =C3/G$1 -> 0.0043197431 | F3: 100 | G3: =(D3/C3) -> 0.78219533 | I3: 1 | J3: Gareth Parry | K3: 00:18:57 | M3: Women | N3: =VLOOKUP("OC",'WOMEN Age Grade'!A$5:L$104,3,FALSE) -> 0.0096527778
A4: 2 | B4: Gavin Davies | C4: 00:21:07 | D4: =VLOOKUP(DATEDIF(VLOOKUP(B4,Ages!A$1:D$164,4,FALSE),B$1,"y"),'MEN Age Grade'!A$2:L$101,3,FALSE) -> 0.011215278 | E4: =C4/G$1 -> 0.0047304361 | F4: 99 | G4: =(D4/C4) -> 0.76479874 | I4: 2 | J4: Ashley Pascoe | K4: 00:19:17 | M4: Men | N4: =VLOOKUP("OC",'MEN Age Grade'!A$3:L$102,3,FALSE) -> 0.008900463
A5: 3 | B5: Hans Thompson | C5: 00:23:42 | D5: =VLOOKUP(DATEDIF(VLOOKUP(B5,Ages!A$1:D$164,4,FALSE),B$1,"y"),'MEN Age Grade'!A$2:L$101,3,FALSE) -> 0.012418981 | E5: =C5/G$1 -> 0.0053091398 | F5: 98 | G5: =(D5/C5) -> 0.75457103 | I5: 3 | J5: Justin Sperrin | K5: 00:20:34
A6: 4 | B6: Gareth Parry | C6: 00:18:57 | D6: =VLOOKUP(DATEDIF(VLOOKUP(B6,Ages!A$1:D$164,4,FALSE),B$1,"y"),'MEN Age Grade'!A$2:L$101,3,FALSE) -> 0.0099074074 | E6: =C6/G$1 -> 0.0042450717 | F6: 97 | G6: =(D6/C6) -> 0.7528584 | I6: 4 | J6: Aron Jones | K6: 00:20:35
A7: 5 | B7: Francis Heron | C7: 00:25:05 | D7: =VLOOKUP(DATEDIF(VLOOKUP(B7,Ages!A$1:D$164,4,FALSE),B$1,"y"),'MEN Age Grade'!A$2:L$101,3,FALSE) -> 0.012418981 | E7: =C7/G$1 -> 0.0056190263 | F7: 96 | G7: =(D7/C7) -> 0.71295681 | I7: 5 | J7: Paul Jenkins | K7: 00:20:40
A8: 6 | B8: Christina Smith | C8: 00:28:07 | D8: =VLOOKUP(DATEDIF(VLOOKUP(B8,Ages!A$1:D$164,4,FALSE),B$1,"y"),'WOMEN Age Grade'!A$2:L$101,3,FALSE) -> 0.013715278 | E8: =C8/G$1 -> 0.0062985364 | F8: 95 | G8: =D8/C8 -> 0.70243035 | I8: 6 | J8: Megan Chick | K8: 00:20:54
A9: 7 | B9: Fran Newman | C9: 00:26:39 | D9: =VLOOKUP(DATEDIF(VLOOKUP(B9,Ages!A$1:D$164,4,FALSE),B$1,"y"),'WOMEN Age Grade'!A$2:L$101,3,FALSE) -> 0.012997685 | E9: =C9/G$1 -> 0.0059699821 | F9: 94 | G9: =D9/C9 -> 0.70231395 | I9: 7 | J9: Gavin Davies | K9: 00:21:07
A10: 8 | B10: Paul Jenkins | C10: 00:20:40 | D10: =VLOOKUP(DATEDIF(VLOOKUP(B10,Ages!A$1:D$164,4,FALSE),B$1,"y"),'MEN Age Grade'!A$2:L$101,3,FALSE) -> 0.01005787 | E10: =C10/G$1 -> 0.0046296296 | F10: 93 | G10: =(D10/C10) -> 0.70080645 | I10: 8 | J10: James Bennett | K10: 00:21:51 | M10: 64 | N10: Age WR Tester
A11: 9 | B11: Leighton Jones | C11: 00:28:52 | D11: =VLOOKUP(DATEDIF(VLOOKUP(B11,Ages!A$1:D$164,4,FALSE),B$1,"y"),'MEN Age Grade'!A$2:L$101,3,FALSE) -> 0.01375 | E11: =C11/G$1 -> 0.0064665472 | F11: 92 | G11: =(D11/C11) -> 0.68591224 | I11: 9 | J11: Kevin Watson | K11: 00:22:18 | M11: Factor | N11: WR Time | O11: Gender
A12: 10 | B12: Rob Sandles | C12: 00:23:14 | D12: =VLOOKUP(DATEDIF(VLOOKUP(B12,Ages!A$1:D$164,4,FALSE),B$1,"y"),'MEN Age Grade'!A$2:L$101,3,FALSE) -> 0.011018519 | E12: =C12/G$1 -> 0.0052045998 | F12: 91 | G12: =(D12/C12) -> 0.68292683 | I12: 10 | J12: Rob Sandles | K12: 00:23:14 | M12: Women | N12: =VLOOKUP(M10,'WOMEN Age Grade'!A$5:L$104,3,FALSE) -> 0.013344907 | O12: Female
A13: 11 | B13: Kevin Watson | C13: 00:22:18 | D13: =VLOOKUP(DATEDIF(VLOOKUP(B13,Ages!A$1:D$164,4,FALSE),B$1,"y"),'MEN Age Grade'!A$2:L$101,3,FALSE) -> 0.01056713 | E13: =C13/G$1 -> 0.0049955197 | F13: 90 | G13: =(D13/C13) -> 0.68236173 | I13: 11 | J13: Hans Thompson | K13: 00:23:42 | M13: Men | N13: =VLOOKUP(M10,'MEN Age Grade'!A$3:L$102,3,FALSE) -> 0.011423611 | O13: Male
A14: 12 | B14: Diane Ridgeway | C14: 00:26:07 | D14: =VLOOKUP(DATEDIF(VLOOKUP(B14,Ages!A$1:D$164,4,FALSE),B$1,"y"),'WOMEN Age Grade'!A$2:L$101,3,FALSE) -> 0.012349537 | E14: =C14/G$1 -> 0.0058505078 | F14: 89 | G14: =D14/C14 -> 0.68091895 | I14: 12 | J14: Laura Gilbert | K14: 00:24:06
A15: 13 | B15: Julie Archer | C15: 00:26:13 | D15: =VLOOKUP(DATEDIF(VLOOKUP(B15,Ages!A$1:D$164,4,FALSE),B$1,"y"),'WOMEN Age Grade'!A$2:L$101,3,FALSE) -> 0.012349537 | E15: =C15/G$1 -> 0.0058729092 | F15: 88 | G15: =D15/C15 -> 0.67832168 | I15: 13 | J15: Chris Snary | K15: 00:24:06 | M15: Over 100% = World record level
A16: 14 | B16: Megan Chick | C16: 00:20:54 | D16: =VLOOKUP(DATEDIF(VLOOKUP(B16,Ages!A$1:D$164,4,FALSE),B$1,"y"),'WOMEN Age Grade'!A$2:L$101,3,FALSE) -> 0.0097106481 | E16: =C16/G$1 -> 0.0046818996 | F16: 87 | G16: =D16/C16 -> 0.66905901 | I16: 14 | J16: Peter Clement | K16: 00:24:29 | M16: Over 90% = World Class
A17: 15 | B17: Caroline Sandles | C17: 00:27:04 | D17: =VLOOKUP(DATEDIF(VLOOKUP(B17,Ages!A$1:D$164,4,FALSE),B$1,"y"),'WOMEN Age Grade'!A$2:L$101,3,FALSE) -> 0.012511574 | E17: =C17/G$1 -> 0.0060633214 | F17: 86 | G17: =D17/C17 -> 0.66564039 | I17: 15 | J17: Sam Grunhut | K17: 00:24:46 | M17: Over 80% = National Class
A18: 16 | B18: Aron Jones | C18: 00:20:35 | D18: =VLOOKUP(DATEDIF(VLOOKUP(B18,Ages!A$1:D$164,4,FALSE),B$1,"y"),'MEN Age Grade'!A$2:L$101,3,FALSE) -> 0.0094675926 | E18: =C18/G$1 -> 0.0046109618 | F18: 85 | G18: =(D18/C18) -> 0.66234818 | I18: 16 | J18: Clare Baxter | K18: 00:24:57 | M18: Over 70% = County Class
A19: 17 | B19: Peter Clement | C19: 00:24:29 | D19: =VLOOKUP(DATEDIF(VLOOKUP(B19,Ages!A$1:D$164,4,FALSE),B$1,"y"),'MEN Age Grade'!A$2:L$101,3,FALSE) -> 0.011122685 | E19: =C19/G$1 -> 0.0054846177 | F19: 84 | G19: =(D19/C19) -> 0.65418652 | I19: 17 | J19: Chris Simons | K19: 0.017361111 | M19: Over 60% = local Class
A20: 18 | B20: Justin Sperrin | C20: 00:20:34 | D20: =VLOOKUP(DATEDIF(VLOOKUP(B20,Ages!A$1:D$164,4,FALSE),B$1,"y"),'MEN Age Grade'!A$2:L$101,3,FALSE) -> 0.0090625 | E20: =C20/G$1 -> 0.0046072282 | F20: 83 | G20: =(D20/C20) -> 0.63452188 | I20: 18 | J20: Francis Heron | K20: 00:25:05
A21: 19 | B21: David Doherty | C21: 00:29:17 | D21: =VLOOKUP(DATEDIF(VLOOKUP(B21,Ages!A$1:D$164,4,FALSE),B$1,"y"),'MEN Age Grade'!A$2:L$101,3,FALSE) -> 0.012418981 | E21: =C21/G$1 -> 0.0065598865 | F21: 82 | G21: =(D21/C21) -> 0.61070006 | I21: 19 | J21: Cori Davies | K21: 00:26:00
A22: 20 | B22: Clare Baxter | C22: 00:24:57 | D22: =VLOOKUP(DATEDIF(VLOOKUP(B22,Ages!A$1:D$164,4,FALSE),B$1,"y"),'WOMEN Age Grade'!A$2:L$101,3,FALSE) -> 0.010520833 | E22: =C22/G$1 -> 0.0055891577 | F22: 81 | G22: =D22/C22 -> 0.60721443 | I22: 20 | J22: Diane Ridgeway | K22: 00:26:07
A23: 21 | B23: Steve McLelland | C23: 00:29:45 | D23: =VLOOKUP(DATEDIF(VLOOKUP(B23,Ages!A$1:D$164,4,FALSE),B$1,"y"),'MEN Age Grade'!A$2:L$101,3,FALSE) -> 0.012418981 | E23: =C23/G$1 -> 0.0066644265 | F23: 80 | G23: =(D23/C23) -> 0.60112045 | I23: 21 | J23: Julie Archer | K23: 00:26:13
A24: 22 | B24: James Bennett | C24: 00:21:51 | D24: =VLOOKUP(DATEDIF(VLOOKUP(B24,Ages!A$1:D$164,4,FALSE),B$1,"y"),'MEN Age Grade'!A$2:L$101,3,FALSE) -> 0.0090625 | E24: =C24/G$1 -> 0.0048947133 | F24: 79 | G24: =(D24/C24) -> 0.597254 | I24: 22 | J24: Fran Newman | K24: 00:26:39
A25: 23 | B25: Laura Gilbert | C25: 00:24:06 | D25: =VLOOKUP(DATEDIF(VLOOKUP(B25,Ages!A$1:D$164,4,FALSE),B$1,"y"),'WOMEN Age Grade'!A$2:L$101,3,FALSE) -> 0.0099074074 | E25: =C25/G$1 -> 0.0053987455 | F25: 78 | G25: =D25/C25 -> 0.59197787 | I25: 23 | J25: Jenny Stanford | K25: 00:26:44
A26: 24 | B26: Linda Owens | C26: 00:38:32 | D26: =VLOOKUP(DATEDIF(VLOOKUP(B26,Ages!A$1:D$164,4,FALSE),B$1,"y"),'WOMEN Age Grade'!A$2:L$101,3,FALSE) -> 0.015659722 | E26: =C26/G$1 -> 0.0086320191 | F26: 77 | G26: =D26/C26 -> 0.58520761 | I26: 24 | J26: Caroline Sandles | K26: 00:27:04
A27: 25 | B27: Ed Davies | C27: 00:27:32 | D27: =VLOOKUP(DATEDIF(VLOOKUP(B27,Ages!A$1:D$164,4,FALSE),B$1,"y"),'MEN Age Grade'!A$2:L$101,3,FALSE) -> 0.011122685 | E27: =C27/G$1 -> 0.0061678614 | F27: 76 | G27: =(D27/C27) -> 0.58171913 | I27: 25 | J27: Ed Davies | K27: 00:27:32
A28: 26 | B28: Laura Hall | C28: 00:33:27 | D28: =VLOOKUP(DATEDIF(VLOOKUP(B28,Ages!A$1:D$164,4,FALSE),B$1,"y"),'WOMEN Age Grade'!A$2:L$101,3,FALSE) -> 0.013171296 | E28: =C28/G$1 -> 0.0074932796 | F28: 75 | G28: =D28/C28 -> 0.56701545 | I28: 26 | J28: Jia Ping Lee | K28: 00:27:39
A29: 27 | B29: Jenny Stanford | C29: 00:26:44 | D29: =VLOOKUP(DATEDIF(VLOOKUP(B29,Ages!A$1:D$164,4,FALSE),B$1,"y"),'WOMEN Age Grade'!A$2:L$101,3,FALSE) -> 0.010520833 | E29: =C29/G$1 -> 0.0059886499 | F29: 74 | G29: =D29/C29 -> 0.56670823 | I29: 27 | J29: Michelle Grey | K29: 0.019467593
A30: 28 | B30: Chris Snary | C30: 00:24:06 | D30: =VLOOKUP(DATEDIF(VLOOKUP(B30,Ages!A$1:D$164,4,FALSE),B$1,"y"),'MEN Age Grade'!A$2:L$101,3,FALSE) -> 0.0093981481 | E30: =C30/G$1 -> 0.0053987455 | F30: 73 | G30: =(D30/C30) -> 0.5615491 | I30: 28 | J30: Christina Smith | K30: 00:28:07
A31: 29 | B31: Michelle Grey | C31: 0.019467593 | D31: =VLOOKUP(DATEDIF(VLOOKUP(B31,Ages!A$1:D$164,4,FALSE),B$1,"y"),'WOMEN Age Grade'!A$2:L$101,3,FALSE) -> 0.010636574 | E31: =C31/G$1 -> 0.0062798686 | F31: 72 | G31: =D31/C31 -> 0.54637337 | I31: 29 | J31: Leighton Jones | K31: 00:28:52
A32: 30 | B32: Manisha Rickards | C32: 00:34:44 | D32: =VLOOKUP(DATEDIF(VLOOKUP(B32,Ages!A$1:D$164,4,FALSE),B$1,"y"),'WOMEN Age Grade'!A$2:L$101,3,FALSE) -> 0.013171296 | E32: =C32/G$1 -> 0.0077807646 | F32: 71 | G32: =D32/C32 -> 0.54606526 | I32: 30 | J32: Kelly Bamford | K32: 00:29:09
A33: 31 | B33: Chris Simons | C33: 0.017361111 | D33: =VLOOKUP(DATEDIF(VLOOKUP(B33,Ages!A$1:D$164,4,FALSE),B$1,"y"),'MEN Age Grade'!A$2:L$101,3,FALSE) -> 0.0093287037 | E33: =C33/G$1 -> 0.0056003584 | F33: 70 | G33: =(D33/C33) -> 0.53733333 | I33: 31 | J33: David Doherty | K33: 00:29:17
A34: 32 | B34: Kelly Bamford | C34: 00:29:09 | D34: =VLOOKUP(DATEDIF(VLOOKUP(B34,Ages!A$1:D$164,4,FALSE),B$1,"y"),'WOMEN Age Grade'!A$2:L$101,3,FALSE) -> 0.010868056 | E34: =C34/G$1 -> 0.0065300179 | F34: 69 | G34: =D34/C34 -> 0.53687822 | I34: 32 | J34: Eiri Evans-Jones | K34: 00:29:27
A35: 33 | B35: Lynn Holmes | C35: 00:35:51 | D35: =VLOOKUP(DATEDIF(VLOOKUP(B35,Ages!A$1:D$164,4,FALSE),B$1,"y"),'WOMEN Age Grade'!A$2:L$101,3,FALSE) -> 0.013344907 | E35: =C35/G$1 -> 0.008030914 | F35: 68 | G35: =D35/C35 -> 0.53602975 | I35: 33 | J35: Steve McLelland | K35: 00:29:45
A36: 34 | B36: Eiri Evans-Jones | C36: 00:29:27 | D36: =VLOOKUP(DATEDIF(VLOOKUP(B36,Ages!A$1:D$164,4,FALSE),B$1,"y"),'WOMEN Age Grade'!A$2:L$101,3,FALSE) -> 0.010868056 | E36: =C36/G$1 -> 0.0065972222 | F36: 67 | G36: =D36/C36 -> 0.53140917 | I36: 34 | J36: Saran Lewis | K36: 00:30:36
A37: 35 | B37: Saran Lewis | C37: 00:30:36 | D37: =VLOOKUP(DATEDIF(VLOOKUP(B37,Ages!A$1:D$164,4,FALSE),B$1,"y"),'WOMEN Age Grade'!A$2:L$101,3,FALSE) -> 0.011111111 | E37: =C37/G$1 -> 0.0068548387 | F37: 66 | G37: =D37/C37 -> 0.52287582 | I37: 35 | J37: Debbie Gibbs | K37: 00:31:21
A38: 36 | B38: Sam Grunhut | C38: 00:24:46 | D38: =VLOOKUP(DATEDIF(VLOOKUP(B38,Ages!A$1:D$164,4,FALSE),B$1,"y"),'MEN Age Grade'!A$2:L$101,3,FALSE) -> 0.008900463 | E38: =C38/G$1 -> 0.0055480884 | F38: 65 | G38: =(D38/C38) -> 0.51749664 | I38: 36 | J38: Meaghan Jenkins | K38: 00:31:58
A39: 37 | B39: Cori Davies | C39: 00:26:00 | D39: =VLOOKUP(DATEDIF(VLOOKUP(B39,Ages!A$1:D$164,4,FALSE),B$1,"y"),'MEN Age Grade'!A$2:L$101,3,FALSE) -> 0.0092592593 | E39: =C39/G$1 -> 0.0058243728 | F39: 64 | G39: =(D39/C39) -> 0.51282051 | I39: 37 | J39: Meghann Millership | K39: 00:32:31
A40: 38 | B40: Fay Sharpe | C40: 00:38:38 | D40: =VLOOKUP(DATEDIF(VLOOKUP(B40,Ages!A$1:D$164,4,FALSE),B$1,"y"),'WOMEN Age Grade'!A$2:L$101,3,FALSE) -> 0.013715278 | E40: =C40/G$1 -> 0.0086544205 | F40: 63 | G40: =D40/C40 -> 0.51121657 | I40: 38 | J40: Laura Hall | K40: 00:33:27
A41: 39 | B41: Jia Ping Lee | C41: 00:27:39 | D41: =VLOOKUP(DATEDIF(VLOOKUP(B41,Ages!A$1:D$164,4,FALSE),B$1,"y"),'WOMEN Age Grade'!A$2:L$101,3,FALSE) -> 0.0097106481 | E41: =C41/G$1 -> 0.0061939964 | F41: 62 | G41: =D41/C41 -> 0.50572634 | I41: 39 | J41: Victoria Holmes | K41: 00:34:02
A42: 40 | B42: Debbie Gibbs | C42: 00:31:21 | D42: =VLOOKUP(DATEDIF(VLOOKUP(B42,Ages!A$1:D$164,4,FALSE),B$1,"y"),'WOMEN Age Grade'!A$2:L$101,3,FALSE) -> 0.010983796 | E42: =C42/G$1 -> 0.0070228495 | F42: 61 | G42: =D42/C42 -> 0.50451887 | I42: 40 | J42: Manisha Rickards | K42: 00:34:44
A43: 41 | B43: Jane Wallace | C43: 00:36:29 | D43: =VLOOKUP(DATEDIF(VLOOKUP(B43,Ages!A$1:D$164,4,FALSE),B$1,"y"),'WOMEN Age Grade'!A$2:L$101,3,FALSE) -> 0.012662037 | E43: =C43/G$1 -> 0.0081727897 | F43: 60 | G43: =D43/C43 -> 0.49977159 | I43: 41 | J43: Caroline Jones I | K43: 00:35:40
A44: 42 | B44: Caroline Jones I | C44: 00:35:40 | D44: =VLOOKUP(DATEDIF(VLOOKUP(B44,Ages!A$1:D$164,4,FALSE),B$1,"y"),'WOMEN Age Grade'!A$2:L$101,3,FALSE) -> 0.011770833 | E44: =C44/G$1 -> 0.0079898447 | F44: 59 | G44: =D44/C44 -> 0.47523364 | I44: 42 | J44: Lynn Holmes | K44: 00:35:51
A45: 43 | B45: Meaghan Jenkins | C45: 00:31:58 | D45: =VLOOKUP(DATEDIF(VLOOKUP(B45,Ages!A$1:D$164,4,FALSE),B$1,"y"),'WOMEN Age Grade'!A$2:L$101,3,FALSE) -> 0.010439815 | E45: =C45/G$1 -> 0.0071609916 | F45: 58 | G45: =D45/C45 -> 0.47028154 | I45: 43 | J45: Jane Wallace | K45: 00:36:29
A46: 44 | B46: Meghann Millership | C46: 00:32:31 | D46: =VLOOKUP(DATEDIF(VLOOKUP(B46,Ages!A$1:D$164,4,FALSE),B$1,"y"),'WOMEN Age Grade'!A$2:L$101,3,FALSE) -> 0.0098611111 | E46: =C46/G$1 -> 0.0072841995 | F46: 57 | G46: =D46/C46 -> 0.43669913 | I46: 44 | J46: Clare Daniel | K46: 00:36:34
A47: 45 | B47: Victoria Holmes | C47: 00:34:02 | D47: =VLOOKUP(DATEDIF(VLOOKUP(B47,Ages!A$1:D$164,4,FALSE),B$1,"y"),'WOMEN Age Grade'!A$2:L$101,3,FALSE) -> 0.0096759259 | E47: =C47/G$1 -> 0.0076239546 | F47: 56 | G47: =D47/C47 -> 0.40940255 | I47: 45 | J47: Sophie Grunhut | K47: 00:36:38
A48: 46 | B48: Clare Daniel | C48: 00:36:34 | D48: =VLOOKUP(DATEDIF(VLOOKUP(B48,Ages!A$1:D$164,4,FALSE),B$1,"y"),'WOMEN Age Grade'!A$2:L$101,3,FALSE) -> 0.010092593 | E48: =C48/G$1 -> 0.0081914576 | F48: 55 | G48: =D48/C48 -> 0.39744758 | I48: 46 | J48: Linda Owens | K48: 00:38:32
A49: 47 | B49: Sophie Grunhut | C49: 00:36:38 | D49: =VLOOKUP(DATEDIF(VLOOKUP(B49,Ages!A$1:D$164,4,FALSE),B$1,"y"),'WOMEN Age Grade'!A$2:L$101,3,FALSE) -> 0.0096759259 | E49: =C49/G$1 -> 0.0082063919 | F49: 54 | G49: =D49/C49 -> 0.38034577 | I49: 47 | J49: Fay Sharpe | K49: 00:38:38

Sheet Race 3
B1: 46260 | G1: 6.2 | H1: mile | J1: 10k results in col 8 of Age Grade Listing 'men' / 'women'
A2: Pos | B2: AGE GRADE Order | C2: Time | D2: Age WR | E2: Min/Mi | F2: Pts | G2: Age Grade % | I2: Pos | J2: ACTUAL Race Order | K2: Time
A3: 1 | B3: Ashley Pascoe | C3: 0.028645833 | D3: =VLOOKUP(DATEDIF(VLOOKUP(B3,Ages!A$1:D$164,4,FALSE),B$1,"y"),'MEN Age Grade'!A$2:L$101,8,FALSE) -> 0.021354167 | E3: =C3/G$1 -> 0.0046202957 | F3: 100 | G3: =(D3/C3) -> 0.74545455 | I3: 1 | J3: Ashley Pascoe | K3: 0.028645833 | M3: Women | N3: =VLOOKUP("OC",'WOMEN Age Grade'!A$5:L$104,8,FALSE) -> 0.019976852
A4: 2 | B4: Hans Thompson | C4: 0.036076389 | D4: =VLOOKUP(DATEDIF(VLOOKUP(B4,Ages!A$1:D$164,4,FALSE),B$1,"y"),'MEN Age Grade'!A$2:L$101,8,FALSE) -> 0.025381944 | E4: =C4/G$1 -> 0.0058187724 | F4: 99 | G4: =(D4/C4) -> 0.70356112 | I4: 2 | J4: Lee Morris | K4: 0.029108796 | M4: Men | N4: =VLOOKUP("OC",'MEN Age Grade'!A$3:L$102,8,FALSE) -> 0.018333333
A5: 3 | B5: Cris Arnold | C5: 0.033252315 | D5: =VLOOKUP(DATEDIF(VLOOKUP(B5,Ages!A$1:D$164,4,FALSE),B$1,"y"),'MEN Age Grade'!A$2:L$101,8,FALSE) -> 0.022743056 | E5: =C5/G$1 -> 0.0053632766 | F5: 98 | G5: =(D5/C5) -> 0.68395405 | I5: 3 | J5: Justin Sperrin | K5: 0.029502315
A6: 4 | B6: Rob Sandles | C6: 0.033043981 | D6: =VLOOKUP(DATEDIF(VLOOKUP(B6,Ages!A$1:D$164,4,FALSE),B$1,"y"),'MEN Age Grade'!A$2:L$101,8,FALSE) -> 0.022534722 | E6: =C6/G$1 -> 0.0053296744 | F6: 97 | G6: =(D6/C6) -> 0.68196147 | I6: 4 | J6: Aron Jones | K6: 0.029895833
A7: 5 | B7: Fran Newman | C7: 0.038449074 | D7: =VLOOKUP(DATEDIF(VLOOKUP(B7,Ages!A$1:D$164,4,FALSE),B$1,"y"),'WOMEN Age Grade'!A$2:L$101,8,FALSE) -> 0.026180556 | E7: =C7/G$1 -> 0.0062014636 | F7: 96 | G7: =(D7/C7) -> 0.68091511 | I7: 5 | J7: Paul Jenkins | K7: 0.030173611
A8: 6 | B8: Lee Morris | C8: 0.029108796 | D8: =VLOOKUP(DATEDIF(VLOOKUP(B8,Ages!A$1:D$164,4,FALSE),B$1,"y"),'MEN Age Grade'!A$2:L$101,8,FALSE) -> 0.019791667 | E8: =C8/G$1 -> 0.0046949671 | F8: 95 | G8: =(D8/C8) -> 0.67992048 | I8: 6 | J8: Megan Chick | K8: 0.030787037
A9: 7 | B9: Paul Jenkins | C9: 0.030173611 | D9: =VLOOKUP(DATEDIF(VLOOKUP(B9,Ages!A$1:D$164,4,FALSE),B$1,"y"),'MEN Age Grade'!A$2:L$101,8,FALSE) -> 0.020462963 | E9: =C9/G$1 -> 0.0048667115 | F9: 94 | G9: =(D9/C9) -> 0.67817415 | I9: 7 | J9: Kevin Watson | K9: 0.031944444
A10: 8 | B10: Kevin Watson | C10: 0.031944444 | D10: =VLOOKUP(DATEDIF(VLOOKUP(B10,Ages!A$1:D$164,4,FALSE),B$1,"y"),'MEN Age Grade'!A$2:L$101,8,FALSE) -> 0.021539352 | E10: =C10/G$1 -> 0.0051523297 | F10: 93 | G10: =(D10/C10) -> 0.67427536 | I10: 8 | J10: Mark Bamford | K10: 0.032523148 | M10: 64 | N10: Age WR Tester
A11: 9 | B11: Caroline Sandles | C11: 0.037743056 | D11: =VLOOKUP(DATEDIF(VLOOKUP(B11,Ages!A$1:D$164,4,FALSE),B$1,"y"),'WOMEN Age Grade'!A$2:L$101,8,FALSE) -> 0.025196759 | E11: =C11/G$1 -> 0.0060875896 | F11: 92 | G11: =(D11/C11) -> 0.66758663 | I11: 9 | J11: Rob Sandles | K11: 0.033043981 | M11: Factor | N11: WR Time | O11: Gender
A12: 10 | B12: Leighton Jones | C12: 0.041863426 | D12: =VLOOKUP(DATEDIF(VLOOKUP(B12,Ages!A$1:D$164,4,FALSE),B$1,"y"),'MEN Age Grade'!A$2:L$101,8,FALSE) -> 0.027893519 | E12: =C12/G$1 -> 0.0067521655 | F12: 91 | G12: =(D12/C12) -> 0.66629804 | I12: 10 | J12: James Bennett | K12: 0.033113426 | M12: Women | N12: =VLOOKUP(M10,'WOMEN Age Grade'!A$5:L$104,8,FALSE) -> 0.026886574 | O12: Female
A13: 11 | B13: Megan Chick | C13: 0.030787037 | D13: =VLOOKUP(DATEDIF(VLOOKUP(B13,Ages!A$1:D$164,4,FALSE),B$1,"y"),'WOMEN Age Grade'!A$2:L$101,8,FALSE) -> 0.020046296 | E13: =C13/G$1 -> 0.0049656511 | F13: 90 | G13: =(D13/C13) -> 0.65112782 | I13: 11 | J13: Cris Arnold | K13: 0.033252315 | M13: Men | N13: =VLOOKUP(M10,'MEN Age Grade'!A$3:L$102,8,FALSE) -> 0.023391204 | O13: Male
A14: 12 | B14: Mark Bamford | C14: 0.032523148 | D14: =VLOOKUP(DATEDIF(VLOOKUP(B14,Ages!A$1:D$164,4,FALSE),B$1,"y"),'MEN Age Grade'!A$2:L$101,8,FALSE) -> 0.020983796 | E14: =C14/G$1 -> 0.0052456691 | F14: 89 | G14: =(D14/C14) -> 0.64519573 | I14: 12 | J14: Dan Evans | K14: 0.033414352
A15: 13 | B15: Aron Jones | C15: 0.029895833 | D15: =VLOOKUP(DATEDIF(VLOOKUP(B15,Ages!A$1:D$164,4,FALSE),B$1,"y"),'MEN Age Grade'!A$2:L$101,8,FALSE) -> 0.019178241 | E15: =C15/G$1 -> 0.0048219086 | F15: 88 | G15: =(D15/C15) -> 0.64150213 | I15: 13 | J15: Chris Simons | K15: 0.033854167 | M15: Over 100% = World record level
A16: 14 | B16: Diane Ridgeway | C16: 0.039201389 | D16: =VLOOKUP(DATEDIF(VLOOKUP(B16,Ages!A$1:D$164,4,FALSE),B$1,"y"),'WOMEN Age Grade'!A$2:L$101,8,FALSE) -> 0.024884259 | E16: =C16/G$1 -> 0.0063228047 | F16: 87 | G16: =(D16/C16) -> 0.63478004 | I16: 14 | J16: Stuart Davies | K16: 0.034155093 | M16: Over 90% = World Class
A17: 15 | B17: Sean Morgans | C17: 0.034340278 | D17: =VLOOKUP(DATEDIF(VLOOKUP(B17,Ages!A$1:D$164,4,FALSE),B$1,"y"),'MEN Age Grade'!A$2:L$101,8,FALSE) -> 0.021736111 | E17: =C17/G$1 -> 0.0055387545 | F17: 86 | G17: =(D17/C17) -> 0.63296259 | I17: 15 | J17: Sean Morgans | K17: 0.034340278 | M17: Over 80% = National Class
A18: 16 | B18: Justin Sperrin | C18: 0.029502315 | D18: =VLOOKUP(DATEDIF(VLOOKUP(B18,Ages!A$1:D$164,4,FALSE),B$1,"y"),'MEN Age Grade'!A$2:L$101,8,FALSE) -> 0.018506944 | E18: =C18/G$1 -> 0.0047584379 | F18: 85 | G18: =(D18/C18) -> 0.62730483 | I18: 16 | J18: Ceri Isaac | K18: 0.035763889 | M18: Over 70% = County Class
A19: 17 | B19: Peter Clement | C19: 0.038148148 | D19: =VLOOKUP(DATEDIF(VLOOKUP(B19,Ages!A$1:D$164,4,FALSE),B$1,"y"),'MEN Age Grade'!A$2:L$101,8,FALSE) -> 0.022743056 | E19: =C19/G$1 -> 0.0061529271 | F19: 84 | G19: =(D19/C19) -> 0.59617718 | I19: 17 | J19: Hans Thompson | K19: 0.036076389 | M19: Over 60% = local Class
A20: 18 | B20: Stuart Davies | C20: 0.034155093 | D20: =VLOOKUP(DATEDIF(VLOOKUP(B20,Ages!A$1:D$164,4,FALSE),B$1,"y"),'MEN Age Grade'!A$2:L$101,8,FALSE) -> 0.020289352 | E20: =C20/G$1 -> 0.0055088859 | F20: 83 | G20: =(D20/C20) -> 0.59403592 | I20: 18 | J20: Sam Grunhut | K20: 0.036759259
A21: 19 | B21: Manisha Rickards | C21: 0.044895833 | D21: =VLOOKUP(DATEDIF(VLOOKUP(B21,Ages!A$1:D$164,4,FALSE),B$1,"y"),'WOMEN Age Grade'!A$2:L$101,8,FALSE) -> 0.026527778 | E21: =C21/G$1 -> 0.0072412634 | F21: 82 | G21: =(D21/C21) -> 0.59087394 | I21: 19 | J21: Caroline Sandles | K21: 0.037743056 | N21: =VLOOKUP(B4,Ages!A$1:J$164,10,FALSE) -> 70-74 | O21: =IF(C3<=VLOOKUP(N21,'Standards Male'!E65:J76,2,FALSE),'Standards Male'!F63,"other") -> other
A22: 20 | B22: James Davies | C22: 0.038819444 | D22: =VLOOKUP(DATEDIF(VLOOKUP(B22,Ages!A$1:D$164,4,FALSE),B$1,"y"),'MEN Age Grade'!A$2:L$101,8,FALSE) -> 0.02212963 | E22: =C22/G$1 -> 0.0062612007 | F22: 81 | G22: =(D22/C22) -> 0.57006559 | I22: 20 | J22: Peter Clement | K22: 0.038148148 | N22: =VLOOKUP(VLOOKUP(B4,Ages!A$1:J$164,10,FALSE),'Standards Male'!E65:J76,2,FALSE) -> 0.024626919
A23: 21 | B23: Sandra Rees | C23: 0.04712963 | D23: =VLOOKUP(DATEDIF(VLOOKUP(B23,Ages!A$1:D$164,4,FALSE),B$1,"y"),'WOMEN Age Grade'!A$2:L$101,8,FALSE) -> 0.026527778 | E23: =C23/G$1 -> 0.0076015532 | F23: 80 | G23: =(D23/C23) -> 0.56286837 | I23: 21 | J23: Fran Newman | K23: 0.038449074
A24: 22 | B24: James Bennett | C24: 0.033113426 | D24: =VLOOKUP(DATEDIF(VLOOKUP(B24,Ages!A$1:D$164,4,FALSE),B$1,"y"),'MEN Age Grade'!A$2:L$101,8,FALSE) -> 0.018506944 | E24: =C24/G$1 -> 0.0053408751 | F24: 79 | G24: =(D24/C24) -> 0.55889549 | I24: 22 | J24: James Davies | K24: 0.038819444 | N24: {=_xlfn.IFS(C4<='Standards Male'!F70,"Platinum",C4<='Standards Male'!G70,"Gold",C4<='Standards Male'!H70,"Silver",C4<='Standards Male'!I70,"Bronze",C4<='Standards Male'!J70,"Copper")} -> #N/A
A25: 23 | B25: Chris Simons | C25: 0.033854167 | D25: =VLOOKUP(DATEDIF(VLOOKUP(B25,Ages!A$1:D$164,4,FALSE),B$1,"y"),'MEN Age Grade'!A$2:L$101,8,FALSE) -> 0.018888889 | E25: =C25/G$1 -> 0.0054603495 | F25: 78 | G25: =(D25/C25) -> 0.55794872 | I25: 23 | J25: Jia Ping Lee | K25: 0.038900463 | N25: {=_xlfn.IFS(C4<='Standards Male'!F70,"Platinum",C4<='Standards Male'!G70,"Gold",C4<='Standards Male'!H70,"Silver",C4<='Standards Male'!I70,"Bronze",C4<='Standards Male'!J70,"Copper")} -> #N/A
A26: 24 | B26: Dan Evans | C26: 0.033414352 | D26: =VLOOKUP(DATEDIF(VLOOKUP(B26,Ages!A$1:D$164,4,FALSE),B$1,"y"),'MEN Age Grade'!A$2:L$101,8,FALSE) -> 0.018506944 | E26: =C26/G$1 -> 0.0053894116 | F26: 77 | G26: =(D26/C26) -> 0.55386214 | I26: 24 | J26: Diane Ridgeway | K26: 0.039201389 | N26: =MATCH(VLOOKUP(B4,Ages!A$1:J$164,10,FALSE),'Standards Male'!E64:E75,0) -> 9 | O26: {=DGET('Standards Male'!D63:J75,3,_xlfn.IFS(C4<='Standards Male'!F70,"Platinum",C4<='Standards Male'!G70,"Gold",C4<='Standards Male'!H70,"Silver",C4<='Standards Male'!I70,"Bronze",C4<='Standards Male'!J70,"Copper"))} -> #N/A
A27: 25 | B27: David Doherty | C27: 0.046828704 | D27: =VLOOKUP(DATEDIF(VLOOKUP(B27,Ages!A$1:D$164,4,FALSE),B$1,"y"),'MEN Age Grade'!A$2:L$101,8,FALSE) -> 0.025381944 | E27: =C27/G$1 -> 0.0075530167 | F27: 76 | G27: =(D27/C27) -> 0.54201681 | I27: 25 | J27: Jenny Stanford | K27: 0.039513889 | N27: =ROW('Standards Male'!E64) - 1 + MATCH(VLOOKUP(B4,Ages!A$1:J$164,10,FALSE),'Standards Male'!E64:E75,0) -> 72
A28: 26 | B28: Jenny Stanford | C28: 0.039513889 | D28: =VLOOKUP(DATEDIF(VLOOKUP(B28,Ages!A$1:D$164,4,FALSE),B$1,"y"),'WOMEN Age Grade'!A$2:L$101,8,FALSE) -> 0.021354167 | E28: =C28/G$1 -> 0.0063732079 | F28: 75 | G28: =(D28/C28) -> 0.54042179 | I28: 26 | J28: Louise Steer | K28: 0.040949074 | N28: =IF(I3<35,"Sen",IF(I3<40,"35-39",IF(I3<45,"40-44",IF(I3<50,"45-49",IF(I3<55,"50-54",IF(I3<60,"55-59",IF(I3<65,"60-64",IF(I3<70,"65-69",IF(I3<75,"70-74",IF(I3<80,"75-79")))))))))) -> Sen
A29: 27 | B29: Laura Hall | C29: 0.049155093 | D29: =VLOOKUP(DATEDIF(VLOOKUP(B29,Ages!A$1:D$164,4,FALSE),B$1,"y"),'WOMEN Age Grade'!A$2:L$101,8,FALSE) -> 0.026527778 | E29: =C29/G$1 -> 0.0079282407 | F29: 74 | G29: =(D29/C29) -> 0.53967506 | I29: 27 | J29: Kelly Bamford | K29: 0.041388889
A30: 28 | B30: Louise Steer | C30: 0.040949074 | D30: =VLOOKUP(DATEDIF(VLOOKUP(B30,Ages!A$1:D$164,4,FALSE),B$1,"y"),'WOMEN Age Grade'!A$2:L$101,8,FALSE) -> 0.021724537 | E30: =C30/G$1 -> 0.0066046894 | F30: 73 | G30: =(D30/C30) -> 0.53052572 | I30: 28 | J30: Leighton Jones | K30: 0.041863426
A31: 29 | B31: Kelly Bamford | C31: 0.041388889 | D31: =VLOOKUP(DATEDIF(VLOOKUP(B31,Ages!A$1:D$164,4,FALSE),B$1,"y"),'WOMEN Age Grade'!A$2:L$101,8,FALSE) -> 0.02193287 | E31: =C31/G$1 -> 0.0066756272 | F31: 72 | G31: =(D31/C31) -> 0.5299217 | I31: 29 | J31: Eiri Evans-Jones | K31: 0.042175926
A32: 30 | B32: Ceri Isaac | C32: 0.035763889 | D32: =VLOOKUP(DATEDIF(VLOOKUP(B32,Ages!A$1:D$164,4,FALSE),B$1,"y"),'MEN Age Grade'!A$2:L$101,8,FALSE) -> 0.018888889 | E32: =C32/G$1 -> 0.0057683692 | F32: 71 | G32: =(D32/C32) -> 0.52815534 | I32: 30 | J32: Manisha Rickards | K32: 0.044895833
A33: 31 | B33: Eiri Evans-Jones | C33: 0.042175926 | D33: =VLOOKUP(DATEDIF(VLOOKUP(B33,Ages!A$1:D$164,4,FALSE),B$1,"y"),'WOMEN Age Grade'!A$2:L$101,8,FALSE) -> 0.02193287 | E33: =C33/G$1 -> 0.0068025687 | F33: 70 | G33: =(D33/C33) -> 0.52003293 | I33: 31 | J33: Mike Prasad | K33: 0.046435185
A34: 32 | B34: Jia Ping Lee | C34: 0.038900463 | D34: =VLOOKUP(DATEDIF(VLOOKUP(B34,Ages!A$1:D$164,4,FALSE),B$1,"y"),'WOMEN Age Grade'!A$2:L$101,8,FALSE) -> 0.020046296 | E34: =C34/G$1 -> 0.0062742682 | F34: 69 | G34: =(D34/C34) -> 0.51532282 | I34: 32 | J34: David Doherty | K34: 0.046828704
A35: 33 | B35: Fay Sharpe | C35: 0.054803241 | D35: =VLOOKUP(DATEDIF(VLOOKUP(B35,Ages!A$1:D$164,4,FALSE),B$1,"y"),'WOMEN Age Grade'!A$2:L$101,8,FALSE) -> 0.027627315 | E35: =C35/G$1 -> 0.0088392324 | F35: 68 | G35: =(D35/C35) -> 0.50411827 | I35: 33 | J35: Sandra Rees | K35: 0.04712963
A36: 34 | B36: Sam Grunhut | C36: 0.036759259 | D36: =VLOOKUP(DATEDIF(VLOOKUP(B36,Ages!A$1:D$164,4,FALSE),B$1,"y"),'MEN Age Grade'!A$2:L$101,8,FALSE) -> 0.018333333 | E36: =C36/G$1 -> 0.0059289128 | F36: 67 | G36: =(D36/C36) -> 0.49874055 | I36: 34 | J36: Meaghan Jenkins | K36: 0.048900463
A37: 35 | B37: Mike Prasad | C37: 0.046435185 | D37: =VLOOKUP(DATEDIF(VLOOKUP(B37,Ages!A$1:D$164,4,FALSE),B$1,"y"),'MEN Age Grade'!A$2:L$101,8,FALSE) -> 0.022326389 | E37: =C37/G$1 -> 0.007489546 | F37: 66 | G37: =(D37/C37) -> 0.48080758 | I37: 35 | J37: Laura Hall | K37: 0.049155093
A38: 36 | B38: Meaghan Jenkins | C38: 0.048900463 | D38: =VLOOKUP(DATEDIF(VLOOKUP(B38,Ages!A$1:D$164,4,FALSE),B$1,"y"),'WOMEN Age Grade'!A$2:L$101,8,FALSE) -> 0.021736111 | E38: =C38/G$1 -> 0.0078871714 | F38: 65 | G38: =(D38/C38) -> 0.44449704 | I38: 36 | J38: Victoria Holmes | K38: 0.05125
A39: 37 | B39: Debbie Gibbs | C39: 0.051793981 | D39: =VLOOKUP(DATEDIF(VLOOKUP(B39,Ages!A$1:D$164,4,FALSE),B$1,"y"),'WOMEN Age Grade'!A$2:L$101,8,FALSE) -> 0.022152778 | E39: =C39/G$1 -> 0.008353868 | F39: 64 | G39: =(D39/C39) -> 0.4277095 | I39: 37 | J39: Debbie Gibbs | K39: 0.051793981
A40: 38 | B40: Victoria Holmes | C40: 0.05125 | D40: =VLOOKUP(DATEDIF(VLOOKUP(B40,Ages!A$1:D$164,4,FALSE),B$1,"y"),'WOMEN Age Grade'!A$2:L$101,8,FALSE) -> 0.020011574 | E40: =C40/G$1 -> 0.008266129 | F40: 63 | G40: =(D40/C40) -> 0.39046974 | I40: 38 | J40: Sophie Grunhut | K40: 0.054803241
A41: 39 | B41: Sophie Grunhut | C41: 0.054803241 | D41: =VLOOKUP(DATEDIF(VLOOKUP(B41,Ages!A$1:D$164,4,FALSE),B$1,"y"),'WOMEN Age Grade'!A$2:L$101,8,FALSE) -> 0.02 | E41: =C41/G$1 -> 0.0088392324 | F41: 62 | G41: =(D41/C41) -> 0.36494192 | I41: 39 | J41: Fay Sharpe | K41: 0.054803241
A42: 41 | B42: Paula Stockley | C42: 0.069166667 | D42: =VLOOKUP(DATEDIF(VLOOKUP(B42,Ages!A$1:D$164,4,FALSE),B$1,"y"),'WOMEN Age Grade'!A$2:L$101,8,FALSE) -> 0.021724537 | E42: =C42/G$1 -> 0.011155914 | F42: 61 | G42: =(D42/C42) -> 0.31408969 | I42: 40 | J42: Paula Stockley | K42: 0.069166667
A43: 40 | B43: Chris Snary | C43: 0.054803241 | D43: =VLOOKUP(DATEDIF(VLOOKUP(B43,Ages!A$1:D$164,4,FALSE),B$1,"y"),'MEN Age Grade'!A$2:L$101,8,FALSE) -> 0.019027778 | E43: =C43/G$1 -> 0.0088392324 | F43: 60 | G43: =(D43/C43) -> 0.34720169 | I43: 41 | J43: Chris Snary | K43: 0.054803241

Sheet Race 4
B1: 46295 | G1: 1.88 | H1: mile | J1: 3k results in col 13 of Age Grade Listing 'men' / 'women'
A2: Pos | B2: AGE GRADE Order | C2: Time | D2: Age WR | E2: Min/Mi | F2: Pts | G2: Age Grade % | I2: Pos | J2: ACTUAL Race Order | K2: Time
A3: 1 | B3: Katie Williams | C3: 0.0083564815 | D3: =VLOOKUP(DATEDIF(VLOOKUP(B3,Ages!A$1:D$164,4,FALSE),B$1,"y"),'WOMEN Age Grade'!A$2:N$101,13,FALSE) -> 0.0067592593 | E3: =C3/G$1 -> 0.004444937 | F3: 100 | G3: =D3/C3 -> 0.80886427 | I3: 1 | J3: Chris Pridmore | K3: 0.0071180556 | M3: Women | N3: =VLOOKUP("OC",'WOMEN Age Grade'!A$3:N$102,13,FALSE) -> 0.005625
A4: 2 | B4: Ashley Pascoe | C4: 0.0077430556 | D4: =VLOOKUP(DATEDIF(VLOOKUP(B4,Ages!A$1:D$164,4,FALSE),B$1,"y"),'MEN Age Grade'!A$2:M$101,13,FALSE) -> 0.0061574074 | E4: =C4/G$1 -> 0.0041186466 | F4: 99 | G4: =D4/C4 -> 0.79521674 | I4: 2 | J4: Gareth Parry | K4: 0.0075462963 | M4: Men | N4: =VLOOKUP("OC",'MEN Age Grade'!A$3:M$102,13,FALSE) -> 0.0050578704
A5: 3 | B5: Hans Thompson | C5: 0.0093634259 | D5: =VLOOKUP(DATEDIF(VLOOKUP(B5,Ages!A$1:D$164,4,FALSE),B$1,"y"),'MEN Age Grade'!A$2:M$101,13,FALSE) -> 0.0074074074 | E5: =C5/G$1 -> 0.0049805457 | F5: 98 | G5: =D5/C5 -> 0.79110012 | I5: 3 | J5: Ashley Pascoe | K5: 0.0077430556
A6: 4 | B6: Gareth Parry | C6: 0.0075462963 | D6: =VLOOKUP(DATEDIF(VLOOKUP(B6,Ages!A$1:D$164,4,FALSE),B$1,"y"),'MEN Age Grade'!A$2:M$101,13,FALSE) -> 0.0058449074 | E6: =C6/G$1 -> 0.0040139874 | F6: 97 | G6: =D6/C6 -> 0.77453988 | I6: 4 | J6: Justin Sperrin | K6: 0.0079282407
A7: 5 | B7: Chris Pridmore | C7: 0.0071180556 | D7: =VLOOKUP(DATEDIF(VLOOKUP(B7,Ages!A$1:D$164,4,FALSE),B$1,"y"),'MEN Age Grade'!A$2:M$101,13,FALSE) -> 0.005462963 | E7: =C7/G$1 -> 0.0037861998 | F7: 96 | G7: =D7/C7 -> 0.76747967 | I7: 5 | J7: Aron Jones | K7: 0.0080324074
A8: 6 | B8: Gavin Davies | C8: 0.0087615741 | D8: =VLOOKUP(DATEDIF(VLOOKUP(B8,Ages!A$1:D$164,4,FALSE),B$1,"y"),'MEN Age Grade'!A$2:M$101,13,FALSE) -> 0.0066898148 | E8: =C8/G$1 -> 0.0046604117 | F8: 95 | G8: =D8/C8 -> 0.76354029 | I8: 6 | J8: Dan Evans | K8: 0.0083101852
A9: 7 | B9: Francis Heron | C9: 0.0099074074 | D9: =VLOOKUP(DATEDIF(VLOOKUP(B9,Ages!A$1:D$164,4,FALSE),B$1,"y"),'MEN Age Grade'!A$2:M$101,13,FALSE) -> 0.0074074074 | E9: =C9/G$1 -> 0.0052698976 | F9: 94 | G9: =D9/C9 -> 0.74766355 | I9: 7 | J9: Katie Williams | K9: 0.0083564815
A10: 8 | B10: Rob Sandles | C10: 0.0087037037 | D10: =VLOOKUP(DATEDIF(VLOOKUP(B10,Ages!A$1:D$164,4,FALSE),B$1,"y"),'MEN Age Grade'!A$2:M$101,13,FALSE) -> 0.0064930556 | E10: =C10/G$1 -> 0.0046296296 | F10: 93 | G10: =D10/C10 -> 0.74601064 | I10: 8 | J10: Mark Bamford | K10: 0.0084143519 | M10: 42 | N10: Age WR Tester
A11: 9 | B11: Fran Newman | C11: 0.010162037 | D11: =VLOOKUP(DATEDIF(VLOOKUP(B11,Ages!A$1:D$164,4,FALSE),B$1,"y"),'WOMEN Age Grade'!A$2:N$101,13,FALSE) -> 0.0075462963 | E11: =C11/G$1 -> 0.0054053388 | F11: 92 | G11: =D11/C11 -> 0.74259681 | I11: 9 | J11: Rob Sandles | K11: 0.0087037037 | M11: Factor | N11: WR Time | O11: Gender
A12: 10 | B12: Leighton Jones | C12: 0.011215278 | D12: =VLOOKUP(DATEDIF(VLOOKUP(B12,Ages!A$1:D$164,4,FALSE),B$1,"y"),'MEN Age Grade'!A$2:M$101,13,FALSE) -> 0.0081944444 | E12: =C12/G$1 -> 0.0059655733 | F12: 91 | G12: =D12/C12 -> 0.73065015 | I12: 10 | J12: Gavin Davies | K12: 0.0087615741 | M12: Women | N12: =VLOOKUP(M10,'WOMEN Age Grade'!A$3:M$102,13,FALSE) -> 0.0063888889 | O12: Female
A13: 11 | B13: Mark Bamford | C13: 0.0084143519 | D13: =VLOOKUP(DATEDIF(VLOOKUP(B13,Ages!A$1:D$164,4,FALSE),B$1,"y"),'MEN Age Grade'!A$2:M$101,13,FALSE) -> 0.006087963 | E13: =C13/G$1 -> 0.0044757191 | F13: 90 | G13: =D13/C13 -> 0.72352132 | I13: 11 | J13: Sean Morgans | K13: 0.0089467593 | M13: Men | N13: =VLOOKUP(M10,'MEN Age Grade'!A$3:M$102,13,FALSE) -> 0.0055671296 | O13: Male
A14: 12 | B14: Diane Ridgeway | C14: 0.010011574 | D14: =VLOOKUP(DATEDIF(VLOOKUP(B14,Ages!A$1:D$164,4,FALSE),B$1,"y"),'WOMEN Age Grade'!A$2:N$101,13,FALSE) -> 0.0072222222 | E14: =C14/G$1 -> 0.0053253054 | F14: 89 | G14: =D14/C14 -> 0.72138728 | I14: 12 | J14: Stuart Davies | K14: 0.0091782407
A15: 13 | B15: Caroline Sandles | C15: 0.010127315 | D15: =VLOOKUP(DATEDIF(VLOOKUP(B15,Ages!A$1:D$164,4,FALSE),B$1,"y"),'WOMEN Age Grade'!A$2:N$101,13,FALSE) -> 0.0072222222 | E15: =C15/G$1 -> 0.0053868696 | F15: 88 | G15: =D15/C15 -> 0.71314286 | I15: 13 | J15: Chris Snary | K15: 0.0092708333 | M15: Over 100% = World record level
A16: 14 | B16: Peter Clement | C16: 0.0092824074 | D16: =VLOOKUP(DATEDIF(VLOOKUP(B16,Ages!A$1:D$164,4,FALSE),B$1,"y"),'MEN Age Grade'!A$2:M$101,13,FALSE) -> 0.0065625 | E16: =C16/G$1 -> 0.0049374507 | F16: 87 | G16: =D16/C16 -> 0.70698254 | I16: 14 | J16: Peter Clement | K16: 0.0092824074 | M16: Over 90% = World Class
A17: 15 | B17: Sean Morgans | C17: 0.0089467593 | D17: =VLOOKUP(DATEDIF(VLOOKUP(B17,Ages!A$1:D$164,4,FALSE),B$1,"y"),'MEN Age Grade'!A$2:M$101,13,FALSE) -> 0.00625 | E17: =C17/G$1 -> 0.0047589145 | F17: 86 | G17: =D17/C17 -> 0.69857697 | I17: 15 | J17: Hans Thompson | K17: 0.0093634259 | M17: Over 80% = National Class
A18: 16 | B18: Michelle Grey | C18: 0.0094791667 | D18: =VLOOKUP(DATEDIF(VLOOKUP(B18,Ages!A$1:D$164,4,FALSE),B$1,"y"),'WOMEN Age Grade'!A$2:N$101,13,FALSE) -> 0.0066203704 | E18: =C18/G$1 -> 0.0050421099 | F18: 85 | G18: =D18/C18 -> 0.6984127 | I18: 16 | J18: Laura Gilbert | K18: 0.0093981481 | M18: Over 70% = County Class
A19: 17 | B19: Julie Archer | C19: 0.010289352 | D19: =VLOOKUP(DATEDIF(VLOOKUP(B19,Ages!A$1:D$164,4,FALSE),B$1,"y"),'WOMEN Age Grade'!A$2:N$101,13,FALSE) -> 0.0071759259 | E19: =C19/G$1 -> 0.0054730595 | F19: 84 | G19: =D19/C19 -> 0.69741282 | I19: 17 | J19: Michelle Grey | K19: 0.0094791667 | M19: Over 60% = local Class
A20: 18 | B20: Aron Jones | C20: 0.0080324074 | D20: =VLOOKUP(DATEDIF(VLOOKUP(B20,Ages!A$1:D$164,4,FALSE),B$1,"y"),'MEN Age Grade'!A$2:M$101,13,FALSE) -> 0.005462963 | E20: =C20/G$1 -> 0.0042725571 | F20: 83 | G20: =D20/C20 -> 0.68011527 | I20: 18 | J20: Sam Grunhut | K20: 0.0095601852
A21: 19 | B21: Cris Arnold | C21: 0.0096643519 | D21: =VLOOKUP(DATEDIF(VLOOKUP(B21,Ages!A$1:D$164,4,FALSE),B$1,"y"),'MEN Age Grade'!A$2:M$101,13,FALSE) -> 0.0065625 | E21: =C21/G$1 -> 0.0051406127 | F21: 82 | G21: =D21/C21 -> 0.67904192 | I21: 19 | J21: Cris Arnold | K21: 0.0096643519
A22: 20 | B22: Sharon Trotman | C22: 0.01056713 | D22: =VLOOKUP(DATEDIF(VLOOKUP(B22,Ages!A$1:D$164,4,FALSE),B$1,"y"),'WOMEN Age Grade'!A$2:N$101,13,FALSE) -> 0.0071064815 | E22: =C22/G$1 -> 0.0056208136 | F22: 81 | G22: =D22/C22 -> 0.67250821 | I22: 20 | J22: Emily Thomas | K22: 0.0098726852
A23: 21 | B23: Michelle Thomas-Luisi | C23: 0.010821759 | D23: =VLOOKUP(DATEDIF(VLOOKUP(B23,Ages!A$1:D$164,4,FALSE),B$1,"y"),'WOMEN Age Grade'!A$2:N$101,13,FALSE) -> 0.0072222222 | E23: =C23/G$1 -> 0.0057562549 | F23: 80 | G23: =D23/C23 -> 0.66737968 | I23: 21 | J23: Francis Heron | K23: 0.0099074074
A24: 22 | B24: Laura Gilbert | C24: 0.0093981481 | D24: =VLOOKUP(DATEDIF(VLOOKUP(B24,Ages!A$1:D$164,4,FALSE),B$1,"y"),'WOMEN Age Grade'!A$2:N$101,13,FALSE) -> 0.0061805556 | E24: =C24/G$1 -> 0.004999015 | F24: 79 | G24: =D24/C24 -> 0.65763547 | I24: 22 | J24: Clare Baxter | K24: 0.0099537037
A25: 23 | B25: Justin Sperrin | C25: 0.0079282407 | D25: =VLOOKUP(DATEDIF(VLOOKUP(B25,Ages!A$1:D$164,4,FALSE),B$1,"y"),'MEN Age Grade'!A$2:M$101,13,FALSE) -> 0.0051967593 | E25: =C25/G$1 -> 0.0042171493 | F25: 78 | G25: =D25/C25 -> 0.65547445 | I25: 23 | J25: Diane Ridgeway | K25: 0.010011574
A26: 24 | B26: David Doherty | C26: 0.011435185 | D26: =VLOOKUP(DATEDIF(VLOOKUP(B26,Ages!A$1:D$164,4,FALSE),B$1,"y"),'MEN Age Grade'!A$2:M$101,13,FALSE) -> 0.0074074074 | E26: =C26/G$1 -> 0.0060825453 | F26: 77 | G26: =D26/C26 -> 0.64777328 | I26: 24 | J26: Caroline Sandles | K26: 0.010127315
A27: 25 | B27: Clare Baxter | C27: 0.0099537037 | D27: =VLOOKUP(DATEDIF(VLOOKUP(B27,Ages!A$1:D$164,4,FALSE),B$1,"y"),'WOMEN Age Grade'!A$2:N$101,13,FALSE) -> 0.0064467593 | E27: =C27/G$1 -> 0.0052945232 | F27: 76 | G27: =D27/C27 -> 0.64767442 | I27: 25 | J27: Fran Newman | K27: 0.010162037
A28: 26 | B28: Stuart Davies | C28: 0.0091782407 | D28: =VLOOKUP(DATEDIF(VLOOKUP(B28,Ages!A$1:D$164,4,FALSE),B$1,"y"),'MEN Age Grade'!A$2:M$101,13,FALSE) -> 0.0059027778 | E28: =C28/G$1 -> 0.0048820429 | F28: 75 | G28: =D28/C28 -> 0.64312736 | I28: 26 | J28: Ed Davies | K28: 0.010219907
A29: 27 | B29: Ed Davies | C29: 0.010219907 | D29: =VLOOKUP(DATEDIF(VLOOKUP(B29,Ages!A$1:D$164,4,FALSE),B$1,"y"),'MEN Age Grade'!A$2:M$101,13,FALSE) -> 0.0065625 | E29: =C29/G$1 -> 0.005436121 | F29: 74 | G29: =D29/C29 -> 0.64212911 | I29: 27 | J29: Julie Archer | K29: 0.010289352
A30: 28 | B30: Louise Steer | C30: 0.010335648 | D30: =VLOOKUP(DATEDIF(VLOOKUP(B30,Ages!A$1:D$164,4,FALSE),B$1,"y"),'WOMEN Age Grade'!A$2:N$101,13,FALSE) -> 0.0066203704 | E30: =C30/G$1 -> 0.0054976852 | F30: 73 | G30: =D30/C30 -> 0.64053751 | I30: 28 | J30: Louise Steer | K30: 0.010335648
A31: 29 | B31: Steve McLelland | C31: 0.011574074 | D31: =VLOOKUP(DATEDIF(VLOOKUP(B31,Ages!A$1:D$164,4,FALSE),B$1,"y"),'MEN Age Grade'!A$2:M$101,13,FALSE) -> 0.0074074074 | E31: =C31/G$1 -> 0.0061564224 | F31: 72 | G31: =D31/C31 -> 0.64 | I31: 29 | J31: Jia Ping Lee | K31: 0.010347222
A32: 30 | B32: Dan Evans | C32: 0.0083101852 | D32: =VLOOKUP(DATEDIF(VLOOKUP(B32,Ages!A$1:D$164,4,FALSE),B$1,"y"),'MEN Age Grade'!A$2:M$101,13,FALSE) -> 0.0052199074 | E32: =C32/G$1 -> 0.0044203113 | F32: 71 | G32: =D32/C32 -> 0.6281337 | I32: 30 | J32: Jenny Stanford | K32: 0.010358796
A33: 31 | B33: Jenny Stanford | C33: 0.010358796 | D33: =VLOOKUP(DATEDIF(VLOOKUP(B33,Ages!A$1:D$164,4,FALSE),B$1,"y"),'WOMEN Age Grade'!A$2:N$101,13,FALSE) -> 0.0064351852 | E33: =C33/G$1 -> 0.005509998 | F33: 70 | G33: =D33/C33 -> 0.62122905 | I33: 31 | J33: Sharon Trotman | K33: 0.01056713
A34: 32 | B34: Sandra Rees | C34: 0.012476852 | D34: =VLOOKUP(DATEDIF(VLOOKUP(B34,Ages!A$1:D$164,4,FALSE),B$1,"y"),'WOMEN Age Grade'!A$2:N$101,13,FALSE) -> 0.0076851852 | E34: =C34/G$1 -> 0.0066366233 | F34: 69 | G34: =D34/C34 -> 0.61595547 | I34: 32 | J34: Michelle Thomas-Luisi | K34: 0.010821759
A35: 33 | B35: Eiri Evans-Jones | C35: 0.010949074 | D35: =VLOOKUP(DATEDIF(VLOOKUP(B35,Ages!A$1:D$164,4,FALSE),B$1,"y"),'WOMEN Age Grade'!A$2:N$101,13,FALSE) -> 0.0067013889 | E35: =C35/G$1 -> 0.0058239756 | F35: 68 | G35: =D35/C35 -> 0.61205074 | I35: 33 | J35: Eiri Evans-Jones | K35: 0.010949074
A36: 34 | B36: Caroline Morgan | C36: 0.01162037 | D36: =VLOOKUP(DATEDIF(VLOOKUP(B36,Ages!A$1:D$164,4,FALSE),B$1,"y"),'WOMEN Age Grade'!A$2:N$101,13,FALSE) -> 0.007037037 | E36: =C36/G$1 -> 0.0061810481 | F36: 67 | G36: =D36/C36 -> 0.60557769 | I36: 34 | J36: Leighton Jones | K36: 0.011215278
A37: 35 | B37: Kelly Bamford | C37: 0.011238426 | D37: =VLOOKUP(DATEDIF(VLOOKUP(B37,Ages!A$1:D$164,4,FALSE),B$1,"y"),'WOMEN Age Grade'!A$2:N$101,13,FALSE) -> 0.0067013889 | E37: =C37/G$1 -> 0.0059778861 | F37: 66 | G37: =D37/C37 -> 0.59629248 | I37: 35 | J37: Kelly Bamford | K37: 0.011238426
A38: 36 | B38: Laura Hall | C38: 0.013020833 | D38: =VLOOKUP(DATEDIF(VLOOKUP(B38,Ages!A$1:D$164,4,FALSE),B$1,"y"),'WOMEN Age Grade'!A$2:N$101,13,FALSE) -> 0.0076851852 | E38: =C38/G$1 -> 0.0069259752 | F38: 65 | G38: =D38/C38 -> 0.59022222 | I38: 36 | J38: David Doherty | K38: 0.011435185
A39: 37 | B39: Debbie Gibbs | C39: 0.011631944 | D39: =VLOOKUP(DATEDIF(VLOOKUP(B39,Ages!A$1:D$164,4,FALSE),B$1,"y"),'WOMEN Age Grade'!A$2:N$101,13,FALSE) -> 0.0067592593 | E39: =C39/G$1 -> 0.0061872045 | F39: 64 | G39: =D39/C39 -> 0.58109453 | I39: 37 | J39: Victoria Holmes | K39: 0.01150463
A40: 38 | B40: Saran Lewis | C40: 0.011724537 | D40: =VLOOKUP(DATEDIF(VLOOKUP(B40,Ages!A$1:D$164,4,FALSE),B$1,"y"),'WOMEN Age Grade'!A$2:N$101,13,FALSE) -> 0.0067939815 | E40: =C40/G$1 -> 0.0062364559 | F40: 63 | G40: =D40/C40 -> 0.57946693 | I40: 38 | J40: Steve McLelland | K40: 0.011574074
A41: 39 | B41: Chris Snary | C41: 0.0092708333 | D41: =VLOOKUP(DATEDIF(VLOOKUP(B41,Ages!A$1:D$164,4,FALSE),B$1,"y"),'MEN Age Grade'!A$2:M$101,13,FALSE) -> 0.0053472222 | E41: =C41/G$1 -> 0.0049312943 | F41: 62 | G41: =D41/C41 -> 0.57677903 | I41: 39 | J41: Caroline Morgan | K41: 0.01162037
A42: 40 | B42: Emily Thomas | C42: 0.0098726852 | D42: =VLOOKUP(DATEDIF(VLOOKUP(B42,Ages!A$1:D$164,4,FALSE),B$1,"y"),'WOMEN Age Grade'!A$2:N$101,13,FALSE) -> 0.0056712963 | E42: =C42/G$1 -> 0.0052514283 | F42: 61 | G42: =D42/C42 -> 0.57444314 | I42: 40 | J42: Debbie Gibbs | K42: 0.011631944
A43: 41 | B43: Linda Owens | C43: 0.015474537 | D43: =VLOOKUP(DATEDIF(VLOOKUP(B43,Ages!A$1:D$164,4,FALSE),B$1,"y"),'WOMEN Age Grade'!A$2:N$101,13,FALSE) -> 0.0088773148 | E43: =C43/G$1 -> 0.0082311367 | F43: 60 | G43: =D43/C43 -> 0.5736724 | I43: 41 | J43: Saran Lewis | K43: 0.011724537
A44: 42 | B44: Lynn Holmes | C44: 0.013865741 | D44: =VLOOKUP(DATEDIF(VLOOKUP(B44,Ages!A$1:D$164,4,FALSE),B$1,"y"),'WOMEN Age Grade'!A$2:N$101,13,FALSE) -> 0.0078819444 | E44: =C44/G$1 -> 0.007375394 | F44: 59 | G44: =D44/C44 -> 0.56844741 | I44: 42 | J44: Kirsty Moors | K44: 0.012430556
A45: 43 | B45: Jia Ping Lee | C45: 0.010347222 | D45: =VLOOKUP(DATEDIF(VLOOKUP(B45,Ages!A$1:D$164,4,FALSE),B$1,"y"),'WOMEN Age Grade'!A$2:N$101,13,FALSE) -> 0.0057407407 | E45: =C45/G$1 -> 0.0055038416 | F45: 58 | G45: =D45/C45 -> 0.55480984 | I45: 43 | J45: Mark Jenkins | K45: 0.012430556
A46: 44 | B46: Mark Jenkins | C46: 0.012430556 | D46: =VLOOKUP(DATEDIF(VLOOKUP(B46,Ages!A$1:D$164,4,FALSE),B$1,"y"),'MEN Age Grade'!A$2:M$101,13,FALSE) -> 0.0066898148 | E46: =C46/G$1 -> 0.0066119976 | F46: 57 | G46: =D46/C46 -> 0.53817505 | I46: 44 | J46: Sandra Rees | K46: 0.012476852
A47: 45 | B47: Sam Grunhut | C47: 0.0095601852 | D47: =VLOOKUP(DATEDIF(VLOOKUP(B47,Ages!A$1:D$164,4,FALSE),B$1,"y"),'MEN Age Grade'!A$2:M$101,13,FALSE) -> 0.0051273148 | E47: =C47/G$1 -> 0.0050852049 | F47: 56 | G47: =D47/C47 -> 0.53631961 | I47: 45 | J47: Meaghan Jenkins | K47: 0.012615741
A48: 46 | B48: Kirsty Moors | C48: 0.012430556 | D48: =VLOOKUP(DATEDIF(VLOOKUP(B48,Ages!A$1:D$164,4,FALSE),B$1,"y"),'WOMEN Age Grade'!A$2:N$101,13,FALSE) -> 0.0063888889 | E48: =C48/G$1 -> 0.0066119976 | F48: 55 | G48: =D48/C48 -> 0.51396648 | I48: 46 | J48: Laura Hall | K48: 0.013020833
A49: 47 | B49: Jane Wallace | C49: 0.0146875 | D49: =VLOOKUP(DATEDIF(VLOOKUP(B49,Ages!A$1:D$164,4,FALSE),B$1,"y"),'WOMEN Age Grade'!A$2:N$101,13,FALSE) -> 0.0074074074 | E49: =C49/G$1 -> 0.0078125 | F49: 54 | G49: =D49/C49 -> 0.50433412 | I49: 47 | J49: Lynn Holmes | K49: 0.013865741
A50: 48 | B50: Victoria Holmes | C50: 0.01150463 | D50: =VLOOKUP(DATEDIF(VLOOKUP(B50,Ages!A$1:D$164,4,FALSE),B$1,"y"),'WOMEN Age Grade'!A$2:N$101,13,FALSE) -> 0.0057175926 | E50: =C50/G$1 -> 0.0061194838 | F50: 53 | G50: =D50/C50 -> 0.49698189 | I50: 48 | J50: Frances Ratcliff | K50: 0.014259259
A51: 49 | B51: Meaghan Jenkins | C51: 0.012615741 | D51: =VLOOKUP(DATEDIF(VLOOKUP(B51,Ages!A$1:D$164,4,FALSE),B$1,"y"),'WOMEN Age Grade'!A$2:N$101,13,FALSE) -> 0.0058449074 | E51: =C51/G$1 -> 0.0067105004 | F51: 52 | G51: =D51/C51 -> 0.46330275 | I51: 49 | J51: Jane Wallace | K51: 0.0146875
A52: 50 | B52: Steve Jones | C52: 0.015486111 | D52: =VLOOKUP(DATEDIF(VLOOKUP(B52,Ages!A$1:D$164,4,FALSE),B$1,"y"),'MEN Age Grade'!A$2:M$101,13,FALSE) -> 0.0071527778 | E52: =C52/G$1 -> 0.0082372931 | F52: 51 | G52: =D52/C52 -> 0.46188341 | I52: 50 | J52: Linda Owens | K52: 0.015474537
A53: 51 | B53: Frances Ratcliff | C53: 0.014259259 | D53: =VLOOKUP(DATEDIF(VLOOKUP(B53,Ages!A$1:D$164,4,FALSE),B$1,"y"),'WOMEN Age Grade'!A$2:N$101,13,FALSE) -> 0.0063425926 | E53: =C53/G$1 -> 0.0075847124 | F53: 50 | G53: =D53/C53 -> 0.44480519 | I53: 51 | J53: Steve Jones | K53: 0.015486111

Sheet Race 5
B1: 45925 | C1: Gorseinon Cycle track | G1: 1.875 | H1: mile | J1: 4mile results in Row 16 of Age Grade Listing 'men' / 'women'
A2: Pos | B2: AGE GRADE Order | C2: Time | D2: Age WR | E2: Min/Mi | F2: Pts | G2: Age Grade % | I2: Pos | J2: ACTUAL Race Order | K2: Time
A3: 1 | C3: 0.010486111 | D3: =N$3/HLOOKUP(DATEDIF(VLOOKUP(B3,Ages!A$1:D$161,4,FALSE),B$1,"y"),#REF!,16,FALSE) -> #REF! | E3: =C3/G$1 -> 0.0055925926 | F3: 100 | G3: =(D3/C3) -> #REF! | I3: 1 | J3: Chris Pridmore | K3: 0.0073148148 | M3: Women | N3: =(HLOOKUP("OC",#REF!,16,FALSE))/86400 -> #REF!
A4: 2 | C4: 0.0099652778 | D4: =N$3/HLOOKUP(DATEDIF(VLOOKUP(B4,Ages!A$1:D$161,4,FALSE),B$1,"y"),#REF!,16,FALSE) -> #REF! | E4: =C4/G$1 -> 0.0053148148 | F4: 99 | G4: =(D4/C4) -> #REF! | I4: 2 | J4: Justin Sperrin | K4: 0.007962963 | M4: Men | N4: =(HLOOKUP("OC",#REF!,16,FALSE))/86400 -> #REF!
A5: 3 | C5: 0.010636574 | D5: =N$3/HLOOKUP(DATEDIF(VLOOKUP(B5,Ages!A$1:D$161,4,FALSE),B$1,"y"),#REF!,16,FALSE) -> #REF! | E5: =C5/G$1 -> 0.0056728395 | F5: 98 | G5: =(D5/C5) -> #REF! | I5: 3 | J5: Aron Jones | K5: 0.0080208333
A6: 4 | C6: 0.008287037 | D6: =N$3/HLOOKUP(DATEDIF(VLOOKUP(B6,Ages!A$1:D$164,4,FALSE),B$1,"y"),#REF!,16,FALSE) -> #REF! | E6: =C6/G$1 -> 0.0044197531 | F6: 97 | G6: =(D6/C6) -> #REF! | I6: 4 | J6: Paul Jenkins | K6: 0.0080671296 | M6: Interesting Fact
A7: 5 | C7: 0.0083333333 | D7: =N$4/HLOOKUP(DATEDIF(VLOOKUP(B7,Ages!A$1:D$161,4,FALSE),B$1,"y"),#REF!,16,FALSE) -> #REF! | E7: =C7/G$1 -> 0.0044444444 | F7: 96 | G7: =(D7/C7) -> #REF! | I7: 5 | J7: Katie Williams | K7: 0.008287037 | M7: World record for running a mile backwards is 05:54
A8: 6 | C8: 0.0098842593 | D8: =N$3/HLOOKUP(DATEDIF(VLOOKUP(B8,Ages!A$1:D$161,4,FALSE),B$1,"y"),#REF!,16,FALSE) -> #REF! | E8: =C8/G$1 -> 0.0052716049 | F8: 95 | G8: =(D8/C8) -> #REF! | I8: 6 | J8: Gavin Davies | K8: 0.0083333333
A9: 7 | C9: 0.010034722 | D9: =N$3/HLOOKUP(DATEDIF(VLOOKUP(B9,Ages!A$1:D$161,4,FALSE),B$1,"y"),#REF!,16,FALSE) -> #REF! | E9: =C9/G$1 -> 0.0053518519 | F9: 94 | G9: =(D9/C9) -> #REF! | I9: 7 | J9: Chris Snary | K9: 0.0085069444
A10: 8 | C10: 0.0073148148 | D10: =N$4/HLOOKUP(DATEDIF(VLOOKUP(B10,Ages!A$1:D$161,4,FALSE),B$1,"y"),#REF!,16,FALSE) -> #REF! | E10: =C10/G$1 -> 0.0039012346 | F10: 93 | G10: =(D10/C10) -> #REF! | I10: 8 | J10: James Bennett | K10: 0.0085763889 | M10: 58 | N10: Age WR Tester
A11: 9 | C11: 0.010416667 | D11: =N$3/HLOOKUP(DATEDIF(VLOOKUP(B11,Ages!A$1:D$161,4,FALSE),B$1,"y"),#REF!,16,FALSE) -> #REF! | E11: =C11/G$1 -> 0.0055555556 | F11: 92 | G11: =(D11/C11) -> #REF! | I11: 9 | J11: Sean Morgans | K11: 0.0086805556 | M11: Factor | N11: WR Time | O11: Gender
A12: 10 | C12: 0.011018519 | D12: =N$4/HLOOKUP(DATEDIF(VLOOKUP(B12,Ages!A$1:D$161,4,FALSE),B$1,"y"),#REF!,16,FALSE) -> #REF! | E12: =C12/G$1 -> 0.0058765432 | F12: 91 | G12: =(D12/C12) -> #REF! | I12: 10 | J12: Stuart Davies | K12: 0.0087615741 | M12: =HLOOKUP(M10,#REF!,16,FALSE) -> #REF! | N12: =N3/M12 -> #REF! | O12: Female
A13: 11 | C13: 0.0080671296 | D13: =N$4/HLOOKUP(DATEDIF(VLOOKUP(B13,Ages!A$1:D$161,4,FALSE),B$1,"y"),#REF!,16,FALSE) -> #REF! | E13: =C13/G$1 -> 0.0043024691 | F13: 90 | G13: =(D13/C13) -> #REF! | I13: 11 | J13: Sam Grunhut | K13: 00:13:21 | M13: =HLOOKUP(M10,#REF!,16,FALSE) -> #REF! | N13: =N4/M13 -> #REF! | O13: Male
A14: 12 | C14: 0.0086805556 | D14: =N$4/HLOOKUP(DATEDIF(VLOOKUP(B14,Ages!A$1:D$161,4,FALSE),B$1,"y"),#REF!,16,FALSE) -> #REF! | E14: =C14/G$1 -> 0.0046296296 | F14: 89 | G14: =(D14/C14) -> #REF! | I14: 12 | J14: Laura Gilbert | K14: 0.0093634259
A15: 13 | C15: 0.011041667 | D15: =N$3/HLOOKUP(DATEDIF(VLOOKUP(B15,Ages!A$1:D$161,4,FALSE),B$1,"y"),#REF!,16,FALSE) -> #REF! | E15: =C15/G$1 -> 0.0058888889 | F15: 88 | G15: =(D15/C15) -> #REF! | I15: 13 | J15: Peter Clement | K15: 0.0095023148 | M15: Over 100% = World record level
A16: 14 | C16: 0.010763889 | D16: =N$3/HLOOKUP(DATEDIF(VLOOKUP(B16,Ages!A$1:D$161,4,FALSE),B$1,"y"),#REF!,16,FALSE) -> #REF! | E16: =C16/G$1 -> 0.0057407407 | F16: 87 | G16: =(D16/C16) -> #REF! | I16: 14 | J16: Andy Rees | K16: 0.0098263889 | M16: Over 90% = World Class
A17: 15 | C17: 0.0098263889 | D17: =N$4/HLOOKUP(DATEDIF(VLOOKUP(B17,Ages!A$1:D$161,4,FALSE),B$1,"y"),#REF!,16,FALSE) -> #REF! | E17: =C17/G$1 -> 0.0052407407 | F17: 86 | G17: =(D17/C17) -> #REF! | I17: 15 | J17: Diane Ridgeway | K17: 0.0098842593 | M17: Over 80% = National Class
A18: 16 | C18: 0.0080208333 | D18: =N$4/HLOOKUP(DATEDIF(VLOOKUP(B18,Ages!A$1:D$161,4,FALSE),B$1,"y"),#REF!,16,FALSE) -> #REF! | E18: =C18/G$1 -> 0.0042777778 | F18: 85 | G18: =(D18/C18) -> #REF! | I18: 16 | J18: Michelle Grey | K18: 0.0099537037 | M18: Over 70% = County Class
A19: 17 | C19: 0.0095023148 | D19: =N$4/HLOOKUP(DATEDIF(VLOOKUP(B19,Ages!A$1:D$161,4,FALSE),B$1,"y"),#REF!,16,FALSE) -> #REF! | E19: =C19/G$1 -> 0.0050679012 | F19: 84 | G19: =(D19/C19) -> #REF! | I19: 17 | J19: Sarah Barham | K19: 0.0099652778 | M19: Over 60% = local Class
A20: 18 | C20: 0.011076389 | D20: =N$3/HLOOKUP(DATEDIF(VLOOKUP(B20,Ages!A$1:D$161,4,FALSE),B$1,"y"),#REF!,16,FALSE) -> #REF! | E20: =C20/G$1 -> 0.0059074074 | F20: 83 | G20: =(D20/C20) -> #REF! | I20: 18 | J20: Julie Archer | K20: 0.010034722
A21: 19 | C21: 0.007962963 | D21: =N$4/HLOOKUP(DATEDIF(VLOOKUP(B21,Ages!A$1:D$161,4,FALSE),B$1,"y"),#REF!,16,FALSE) -> #REF! | E21: =C21/G$1 -> 0.0042469136 | F21: 82 | G21: =(D21/C21) -> #REF! | I21: 19 | J21: Ed Davies | K21: 0.010127315
A22: 20 | C22: 0.0087615741 | D22: =N$4/HLOOKUP(DATEDIF(VLOOKUP(B22,Ages!A$1:D$161,4,FALSE),B$1,"y"),#REF!,16,FALSE) -> #REF! | E22: =C22/G$1 -> 0.0046728395 | F22: 81 | G22: =(D22/C22) -> #REF! | I22: 20 | J22: Jenny Stanford | K22: 0.010243056
A23: 21 | C23: 0.010914352 | D23: =N$4/HLOOKUP(DATEDIF(VLOOKUP(B23,Ages!A$1:D$161,4,FALSE),B$1,"y"),#REF!,16,FALSE) -> #REF! | E23: =C23/G$1 -> 0.0058209877 | F23: 80 | G23: =(D23/C23) -> #REF! | I23: 21 | J23: Caroline Sandles | K23: 0.010416667
A24: 22 | C24: 0.0099537037 | D24: =N$3/HLOOKUP(DATEDIF(VLOOKUP(B24,Ages!A$1:D$161,4,FALSE),B$1,"y"),#REF!,16,FALSE) -> #REF! | E24: =C24/G$1 -> 0.005308642 | F24: 79 | G24: =(D24/C24) -> #REF! | I24: 22 | J24: Ruth Salmon | K24: 0.010462963
A25: 23 | C25: 0.0085069444 | D25: =N$4/HLOOKUP(DATEDIF(VLOOKUP(B25,Ages!A$1:D$161,4,FALSE),B$1,"y"),#REF!,16,FALSE) -> #REF! | E25: =C25/G$1 -> 0.004537037 | F25: 78 | G25: =(D25/C25) -> #REF! | I25: 23 | J25: Vicky Davies | K25: 0.010474537
A26: 24 | C26: 0.0093634259 | D26: =N$3/HLOOKUP(DATEDIF(VLOOKUP(B26,Ages!A$1:D$161,4,FALSE),B$1,"y"),#REF!,16,FALSE) -> #REF! | E26: =C26/G$1 -> 0.0049938272 | F26: 77 | G26: =(D26/C26) -> #REF! | I26: 24 | J26: Bev Jones | K26: 0.010486111
A27: 25 | C27: 0.012789352 | D27: =N$3/HLOOKUP(DATEDIF(VLOOKUP(B27,Ages!A$1:D$161,4,FALSE),B$1,"y"),#REF!,16,FALSE) -> #REF! | E27: =C27/G$1 -> 0.0068209877 | F27: 76 | G27: =(D27/C27) -> #REF! | I27: 25 | J27: Mike Prasad | K27: 0.010543981
A28: 26 | C28: 0.011527778 | D28: =N$4/HLOOKUP(DATEDIF(VLOOKUP(B28,Ages!A$1:D$161,4,FALSE),B$1,"y"),#REF!,16,FALSE) -> #REF! | E28: =C28/G$1 -> 0.0061481481 | F28: 75 | G28: =(D28/C28) -> #REF! | I28: 26 | J28: Christina Smith | K28: 0.010636574
A29: 27 | C29: 0.011238426 | D29: =N$4/HLOOKUP(DATEDIF(VLOOKUP(B29,Ages!A$1:D$161,4,FALSE),B$1,"y"),#REF!,16,FALSE) -> #REF! | E29: =C29/G$1 -> 0.0059938272 | F29: 74 | G29: =(D29/C29) -> #REF! | I29: 27 | J29: Sharon Trotman | K29: 0.010763889
A30: 28 | C30: 0.010127315 | D30: =N$4/HLOOKUP(DATEDIF(VLOOKUP(B30,Ages!A$1:D$161,4,FALSE),B$1,"y"),#REF!,16,FALSE) -> #REF! | E30: =C30/G$1 -> 0.0054012346 | F30: 73 | G30: =(D30/C30) -> #REF! | I30: 28 | J30: Steve McLelland | K30: 0.010914352
A31: 29 | C31: 0.010462963 | D31: =N$3/HLOOKUP(DATEDIF(VLOOKUP(B31,Ages!A$1:D$161,4,FALSE),B$1,"y"),#REF!,16,FALSE) -> #REF! | E31: =C31/G$1 -> 0.0055802469 | F31: 72 | G31: =(D31/C31) -> #REF! | I31: 29 | J31: Eiri Evans-Jones | K31: 0.010925926
A32: 30 | C32: 0.010243056 | D32: =N$3/HLOOKUP(DATEDIF(VLOOKUP(B32,Ages!A$1:D$161,4,FALSE),B$1,"y"),#REF!,16,FALSE) -> #REF! | E32: =C32/G$1 -> 0.005462963 | F32: 71 | G32: =(D32/C32) -> #REF! | I32: 30 | J32: Leighton Jones | K32: 0.011018519
A33: 31 | C33: 0.0085763889 | D33: =N$4/HLOOKUP(DATEDIF(VLOOKUP(B33,Ages!A$1:D$161,4,FALSE),B$1,"y"),#REF!,16,FALSE) -> #REF! | E33: =C33/G$1 -> 0.0045740741 | F33: 70 | G33: =(D33/C33) -> #REF! | I33: 31 | J33: Michelle Thomas-Luisi | K33: 0.011041667
A34: 32 | C34: 0.010925926 | D34: =N$3/HLOOKUP(DATEDIF(VLOOKUP(B34,Ages!A$1:D$161,4,FALSE),B$1,"y"),#REF!,16,FALSE) -> #REF! | E34: =C34/G$1 -> 0.0058271605 | F34: 69 | G34: =(D34/C34) -> #REF! | I34: 32 | J34: Caroline Morgan | K34: 0.011076389
A35: 33 | C35: 0.010543981 | D35: =N$4/HLOOKUP(DATEDIF(VLOOKUP(B35,Ages!A$1:D$161,4,FALSE),B$1,"y"),#REF!,16,FALSE) -> #REF! | E35: =C35/G$1 -> 0.0056234568 | F35: 68 | G35: =(D35/C35) -> #REF! | I35: 33 | J35: David Doherty | K35: 0.011238426
A36: 34 | C36: 0.011273148 | D36: =N$3/HLOOKUP(DATEDIF(VLOOKUP(B36,Ages!A$1:D$161,4,FALSE),B$1,"y"),#REF!,16,FALSE) -> #REF! | E36: =C36/G$1 -> 0.0060123457 | F36: 67 | G36: =(D36/C36) -> #REF! | I36: 34 | J36: Debbie Gibbs | K36: 0.011273148
A37: 35 | C37: 0.011574074 | D37: =N$3/HLOOKUP(DATEDIF(VLOOKUP(B37,Ages!A$1:D$161,4,FALSE),B$1,"y"),#REF!,16,FALSE) -> #REF! | E37: =C37/G$1 -> 0.0061728395 | F37: 66 | G37: =(D37/C37) -> #REF! | I37: 35 | J37: Jody Ralph | K37: 0.01130787
A38: 36 | C38: 0.01181713 | D38: =N$3/HLOOKUP(DATEDIF(VLOOKUP(B38,Ages!A$1:D$161,4,FALSE),B$1,"y"),#REF!,16,FALSE) -> #REF! | E38: =C38/G$1 -> 0.0063024691 | F38: 65 | G38: =(D38/C38) -> #REF! | I38: 36 | J38: Jia Ping Lee | K38: 0.011342593
A39: 37 | C39: 0.010474537 | D39: =N$3/HLOOKUP(DATEDIF(VLOOKUP(B39,Ages!A$1:D$161,4,FALSE),B$1,"y"),#REF!,16,FALSE) -> #REF! | E39: =C39/G$1 -> 0.0055864198 | F39: 64 | G39: =(D39/C39) -> #REF! | I39: 37 | J39: Meaghan Jenkins | K39: 0.011354167
A40: 38 | C40: 0.011585648 | D40: =N$4/HLOOKUP(DATEDIF(VLOOKUP(B40,Ages!A$1:D$161,4,FALSE),B$1,"y"),#REF!,16,FALSE) -> #REF! | E40: =C40/G$1 -> 0.0061790123 | F40: 63 | G40: =(D40/C40) -> #REF! | I40: 38 | J40: Terry Jones | K40: 0.011527778
A41: 39 | C41: 0.0121875 | D41: =N$4/HLOOKUP(DATEDIF(VLOOKUP(B41,Ages!A$1:D$161,4,FALSE),B$1,"y"),#REF!,16,FALSE) -> #REF! | E41: =C41/G$1 -> 0.0065 | F41: 62 | G41: =(D41/C41) -> #REF! | I41: 39 | J41: Victoria Holmes | K41: 0.011539352
A42: 40 | C42: 0.011354167 | D42: =N$3/HLOOKUP(DATEDIF(VLOOKUP(B42,Ages!A$1:D$161,4,FALSE),B$1,"y"),#REF!,16,FALSE) -> #REF! | E42: =C42/G$1 -> 0.0060555556 | F42: 61 | G42: =(D42/C42) -> #REF! | I42: 40 | J42: Alice Sullivan | K42: 0.011574074
A43: 41 | C43: 00:13:21 | D43: =N$4/HLOOKUP(DATEDIF(VLOOKUP(B43,Ages!A$1:D$161,4,FALSE),B$1,"y"),#REF!,16,FALSE) -> #REF! | E43: =C43/G$1 -> 0.0049444444 | F43: 60 | G43: =(D43/C43) -> #REF! | I43: 41 | J43: Mark Jenkins | K43: 0.011585648
A44: 42 | C44: 0.01130787 | D44: =N$3/HLOOKUP(DATEDIF(VLOOKUP(B44,Ages!A$1:D$161,4,FALSE),B$1,"y"),#REF!,16,FALSE) -> #REF! | E44: =C44/G$1 -> 0.0060308642 | F44: 59 | G44: =(D44/C44) -> #REF! | I44: 42 | J44: Saran Lewis | K44: 0.01181713
A45: 43 | C45: 0.01462963 | D45: =N$3/HLOOKUP(DATEDIF(VLOOKUP(B45,Ages!A$1:D$161,4,FALSE),B$1,"y"),#REF!,16,FALSE) -> #REF! | E45: =C45/G$1 -> 0.0078024691 | F45: 58 | G45: =(D45/C45) -> #REF! | I45: 43 | J45: Steve Jones | K45: 0.0121875
A46: 44 | C46: 0.011342593 | D46: =N$3/HLOOKUP(DATEDIF(VLOOKUP(B46,Ages!A$1:D$161,4,FALSE),B$1,"y"),#REF!,16,FALSE) -> #REF! | E46: =C46/G$1 -> 0.0060493827 | F46: 57 | G46: =(D46/C46) -> #REF! | I46: 44 | J46: Laura Hall | K46: 0.012789352
A47: 45 | C47: 0.01537037 | D47: =N$3/HLOOKUP(DATEDIF(VLOOKUP(B47,Ages!A$1:D$161,4,FALSE),B$1,"y"),#REF!,16,FALSE) -> #REF! | E47: =C47/G$1 -> 0.0081975309 | F47: 56 | G47: =(D47/C47) -> #REF! | I47: 45 | J47: Nicola Julian | K47: 0.01462963
A48: 46 | C48: 0.011539352 | D48: =N$3/HLOOKUP(DATEDIF(VLOOKUP(B48,Ages!A$1:D$161,4,FALSE),B$1,"y"),#REF!,16,FALSE) -> #REF! | E48: =C48/G$1 -> 0.006154321 | F48: 55 | G48: =(D48/C48) -> #REF! | I48: 46 | J48: Jane Wallace | K48: 0.01537037
A49: 47 | C49: 0.01619213 | D49: =N$3/HLOOKUP(DATEDIF(VLOOKUP(B49,Ages!A$1:D$161,4,FALSE),B$1,"y"),#REF!,16,FALSE) -> #REF! | E49: =C49/G$1 -> 0.0086358025 | F49: 54 | G49: =(D49/C49) -> #REF! | I49: 47 | J49: Paula Stockley | K49: 0.016168981
A50: 48 | C50: 0.016168981 | D50: =N$3/HLOOKUP(DATEDIF(VLOOKUP(B50,Ages!A$1:D$161,4,FALSE),B$1,"y"),#REF!,16,FALSE) -> #REF! | E50: =C50/G$1 -> 0.0086234568 | F50: 53 | G50: =(D50/C50) -> #REF! | I50: 48 | J50: Manisha Rickards | K50: 0.01619213

Sheet Race 6
B1: 45987 | G1: 1 | H1: mile | J1: 1mile results in Row 14 of Age Grade Listing 'men' / 'women'
A2: Pos | B2: AGE GRADE Order | C2: Time | D2: Age WR | E2: Min/Mi | F2: Pts | G2: Age Grade % | I2: Pos | J2: ACTUAL Race Order | K2: Time
A3: 1 | C3: 0.0056481481 | D3: =N$3/HLOOKUP(DATEDIF(VLOOKUP(B3,Ages!A$1:D$161,4,FALSE),B$1,"y"),#REF!,14,FALSE) -> #REF! | E3: =C3/G$1 -> 0.0056481481 | F3: 100 | G3: =(D3/C3) -> #REF! | I3: 1 | J3: Chris Pridmore | K3: 0.0036574074 | M3: Women | N3: =(HLOOKUP("OC",#REF!,14,FALSE))/86400 -> #REF!
A4: 2 | C4: 0.0043402778 | D4: =N$3/HLOOKUP(DATEDIF(VLOOKUP(B4,Ages!A$1:D$161,4,FALSE),B$1,"y"),#REF!,14,FALSE) -> #REF! | E4: =C4/G$1 -> 0.0043402778 | F4: 99 | G4: =(D4/C4) -> #REF! | I4: 2 | J4: Gareth Parry | K4: 0.003900463 | M4: Men | N4: =(HLOOKUP("OC",#REF!,14,FALSE))/86400 -> #REF!
A5: 3 | C5: 0.0057060185 | D5: =N$3/HLOOKUP(DATEDIF(VLOOKUP(B5,Ages!A$1:D$161,4,FALSE),B$1,"y"),#REF!,14,FALSE) -> #REF! | E5: =C5/G$1 -> 0.0057060185 | F5: 98 | G5: =(D5/C5) -> #REF! | I5: 3 | J5: Justin Sperrin | K5: 0.0040393519
A6: 4 | C6: 0.0057291667 | D6: =N$3/HLOOKUP(DATEDIF(VLOOKUP(B6,Ages!A$1:D$161,4,FALSE),B$1,"y"),#REF!,14,FALSE) -> #REF! | E6: =C6/G$1 -> 0.0057291667 | F6: 97 | G6: =(D6/C6) -> #REF! | I6: 4 | J6: Aron Jones | K6: 0.0041435185 | M6: Interesting Fact
A7: 5 | C7: 0.0036574074 | D7: =N$4/HLOOKUP(DATEDIF(VLOOKUP(B7,Ages!A$1:D$161,4,FALSE),B$1,"y"),#REF!,14,FALSE) -> #REF! | E7: =C7/G$1 -> 0.0036574074 | F7: 96 | G7: =(D7/C7) -> #REF! | I7: 5 | J7: Katie Williams | K7: 0.0043402778 | M7: World record for running a mile backwards is 05:54
A8: 6 | C8: 0.0047916667 | D8: =N$4/HLOOKUP(DATEDIF(VLOOKUP(B8,Ages!A$1:D$161,4,FALSE),B$1,"y"),#REF!,14,FALSE) -> #REF! | E8: =C8/G$1 -> 0.0047916667 | F8: 95 | G8: =(D8/C8) -> #REF! | I8: 6 | J8: Kevin Watson | K8: 0.0044444444
A9: 7 | C9: 0.003900463 | D9: =N$4/HLOOKUP(DATEDIF(VLOOKUP(B9,Ages!A$1:D$161,4,FALSE),B$1,"y"),#REF!,14,FALSE) -> #REF! | E9: =C9/G$1 -> 0.003900463 | F9: 94 | G9: =(D9/C9) -> #REF! | I9: 7 | J9: Chris Freestone | K9: 0.0044675926
A10: 8 | C10: 0.0055787037 | D10: =N$3/HLOOKUP(DATEDIF(VLOOKUP(B10,Ages!A$1:D$161,4,FALSE),B$1,"y"),#REF!,14,FALSE) -> #REF! | E10: =C10/G$1 -> 0.0055787037 | F10: 93 | G10: =(D10/C10) -> #REF! | I10: 8 | J10: Sean Morgans | K10: 00:06:27 | M10: 58 | N10: Age WR Tester
A11: 9 | C11: 0.0052662037 | D11: =N$4/HLOOKUP(DATEDIF(VLOOKUP(B11,Ages!A$1:D$161,4,FALSE),B$1,"y"),#REF!,14,FALSE) -> #REF! | E11: =C11/G$1 -> 0.0052662037 | F11: 92 | G11: =(D11/C11) -> #REF! | I11: 9 | J11: Stuart Davies | K11: 0.004525463 | M11: Factor | N11: WR Time | O11: Gender
A12: 10 | C12: 00:06:27 | D12: =N$4/HLOOKUP(DATEDIF(VLOOKUP(B12,Ages!A$1:D$161,4,FALSE),B$1,"y"),#REF!,14,FALSE) -> #REF! | E12: =C12/G$1 -> 0.0044791667 | F12: 91 | G12: =(D12/C12) -> #REF! | I12: 10 | J12: Hans Thompson | K12: 0.0047916667 | M12: =HLOOKUP(M10,#REF!,14,FALSE) -> #REF! | N12: =N3/M12 -> #REF! | O12: Female
A13: 11 | C13: 0.0044444444 | D13: =N$4/HLOOKUP(DATEDIF(VLOOKUP(B13,Ages!A$1:D$161,4,FALSE),B$1,"y"),#REF!,14,FALSE) -> #REF! | E13: =C13/G$1 -> 0.0044444444 | F13: 90 | G13: =(D13/C13) -> #REF! | I13: 11 | J13: Ed Davies | K13: 0.0049537037 | M13: =HLOOKUP(M10,#REF!,14,FALSE) -> #REF! | N13: =N4/M13 -> #REF! | O13: Male
A14: 12 | C14: 0.0053587963 | D14: =N$4/HLOOKUP(DATEDIF(VLOOKUP(B14,Ages!A$1:D$161,4,FALSE),B$1,"y"),#REF!,14,FALSE) -> #REF! | E14: =C14/G$1 -> 0.0053587963 | F14: 89 | G14: =(D14/C14) -> #REF! | I14: 12 | J14: Sam Grunhut | K14: 0.0050115741
A15: 13 | C15: 0.0041435185 | D15: =N$4/HLOOKUP(DATEDIF(VLOOKUP(B15,Ages!A$1:D$161,4,FALSE),B$1,"y"),#REF!,14,FALSE) -> #REF! | E15: =C15/G$1 -> 0.0041435185 | F15: 88 | G15: =(D15/C15) -> #REF! | I15: 13 | J15: Cris Arnold | K15: 0.0052199074 | M15: Over 100% = World record level
A16: 14 | C16: 0.0040393519 | D16: =N$4/HLOOKUP(DATEDIF(VLOOKUP(B16,Ages!A$1:D$161,4,FALSE),B$1,"y"),#REF!,14,FALSE) -> #REF! | E16: =C16/G$1 -> 0.0040393519 | F16: 87 | G16: =(D16/C16) -> #REF! | I16: 14 | J16: Michelle Grey | K16: 0.0052430556 | M16: Over 90% = World Class
A17: 15 | C17: 0.0049537037 | D17: =N$4/HLOOKUP(DATEDIF(VLOOKUP(B17,Ages!A$1:D$161,4,FALSE),B$1,"y"),#REF!,14,FALSE) -> #REF! | E17: =C17/G$1 -> 0.0049537037 | F17: 86 | G17: =(D17/C17) -> #REF! | I17: 15 | J17: Francis Heron | K17: 0.0052662037 | M17: Over 80% = National Class
A18: 16 | C18: 0.0064467593 | D18: =N$3/HLOOKUP(DATEDIF(VLOOKUP(B18,Ages!A$1:D$161,4,FALSE),B$1,"y"),#REF!,14,FALSE) -> #REF! | E18: =C18/G$1 -> 0.0064467593 | F18: 85 | G18: =(D18/C18) -> #REF! | I18: 16 | J18: Louise Steer | K18: 0.0052777778 | M18: Over 70% = County Class
A19: 17 | C19: 0.0057638889 | D19: =N$3/HLOOKUP(DATEDIF(VLOOKUP(B19,Ages!A$1:D$161,4,FALSE),B$1,"y"),#REF!,14,FALSE) -> #REF! | E19: =C19/G$1 -> 0.0057638889 | F19: 84 | G19: =(D19/C19) -> #REF! | I19: 17 | J19: Meaghan Jenkins | K19: 0.0053125 | M19: Over 60% = local Class
A20: 18 | C20: 0.0065162037 | D20: =N$3/HLOOKUP(DATEDIF(VLOOKUP(B20,Ages!A$1:D$161,4,FALSE),B$1,"y"),#REF!,14,FALSE) -> #REF! | E20: =C20/G$1 -> 0.0065162037 | F20: 83 | G20: =(D20/C20) -> #REF! | I20: 18 | J20: Andy Rees | K20: 0.0053240741
A21: 19 | C21: 0.004525463 | D21: =N$4/HLOOKUP(DATEDIF(VLOOKUP(B21,Ages!A$1:D$161,4,FALSE),B$1,"y"),#REF!,14,FALSE) -> #REF! | E21: =C21/G$1 -> 0.004525463 | F21: 82 | G21: =(D21/C21) -> #REF! | I21: 19 | J21: Jenny Stanford | K21: 0.0053587963
A22: 20 | C22: 0.0053240741 | D22: =N$4/HLOOKUP(DATEDIF(VLOOKUP(B22,Ages!A$1:D$161,4,FALSE),B$1,"y"),#REF!,14,FALSE) -> #REF! | E22: =C22/G$1 -> 0.0053240741 | F22: 81 | G22: =(D22/C22) -> #REF! | I22: 20 | J22: David Doherty | K22: 0.0053587963
A23: 21 | C23: 0.0053819444 | D23: =N$3/HLOOKUP(DATEDIF(VLOOKUP(B23,Ages!A$1:D$161,4,FALSE),B$1,"y"),#REF!,14,FALSE) -> #REF! | E23: =C23/G$1 -> 0.0053819444 | F23: 80 | G23: =(D23/C23) -> #REF! | I23: 21 | J23: Mike Prasad | K23: 0.0053819444
A24: 22 | C24: 0.0052430556 | D24: =N$3/HLOOKUP(DATEDIF(VLOOKUP(B24,Ages!A$1:D$161,4,FALSE),B$1,"y"),#REF!,14,FALSE) -> #REF! | E24: =C24/G$1 -> 0.0052430556 | F24: 79 | G24: =(D24/C24) -> #REF! | I24: 22 | J24: Alice Sullivan | K24: 0.0053819444
A25: 23 | C25: 0.0052777778 | D25: =N$3/HLOOKUP(DATEDIF(VLOOKUP(B25,Ages!A$1:D$161,4,FALSE),B$1,"y"),#REF!,14,FALSE) -> #REF! | E25: =C25/G$1 -> 0.0052777778 | F25: 78 | G25: =(D25/C25) -> #REF! | I25: 23 | J25: Ruth Salmon | K25: 0.005462963
A26: 24 | C26: 0.005787037 | D26: =N$4/HLOOKUP(DATEDIF(VLOOKUP(B26,Ages!A$1:D$161,4,FALSE),B$1,"y"),#REF!,14,FALSE) -> #REF! | E26: =C26/G$1 -> 0.005787037 | F26: 77 | G26: =(D26/C26) -> #REF! | I26: 24 | J26: Vicky Davies | K26: 0.0055208333
A27: 25 | C27: 0.0052199074 | D27: =N$4/HLOOKUP(DATEDIF(VLOOKUP(B27,Ages!A$1:D$161,4,FALSE),B$1,"y"),#REF!,14,FALSE) -> #REF! | E27: =C27/G$1 -> 0.0052199074 | F27: 76 | G27: =(D27/C27) -> #REF! | I27: 25 | J27: Jia Ping Lee | K27: 0.0055324074
A28: 26 | C28: 0.005462963 | D28: =N$3/HLOOKUP(DATEDIF(VLOOKUP(B28,Ages!A$1:D$161,4,FALSE),B$1,"y"),#REF!,14,FALSE) -> #REF! | E28: =C28/G$1 -> 0.005462963 | F28: 75 | G28: =(D28/C28) -> #REF! | I28: 26 | J28: Diane Ridgeway | K28: 0.0055787037
A29: 27 | C29: 0.0053587963 | D29: =N$3/HLOOKUP(DATEDIF(VLOOKUP(B29,Ages!A$1:D$161,4,FALSE),B$1,"y"),#REF!,14,FALSE) -> #REF! | E29: =C29/G$1 -> 0.0053587963 | F29: 74 | G29: =(D29/C29) -> #REF! | I29: 27 | J29: Bev Jones | K29: 0.0056481481
A30: 28 | C30: 0.0053819444 | D30: =N$4/HLOOKUP(DATEDIF(VLOOKUP(B30,Ages!A$1:D$161,4,FALSE),B$1,"y"),#REF!,14,FALSE) -> #REF! | E30: =C30/G$1 -> 0.0053819444 | F30: 73 | G30: =(D30/C30) -> #REF! | I30: 28 | J30: Caroline Jones II | K30: 0.0057060185
A31: 29 | C31: 0.0053125 | D31: =N$3/HLOOKUP(DATEDIF(VLOOKUP(B31,Ages!A$1:D$161,4,FALSE),B$1,"y"),#REF!,14,FALSE) -> #REF! | E31: =C31/G$1 -> 0.0053125 | F31: 72 | G31: =(D31/C31) -> #REF! | I31: 29 | J31: Christina Smith | K31: 0.0057291667
A32: 30 | C32: 0.0044675926 | D32: =N$4/HLOOKUP(DATEDIF(VLOOKUP(B32,Ages!A$1:D$161,4,FALSE),B$1,"y"),#REF!,14,FALSE) -> #REF! | E32: =C32/G$1 -> 0.0044675926 | F32: 71 | G32: =(D32/C32) -> #REF! | I32: 30 | J32: Caroline Morgan | K32: 0.0057638889
A33: 31 | C33: 0.005775463 | D33: =N$3/HLOOKUP(DATEDIF(VLOOKUP(B33,Ages!A$1:D$161,4,FALSE),B$1,"y"),#REF!,14,FALSE) -> #REF! | E33: =C33/G$1 -> 0.005775463 | F33: 70 | G33: =(D33/C33) -> #REF! | I33: 31 | J33: Eiri Evans-Jones | K33: 0.005775463
A34: 32 | C34: 0.0060648148 | D34: =N$3/HLOOKUP(DATEDIF(VLOOKUP(B34,Ages!A$1:D$161,4,FALSE),B$1,"y"),#REF!,14,FALSE) -> #REF! | E34: =C34/G$1 -> 0.0060648148 | F34: 69 | G34: =(D34/C34) -> #REF! | I34: 32 | J34: Steve McLelland | K34: 0.005787037
A35: 33 | C35: 0.0062731481 | D35: =N$4/HLOOKUP(DATEDIF(VLOOKUP(B35,Ages!A$1:D$161,4,FALSE),B$1,"y"),#REF!,14,FALSE) -> #REF! | E35: =C35/G$1 -> 0.0062731481 | F35: 68 | G35: =(D35/C35) -> #REF! | I35: 33 | J35: Saran Lewis | K35: 0.0060648148
A36: 34 | C36: 0.0055208333 | D36: =N$3/HLOOKUP(DATEDIF(VLOOKUP(B36,Ages!A$1:D$161,4,FALSE),B$1,"y"),#REF!,14,FALSE) -> #REF! | E36: =C36/G$1 -> 0.0055208333 | F36: 67 | G36: =(D36/C36) -> #REF! | I36: 34 | J36: Victoria Holmes | K36: 0.0061458333
A37: 35 | C37: 0.0064930556 | D37: =N$3/HLOOKUP(DATEDIF(VLOOKUP(B37,Ages!A$1:D$161,4,FALSE),B$1,"y"),#REF!,14,FALSE) -> #REF! | E37: =C37/G$1 -> 0.0064930556 | F37: 66 | G37: =(D37/C37) -> #REF! | I37: 35 | J37: Steve Jones | K37: 0.0062731481
A38: 36 | C38: 0.0055324074 | D38: =N$3/HLOOKUP(DATEDIF(VLOOKUP(B38,Ages!A$1:D$161,4,FALSE),B$1,"y"),#REF!,14,FALSE) -> #REF! | E38: =C38/G$1 -> 0.0055324074 | F38: 65 | G38: =(D38/C38) -> #REF! | I38: 36 | J38: Lynn Holmes | K38: 0.0064467593
A39: 37 | C39: 0.0050115741 | D39: =N$4/HLOOKUP(DATEDIF(VLOOKUP(B39,Ages!A$1:D$161,4,FALSE),B$1,"y"),#REF!,14,FALSE) -> #REF! | E39: =C39/G$1 -> 0.0050115741 | F39: 64 | G39: =(D39/C39) -> #REF! | I39: 37 | J39: Gina Southam | K39: 0.0064930556
A40: 38 | C40: 0.0067476852 | D40: =N$3/HLOOKUP(DATEDIF(VLOOKUP(B40,Ages!A$1:D$161,4,FALSE),B$1,"y"),#REF!,14,FALSE) -> #REF! | E40: =C40/G$1 -> 0.0067476852 | F40: 63 | G40: =(D40/C40) -> #REF! | I40: 38 | J40: Laura Hall | K40: 0.0065162037
A41: 39 | C41: 0.0061458333 | D41: =N$3/HLOOKUP(DATEDIF(VLOOKUP(B41,Ages!A$1:D$161,4,FALSE),B$1,"y"),#REF!,14,FALSE) -> #REF! | E41: =C41/G$1 -> 0.0061458333 | F41: 62 | G41: =(D41/C41) -> #REF! | I41: 39 | J41: Debbie Gibbs | K41: 0.0067476852
A42: 40 | C42: 0.0085300926 | D42: =N$3/HLOOKUP(DATEDIF(VLOOKUP(B42,Ages!A$1:D$161,4,FALSE),B$1,"y"),#REF!,14,FALSE) -> #REF! | E42: =C42/G$1 -> 0.0085300926 | F42: 61 | G42: =(D42/C42) -> #REF! | I42: 40 | J42: Paula Stockley | K42: 0.0085300926

Sheet Race 7
B1: 46068 | G1: 10 | H1: mile | J1: 10mile results in Row 34 of Age Grade Listing 'men' / 'women'
A2: Pos | B2: AGE GRADE Order | C2: Time | D2: Age WR | E2: Min/Mi | F2: Pts | G2: Age Grade % | I2: Pos | J2: ACTUAL Race Order | K2: Time
A3: 1 | C3: 0.049340278 | D3: =N$3/HLOOKUP(DATEDIF(VLOOKUP(B3,Ages!A$2:J$161,4,FALSE),B$1,"y"),#REF!,34,FALSE) -> #REF! | E3: =C3/G$1 -> 0.0049340278 | F3: 100 | G3: =D3/C3 -> #REF! | I3: 1 | J3: Chris Pridmore | K3: 0.045208333 | M3: Women | N3: =(HLOOKUP("OC",#REF!,34,FALSE))/86400 -> #REF!
A4: 2 | C4: 0.066921296 | D4: =N$3/HLOOKUP(DATEDIF(VLOOKUP(B4,Ages!A$2:J$161,4,FALSE),B$1,"y"),#REF!,34,FALSE) -> #REF! | E4: =C4/G$1 -> 0.0066921296 | F4: 99 | G4: =D4/C4 -> #REF! | I4: 2 | J4: Gareth Parry | K4: 0.046770833 | M4: Men | N4: =(HLOOKUP("OC",#REF!,34,FALSE))/86400 -> #REF!
A5: 3 | C5: 0.060983796 | D5: =N$3/HLOOKUP(DATEDIF(VLOOKUP(B5,Ages!A$2:J$161,4,FALSE),B$1,"y"),#REF!,34,FALSE) -> #REF! | E5: =C5/G$1 -> 0.0060983796 | F5: 98 | G5: =D5/C5 -> #REF! | I5: 3 | J5: Katie Williams | K5: 0.049340278
A6: 4 | C6: 0.046770833 | D6: =N$4/HLOOKUP(DATEDIF(VLOOKUP(B6,Ages!A$2:J$161,4,FALSE),B$1,"y"),#REF!,34,FALSE) -> #REF! | E6: =C6/G$1 -> 0.0046770833 | F6: 97 | G6: =D6/C6 -> #REF! | I6: 4 | J6: Justin Sperrin | K6: 0.04974537
A7: 5 | C7: 0.045208333 | D7: =N$4/HLOOKUP(DATEDIF(VLOOKUP(B7,Ages!A$2:J$161,4,FALSE),B$1,"y"),#REF!,34,FALSE) -> #REF! | E7: =C7/G$1 -> 0.0045208333 | F7: 96 | G7: =D7/C7 -> #REF! | I7: 5 | J7: Chris Freestone | K7: 0.054386574
A8: 6 | C8: 0.06244213 | D8: =N$3/HLOOKUP(DATEDIF(VLOOKUP(B8,Ages!A$2:J$161,4,FALSE),B$1,"y"),#REF!,34,FALSE) -> #REF! | E8: =C8/G$1 -> 0.006244213 | F8: 95 | G8: =D8/C8 -> #REF! | I8: 6 | J8: James Bennett | K8: 0.054918981
A9: 7 | C9: 0.066608796 | D9: =N$4/HLOOKUP(DATEDIF(VLOOKUP(B9,Ages!A$2:J$161,4,FALSE),B$1,"y"),#REF!,34,FALSE) -> #REF! | E9: =C9/G$1 -> 0.0066608796 | F9: 94 | G9: =D9/C9 -> #REF! | I9: 7 | J9: Kevin Watson | K9: 0.05505787
A10: 8 | C10: 0.060787037 | D10: =N$4/HLOOKUP(DATEDIF(VLOOKUP(B10,Ages!A$2:J$161,4,FALSE),B$1,"y"),#REF!,34,FALSE) -> #REF! | E10: =C10/G$1 -> 0.0060787037 | F10: 93 | G10: =D10/C10 -> #REF! | I10: 8 | J10: Laura Gilbert | K10: 0.056793981 | M10: 30 | N10: Age WR Tester
A11: 9 | C11: 0.065625 | D11: =N$3/HLOOKUP(DATEDIF(VLOOKUP(B11,Ages!A$2:J$161,4,FALSE),B$1,"y"),#REF!,34,FALSE) -> #REF! | E11: =C11/G$1 -> 0.0065625 | F11: 92 | G11: =D11/C11 -> #REF! | I11: 9 | J11: Cris Arnold | K11: 0.0575 | M11: Factor | N11: WR Time | O11: Gender
A12: 10 | C12: 0.070150463 | D12: =N$3/HLOOKUP(DATEDIF(VLOOKUP(B12,Ages!A$2:J$161,4,FALSE),B$1,"y"),#REF!,34,FALSE) -> #REF! | E12: =C12/G$1 -> 0.0070150463 | F12: 91 | G12: =D12/C12 -> #REF! | I12: 10 | J12: Hans Thompson | K12: 0.060787037 | M12: =HLOOKUP(M10,#REF!,34,FALSE) -> #REF! | N12: =N3/M12 -> #REF! | O12: Female
A13: 11 | C13: 0.062361111 | D13: =N$3/HLOOKUP(DATEDIF(VLOOKUP(B13,Ages!A$2:J$161,4,FALSE),B$1,"y"),#REF!,34,FALSE) -> #REF! | E13: =C13/G$1 -> 0.0062361111 | F13: 90 | G13: =D13/C13 -> #REF! | I13: 11 | J13: Diane Ridgeway | K13: 0.060983796 | M13: =HLOOKUP(M10,#REF!,34,FALSE) -> #REF! | N13: =N4/M13 -> #REF! | O13: Male
A14: 12 | C14: 0.0575 | D14: =N$4/HLOOKUP(DATEDIF(VLOOKUP(B14,Ages!A$2:J$161,4,FALSE),B$1,"y"),#REF!,34,FALSE) -> #REF! | E14: =C14/G$1 -> 0.00575 | F14: 89 | G14: =D14/C14 -> #REF! | I14: 12 | J14: Sharon Trotman | K14: 0.062361111
A15: 13 | C15: 0.064814815 | D15: =N$3/HLOOKUP(DATEDIF(VLOOKUP(B15,Ages!A$2:J$161,4,FALSE),B$1,"y"),#REF!,34,FALSE) -> #REF! | E15: =C15/G$1 -> 0.0064814815 | F15: 88 | G15: =D15/C15 -> #REF! | I15: 13 | J15: Julie Archer | K15: 0.06244213 | M15: Over 100% = World record level
A16: 14 | C16: 0.05505787 | D16: =N$4/HLOOKUP(DATEDIF(VLOOKUP(B16,Ages!A$2:J$161,4,FALSE),B$1,"y"),#REF!,34,FALSE) -> #REF! | E16: =C16/G$1 -> 0.005505787 | F16: 87 | G16: =D16/C16 -> #REF! | I16: 14 | J16: Nathan Williams | K16: 0.062604167 | M16: Over 90% = World Class
A17: 15 | C17: 0.06494213 | D17: =N$4/HLOOKUP(DATEDIF(VLOOKUP(B17,Ages!A$2:J$161,4,FALSE),B$1,"y"),#REF!,34,FALSE) -> #REF! | E17: =C17/G$1 -> 0.006494213 | F17: 86 | G17: =D17/C17 -> #REF! | I17: 15 | J17: Sam Grunhut | K17: 0.063101852 | M17: Over 80% = National Class
A18: 16 | C18: 0.072256944 | D18: =N$3/HLOOKUP(DATEDIF(VLOOKUP(B18,Ages!A$2:J$161,4,FALSE),B$1,"y"),#REF!,34,FALSE) -> #REF! | E18: =C18/G$1 -> 0.0072256944 | F18: 85 | G18: =D18/C18 -> #REF! | I18: 16 | J18: Nic Rowe | K18: 0.064814815 | M18: Over 70% = County Class
A19: 17 | C19: 0.04974537 | D19: =N$4/HLOOKUP(DATEDIF(VLOOKUP(B19,Ages!A$2:J$161,4,FALSE),B$1,"y"),#REF!,34,FALSE) -> #REF! | E19: =C19/G$1 -> 0.004974537 | F19: 84 | G19: =D19/C19 -> #REF! | I19: 17 | J19: Steve Mclelland | K19: 0.06494213 | M19: Over 60% = local Class
A20: 18 | C20: 0.056793981 | D20: =N$3/HLOOKUP(DATEDIF(VLOOKUP(B20,Ages!A$2:J$161,4,FALSE),B$1,"y"),#REF!,34,FALSE) -> #REF! | E20: =C20/G$1 -> 0.0056793981 | F20: 83 | G20: =D20/C20 -> #REF! | I20: 18 | J20: Fran Newman | K20: 0.065625
A21: 19 | C21: 0.065636574 | D21: =N$4/HLOOKUP(DATEDIF(VLOOKUP(B21,Ages!A$2:J$161,4,FALSE),B$1,"y"),#REF!,34,FALSE) -> #REF! | E21: =C21/G$1 -> 0.0065636574 | F21: 82 | G21: =D21/C21 -> #REF! | I21: 19 | J21: Andy Rees | K21: 0.065636574
A22: 20 | C22: 0.070613426 | D22: =N$3/HLOOKUP(DATEDIF(VLOOKUP(B22,Ages!A$2:J$161,4,FALSE),B$1,"y"),#REF!,34,FALSE) -> #REF! | E22: =C22/G$1 -> 0.0070613426 | F22: 81 | G22: =D22/C22 -> #REF! | I22: 20 | J22: Alex Heron | K22: 0.066608796
A23: 21 | C23: 0.071377315 | D23: =N$4/HLOOKUP(DATEDIF(VLOOKUP(B23,Ages!A$2:J$161,4,FALSE),B$1,"y"),#REF!,34,FALSE) -> #REF! | E23: =C23/G$1 -> 0.0071377315 | F23: 80 | G23: =D23/C23 -> #REF! | I23: 21 | J23: Peter Clement | K23: 0.066608796
A24: 22 | C24: 0.080428241 | D24: =N$3/HLOOKUP(DATEDIF(VLOOKUP(B24,Ages!A$2:J$161,4,FALSE),B$1,"y"),#REF!,34,FALSE) -> #REF! | E24: =C24/G$1 -> 0.0080428241 | F24: 79 | G24: =D24/C24 -> #REF! | I24: 22 | J24: Bev Jones | K24: 0.066921296
A25: 23 | C25: 0.066608796 | D25: =N$4/HLOOKUP(DATEDIF(VLOOKUP(B25,Ages!A$2:J$161,4,FALSE),B$1,"y"),#REF!,34,FALSE) -> #REF! | E25: =C25/G$1 -> 0.0066608796 | F25: 78 | G25: =D25/C25 -> #REF! | I25: 23 | J25: Vicky Davies | K25: 0.068564815
A26: 24 | C26: 0.054386574 | D26: =N$4/HLOOKUP(DATEDIF(VLOOKUP(B26,Ages!A$2:J$161,4,FALSE),B$1,"y"),#REF!,34,FALSE) -> #REF! | E26: =C26/G$1 -> 0.0054386574 | F26: 77 | G26: =D26/C26 -> #REF! | I26: 24 | J26: Christina Smith | K26: 0.070150463
A27: 25 | C27: 0.054918981 | D27: =N$4/HLOOKUP(DATEDIF(VLOOKUP(B27,Ages!A$2:J$161,4,FALSE),B$1,"y"),#REF!,34,FALSE) -> #REF! | E27: =C27/G$1 -> 0.0054918981 | F27: 76 | G27: =D27/C27 -> #REF! | I27: 25 | J27: Caroline Morgan | K27: 0.070613426
A28: 26 | C28: 0.062604167 | D28: =N$4/HLOOKUP(DATEDIF(VLOOKUP(B28,Ages!A$2:J$161,4,FALSE),B$1,"y"),#REF!,34,FALSE) -> #REF! | E28: =C28/G$1 -> 0.0062604167 | F28: 75 | G28: =D28/C28 -> #REF! | I28: 26 | J28: Jia Ping Lee | K28: 0.070625
A29: 27 | C29: 0.072060185 | D29: =N$3/HLOOKUP(DATEDIF(VLOOKUP(B29,Ages!A$2:J$161,4,FALSE),B$1,"y"),#REF!,34,FALSE) -> #REF! | E29: =C29/G$1 -> 0.0072060185 | F29: 74 | G29: =D29/C29 -> #REF! | I29: 27 | J29: David Doherty | K29: 0.071377315
A30: 28 | C30: 0.071909722 | D30: =N$3/HLOOKUP(DATEDIF(VLOOKUP(B30,Ages!A$2:J$161,4,FALSE),B$1,"y"),#REF!,34,FALSE) -> #REF! | E30: =C30/G$1 -> 0.0071909722 | F30: 73 | G30: =D30/C30 -> #REF! | I30: 28 | J30: Alice Sullivan | K30: 0.071909722
A31: 29 | C31: 0.072060185 | D31: =N$3/HLOOKUP(DATEDIF(VLOOKUP(B31,Ages!A$2:J$161,4,FALSE),B$1,"y"),#REF!,34,FALSE) -> #REF! | E31: =C31/G$1 -> 0.0072060185 | F31: 72 | G31: =D31/C31 -> #REF! | I31: 29 | J31: Saran Lewis | K31: 0.072060185
A32: 30 | C32: 0.068564815 | D32: =N$3/HLOOKUP(DATEDIF(VLOOKUP(B32,Ages!A$2:J$161,4,FALSE),B$1,"y"),#REF!,34,FALSE) -> #REF! | E32: =C32/G$1 -> 0.0068564815 | F32: 71 | G32: =D32/C32 -> #REF! | I32: 30 | J32: Kelly Bamford | K32: 0.072060185
A33: 31 | C33: 0.070625 | D33: =N$3/HLOOKUP(DATEDIF(VLOOKUP(B33,Ages!A$2:J$161,4,FALSE),B$1,"y"),#REF!,34,FALSE) -> #REF! | E33: =C33/G$1 -> 0.0070625 | F33: 70 | G33: =D33/C33 -> #REF! | I33: 31 | J33: Manisha Rickards | K33: 0.072256944
A34: 32 | C34: 0.063101852 | D34: =N$4/HLOOKUP(DATEDIF(VLOOKUP(B34,Ages!A$2:J$161,4,FALSE),B$1,"y"),#REF!,34,FALSE) -> #REF! | E34: =C34/G$1 -> 0.0063101852 | F34: 69 | G34: =D34/C34 -> #REF! | I34: 32 | J34: Laura Hall | K34: 0.080428241
A35: 33 | C35: 0.1125463 | D35: =N$3/HLOOKUP(DATEDIF(VLOOKUP(B35,Ages!A$2:J$161,4,FALSE),B$1,"y"),#REF!,34,FALSE) -> #REF! | E35: =C35/G$1 -> 0.01125463 | F35: 68 | G35: =D35/C35 -> #REF! | I35: 33 | J35: Paula Stockley | K35: 0.1125463

Sheet Race 8
B1: 46120 | G1: 5 | H1: mile | J1: 10k results in Row 30 of Age Grade Listing 'men' / 'women'
A2: Pos | B2: AGE GRADE Order | C2: Time | D2: Age WR | E2: Min/Mi | F2: Pts | G2: Age Grade % | I2: Pos | J2: ACTUAL Race Order | K2: Time
A3: 1 | C3: 0.031180556 | D3: =N$3/HLOOKUP(DATEDIF(VLOOKUP(B3,Ages!A$1:D$164,4,FALSE),B$1,"y"),#REF!,28,FALSE) -> #REF! | E3: =C3/G$1 -> 0.0062361111 | F3: 100 | G3: =D3/C3 -> #REF! | I3: 1 | J3: Gareth Parry | K3: 0.021805556 | M3: Women | N3: =(HLOOKUP("OC",#REF!,28,FALSE))/86400 -> #REF!
A4: 2 | C4: 0.022638889 | D4: =N$4/HLOOKUP(DATEDIF(VLOOKUP(B4,Ages!A$1:D$164,4,FALSE),B$1,"y"),#REF!,28,FALSE) -> #REF! | E4: =C4/G$1 -> 0.0045277778 | F4: 99 | G4: =(D4/C4) -> #REF! | I4: 2 | J4: Chris Pridmore | K4: 0.021921296 | M4: Men | N4: =(HLOOKUP("OC",#REF!,28,FALSE))/86400 -> #REF!
A5: 3 | C5: 0.024351852 | D5: =N$4/HLOOKUP(DATEDIF(VLOOKUP(B5,Ages!A$1:D$164,4,FALSE),B$1,"y"),#REF!,28,FALSE) -> #REF! | E5: =C5/G$1 -> 0.0048703704 | F5: 98 | G5: =(D5/C5) -> #REF! | I5: 3 | J5: Ashley Pascoe | K5: 0.022638889
A6: 4 | C6: 0.028993056 | D6: =N$3/HLOOKUP(DATEDIF(VLOOKUP(B6,Ages!A$1:D$164,4,FALSE),B$1,"y"),#REF!,28,FALSE) -> #REF! | E6: =C6/G$1 -> 0.0057986111 | F6: 97 | G6: =D6/C6 -> #REF! | I6: 4 | J6: Justin Sperrin | K6: 0.02318287
A7: 5 | C7: 0.021805556 | D7: =N$4/HLOOKUP(DATEDIF(VLOOKUP(B7,Ages!A$1:D$164,4,FALSE),B$1,"y"),#REF!,28,FALSE) -> #REF! | E7: =C7/G$1 -> 0.0043611111 | F7: 96 | G7: =(D7/C7) -> #REF! | I7: 5 | J7: Aron Jones | K7: 0.023645833
A8: 6 | C8: 0.024872685 | D8: =N$3/HLOOKUP(DATEDIF(VLOOKUP(B8,Ages!A$1:D$164,4,FALSE),B$1,"y"),#REF!,28,FALSE) -> #REF! | E8: =C8/G$1 -> 0.004974537 | F8: 95 | G8: =D8/C8 -> #REF! | I8: 6 | J8: Gavin Davies | K8: 0.024351852
A9: 7 | C9: 0.028935185 | D9: =N$4/HLOOKUP(DATEDIF(VLOOKUP(B9,Ages!A$1:D$164,4,FALSE),B$1,"y"),#REF!,28,FALSE) -> #REF! | E9: =C9/G$1 -> 0.005787037 | F9: 94 | G9: =(D9/C9) -> #REF! | I9: 7 | J9: Megan Chick | K9: 0.02462963
A10: 8 | C10: 0.021921296 | D10: =N$4/HLOOKUP(DATEDIF(VLOOKUP(B10,Ages!A$1:D$164,4,FALSE),B$1,"y"),#REF!,28,FALSE) -> #REF! | E10: =C10/G$1 -> 0.0043842593 | F10: 93 | G10: =(D10/C10) -> #REF! | I10: 8 | J10: Katie Williams | K10: 0.024872685 | M10: 71 | N10: Age WR Tester
A11: 9 | C11: 0.02962963 | D11: =N$3/HLOOKUP(DATEDIF(VLOOKUP(B11,Ages!A$1:D$164,4,FALSE),B$1,"y"),#REF!,28,FALSE) -> #REF! | E11: =C11/G$1 -> 0.0059259259 | F11: 92 | G11: =D11/C11 -> #REF! | I11: 9 | J11: James Bennett | K11: 0.025520833 | M11: Factor | N11: WR Time | O11: Gender
A12: 10 | C12: 0.029803241 | D12: =N$3/HLOOKUP(DATEDIF(VLOOKUP(B12,Ages!A$1:D$164,4,FALSE),B$1,"y"),#REF!,28,FALSE) -> #REF! | E12: =C12/G$1 -> 0.0059606481 | F12: 91 | G12: =D12/C12 -> #REF! | I12: 10 | J12: Sean Morgans | K12: 0.026018519 | M12: =HLOOKUP(M10,#REF!,28,FALSE) -> #REF! | N12: =N3/M12 -> #REF! | O12: Female
A13: 11 | C13: 0.02462963 | D13: =N$3/HLOOKUP(DATEDIF(VLOOKUP(B13,Ages!A$1:D$164,4,FALSE),B$1,"y"),#REF!,28,FALSE) -> #REF! | E13: =C13/G$1 -> 0.0049259259 | F13: 90 | G13: =D13/C13 -> #REF! | I13: 11 | J13: Rob Sandles | K13: 0.027233796 | M13: =HLOOKUP(M10,#REF!,28,FALSE) -> #REF! | N13: =N4/M13 -> #REF! | O13: Male
A14: 12 | C14: 0.026018519 | D14: =N$4/HLOOKUP(DATEDIF(VLOOKUP(B14,Ages!A$1:D$164,4,FALSE),B$1,"y"),#REF!,28,FALSE) -> #REF! | E14: =C14/G$1 -> 0.0052037037 | F14: 89 | G14: =(D14/C14) -> #REF! | I14: 12 | J14: Cris Arnold | K14: 0.027627315
A15: 13 | C15: 0.027233796 | D15: =N$4/HLOOKUP(DATEDIF(VLOOKUP(B15,Ages!A$1:D$164,4,FALSE),B$1,"y"),#REF!,28,FALSE) -> #REF! | E15: =C15/G$1 -> 0.0054467593 | F15: 88 | G15: =(D15/C15) -> #REF! | I15: 13 | J15: Chris Freestone | K15: 0.027673611 | M15: Over 100% = World record level
A16: 14 | C16: 0.030509259 | D16: =N$3/HLOOKUP(DATEDIF(VLOOKUP(B16,Ages!A$1:D$164,4,FALSE),B$1,"y"),#REF!,28,FALSE) -> #REF! | E16: =C16/G$1 -> 0.0061018519 | F16: 87 | G16: =D16/C16 -> #REF! | I16: 14 | J16: Laura Gilbert | K16: 0.027777778 | M16: Over 90% = World Class
A17: 15 | C17: 0.027627315 | D17: =N$4/HLOOKUP(DATEDIF(VLOOKUP(B17,Ages!A$1:D$164,4,FALSE),B$1,"y"),#REF!,28,FALSE) -> #REF! | E17: =C17/G$1 -> 0.005525463 | F17: 86 | G17: =(D17/C17) -> #REF! | I17: 15 | J17: Peter Clement | K17: 0.028217593 | M17: Over 80% = National Class
A18: 16 | C18: 0.023645833 | D18: =N$4/HLOOKUP(DATEDIF(VLOOKUP(B18,Ages!A$1:D$164,4,FALSE),B$1,"y"),#REF!,28,FALSE) -> #REF! | E18: =C18/G$1 -> 0.0047291667 | F18: 85 | G18: =(D18/C18) -> #REF! | I18: 16 | J18: Victoria Barber | K18: 0.028738426 | M18: Over 70% = County Class
A19: 17 | C19: 0.033055556 | D19: =N$3/HLOOKUP(DATEDIF(VLOOKUP(B19,Ages!A$1:D$164,4,FALSE),B$1,"y"),#REF!,28,FALSE) -> #REF! | E19: =C19/G$1 -> 0.0066111111 | F19: 84 | G19: =D19/C19 -> #REF! | I19: 17 | J19: Dave Williams | K19: 0.028773148 | M19: Over 60% = local Class
A20: 18 | C20: 0.028217593 | D20: =N$4/HLOOKUP(DATEDIF(VLOOKUP(B20,Ages!A$1:D$164,4,FALSE),B$1,"y"),#REF!,28,FALSE) -> #REF! | E20: =C20/G$1 -> 0.0056435185 | F20: 83 | G20: =(D20/C20) -> #REF! | I20: 18 | J20: Nathan Williams | K20: 0.028877315
A21: 19 | C21: 0.02318287 | D21: =N$4/HLOOKUP(DATEDIF(VLOOKUP(B21,Ages!A$1:D$164,4,FALSE),B$1,"y"),#REF!,28,FALSE) -> #REF! | E21: =C21/G$1 -> 0.0046365741 | F21: 82 | G21: =(D21/C21) -> #REF! | I21: 19 | J21: Francis Heron | K21: 0.028935185
A22: 20 | C22: 0.034918981 | D22: =N$3/HLOOKUP(DATEDIF(VLOOKUP(B22,Ages!A$1:D$164,4,FALSE),B$1,"y"),#REF!,28,FALSE) -> #REF! | E22: =C22/G$1 -> 0.0069837963 | F22: 81 | G22: =D22/C22 -> #REF! | I22: 20 | J22: Sarah Barham | K22: 0.028993056
A23: 21 | C23: 0.036909722 | D23: =N$4/HLOOKUP(DATEDIF(VLOOKUP(B23,Ages!A$1:D$164,4,FALSE),B$1,"y"),#REF!,28,FALSE) -> #REF! | E23: =C23/G$1 -> 0.0073819444 | F23: 80 | G23: =(D23/C23) -> #REF! | I23: 21 | J23: Cori Davies | K23: 0.029247685
A24: 22 | C24: 0.031296296 | D24: =N$4/HLOOKUP(DATEDIF(VLOOKUP(B24,Ages!A$1:D$164,4,FALSE),B$1,"y"),#REF!,28,FALSE) -> #REF! | E24: =C24/G$1 -> 0.0062592593 | F24: 79 | G24: =(D24/C24) -> #REF! | I24: 22 | J24: Diane Ridgeway | K24: 0.02962963
A25: 23 | C25: 0.027777778 | D25: =N$3/HLOOKUP(DATEDIF(VLOOKUP(B25,Ages!A$1:D$164,4,FALSE),B$1,"y"),#REF!,28,FALSE) -> #REF! | E25: =C25/G$1 -> 0.0055555556 | F25: 78 | G25: =D25/C25 -> #REF! | I25: 23 | J25: Julie Archer | K25: 0.029803241
A26: 24 | C26: 0.028773148 | D26: =N$4/HLOOKUP(DATEDIF(VLOOKUP(B26,Ages!A$1:D$164,4,FALSE),B$1,"y"),#REF!,28,FALSE) -> #REF! | E26: =C26/G$1 -> 0.0057546296 | F26: 77 | G26: =(D26/C26) -> #REF! | I26: 24 | J26: Sam Grunhut | K26: 0.029988426
A27: 25 | C27: 0.033530093 | D27: =N$3/HLOOKUP(DATEDIF(VLOOKUP(B27,Ages!A$1:D$164,4,FALSE),B$1,"y"),#REF!,28,FALSE) -> #REF! | E27: =C27/G$1 -> 0.0067060185 | F27: 76 | G27: =D27/C27 -> #REF! | I27: 25 | J27: Jenny Stanford | K27: 0.030173611
A28: 26 | C28: 0.037326389 | D28: =N$3/HLOOKUP(DATEDIF(VLOOKUP(B28,Ages!A$1:D$164,4,FALSE),B$1,"y"),#REF!,28,FALSE) -> #REF! | E28: =C28/G$1 -> 0.0074652778 | F28: 75 | G28: =D28/C28 -> #REF! | I28: 26 | J28: Sharon Trotman | K28: 0.030509259
A29: 27 | C29: 0.028738426 | D29: =N$3/HLOOKUP(DATEDIF(VLOOKUP(B29,Ages!A$1:D$164,4,FALSE),B$1,"y"),#REF!,28,FALSE) -> #REF! | E29: =C29/G$1 -> 0.0057476852 | F29: 74 | G29: =D29/C29 -> #REF! | I29: 27 | J29: Bev Jones | K29: 0.031180556
A30: 28 | C30: 0.037337963 | D30: =N$3/HLOOKUP(DATEDIF(VLOOKUP(B30,Ages!A$1:D$164,4,FALSE),B$1,"y"),#REF!,28,FALSE) -> #REF! | E30: =C30/G$1 -> 0.0074675926 | F30: 73 | G30: =D30/C30 -> #REF! | I30: 28 | J30: Andy Rees | K30: 0.031296296
A31: 29 | C31: 0.037314815 | D31: =N$3/HLOOKUP(DATEDIF(VLOOKUP(B31,Ages!A$1:D$164,4,FALSE),B$1,"y"),#REF!,28,FALSE) -> #REF! | E31: =C31/G$1 -> 0.007462963 | F31: 72 | G31: =D31/C31 -> #REF! | I31: 29 | J31: Jia Ping Lee | K31: 0.032002315
A32: 30 | C32: 0.025520833 | D32: =N$4/HLOOKUP(DATEDIF(VLOOKUP(B32,Ages!A$1:D$164,4,FALSE),B$1,"y"),#REF!,28,FALSE) -> #REF! | E32: =C32/G$1 -> 0.0051041667 | F32: 71 | G32: =(D32/C32) -> #REF! | I32: 30 | J32: James Davies | K32: 0.032847222
A33: 31 | C33: 0.030173611 | D33: =N$3/HLOOKUP(DATEDIF(VLOOKUP(B33,Ages!A$1:D$164,4,FALSE),B$1,"y"),#REF!,28,FALSE) -> #REF! | E33: =C33/G$1 -> 0.0060347222 | F33: 70 | G33: =D33/C33 -> #REF! | I33: 31 | J33: Fran Newman | K33: 0.033055556
A34: 32 | C34: 0.033252315 | D34: =N$4/HLOOKUP(DATEDIF(VLOOKUP(B34,Ages!A$1:D$164,4,FALSE),B$1,"y"),#REF!,28,FALSE) -> #REF! | E34: =C34/G$1 -> 0.006650463 | F34: 69 | G34: =(D34/C34) -> #REF! | I34: 32 | J34: Vicky Davies | K34: 0.033125
A35: 33 | C35: 0.028877315 | D35: =N$4/HLOOKUP(DATEDIF(VLOOKUP(B35,Ages!A$1:D$164,4,FALSE),B$1,"y"),#REF!,28,FALSE) -> #REF! | E35: =C35/G$1 -> 0.005775463 | F35: 68 | G35: =(D35/C35) -> #REF! | I35: 33 | J35: Steve Jones | K35: 0.033252315
A36: 34 | C36: 0.034791667 | D36: =N$4/HLOOKUP(DATEDIF(VLOOKUP(B36,Ages!A$1:D$164,4,FALSE),B$1,"y"),#REF!,28,FALSE) -> #REF! | E36: =C36/G$1 -> 0.0069583333 | F36: 67 | G36: =(D36/C36) -> #REF! | I36: 34 | J36: Eiri Evans-Jones | K36: 0.033333333
A37: 35 | C37: 0.033333333 | D37: =N$3/HLOOKUP(DATEDIF(VLOOKUP(B37,Ages!A$1:D$164,4,FALSE),B$1,"y"),#REF!,28,FALSE) -> #REF! | E37: =C37/G$1 -> 0.0066666667 | F37: 66 | G37: =D37/C37 -> #REF! | I37: 35 | J37: Caroline Morgan | K37: 0.033530093
A38: 36 | C38: 0.032847222 | D38: =N$4/HLOOKUP(DATEDIF(VLOOKUP(B38,Ages!A$1:D$164,4,FALSE),B$1,"y"),#REF!,28,FALSE) -> #REF! | E38: =C38/G$1 -> 0.0065694444 | F38: 65 | G38: =(D38/C38) -> #REF! | I38: 36 | J38: Debbie Gibbs | K38: 0.034039352
A39: 37 | C39: 0.034039352 | D39: =N$3/HLOOKUP(DATEDIF(VLOOKUP(B39,Ages!A$1:D$164,4,FALSE),B$1,"y"),#REF!,28,FALSE) -> #REF! | E39: =C39/G$1 -> 0.0068078704 | F39: 64 | G39: =D39/C39 -> #REF! | I39: 37 | J39: Saran Lewis | K39: 0.034537037
A40: 38 | C40: 0.034537037 | D40: =N$3/HLOOKUP(DATEDIF(VLOOKUP(B40,Ages!A$1:D$164,4,FALSE),B$1,"y"),#REF!,28,FALSE) -> #REF! | E40: =C40/G$1 -> 0.0069074074 | F40: 63 | G40: =D40/C40 -> #REF! | I40: 38 | J40: David Doherty | K40: 0.034791667
A41: 39 | C41: 0.027673611 | D41: =N$4/HLOOKUP(DATEDIF(VLOOKUP(B41,Ages!A$1:D$164,4,FALSE),B$1,"y"),#REF!,28,FALSE) -> #REF! | E41: =C41/G$1 -> 0.0055347222 | F41: 62 | G41: =(D41/C41) -> #REF! | I41: 39 | J41: Manisha Rickards | K41: 0.034918981
A42: 40 | C42: 0.032002315 | D42: =N$3/HLOOKUP(DATEDIF(VLOOKUP(B42,Ages!A$1:D$164,4,FALSE),B$1,"y"),#REF!,28,FALSE) -> #REF! | E42: =C42/G$1 -> 0.006400463 | F42: 61 | G42: =D42/C42 -> #REF! | I42: 40 | J42: Victoria Holmes | K42: 0.036203704
A43: 41 | C43: 0.040810185 | D43: =N$3/HLOOKUP(DATEDIF(VLOOKUP(B43,Ages!A$1:D$164,4,FALSE),B$1,"y"),#REF!,28,FALSE) -> #REF! | E43: =C43/G$1 -> 0.008162037 | F43: 60 | G43: =D43/C43 -> #REF! | I43: 41 | J43: Leighton Jones | K43: 0.036909722
A44: 42 | C44: 0.029247685 | D44: =N$4/HLOOKUP(DATEDIF(VLOOKUP(B44,Ages!A$1:D$164,4,FALSE),B$1,"y"),#REF!,28,FALSE) -> #REF! | E44: =C44/G$1 -> 0.005849537 | F44: 59 | G44: =(D44/C44) -> #REF! | I44: 42 | J44: Sandra Rees | K44: 0.037314815
A45: 43 | C45: 0.033125 | D45: =N$3/HLOOKUP(DATEDIF(VLOOKUP(B45,Ages!A$1:D$164,4,FALSE),B$1,"y"),#REF!,28,FALSE) -> #REF! | E45: =C45/G$1 -> 0.006625 | F45: 58 | G45: =D45/C45 -> #REF! | I45: 43 | J45: Lynn Holmes | K45: 0.037326389
A46: 44 | C46: 0.029988426 | D46: =N$4/HLOOKUP(DATEDIF(VLOOKUP(B46,Ages!A$1:D$164,4,FALSE),B$1,"y"),#REF!,28,FALSE) -> #REF! | E46: =C46/G$1 -> 0.0059976852 | F46: 57 | G46: =(D46/C46) -> #REF! | I46: 44 | J46: Laura Hall | K46: 0.037337963
A47: 45 | C47: 0.036203704 | D47: =N$3/HLOOKUP(DATEDIF(VLOOKUP(B47,Ages!A$1:D$164,4,FALSE),B$1,"y"),#REF!,28,FALSE) -> #REF! | E47: =C47/G$1 -> 0.0072407407 | F47: 56 | G47: =D47/C47 -> #REF! | I47: 45 | J47: Jane Wallace | K47: 0.040810185
A48: 46 | C48: 0.053321759 | D48: =N$3/HLOOKUP(DATEDIF(VLOOKUP(B48,Ages!A$1:D$164,4,FALSE),B$1,"y"),#REF!,28,FALSE) -> #REF! | E48: =C48/G$1 -> 0.010664352 | F48: 55 | G48: =D48/C48 -> #REF! | I48: 46 | J48: Paula Stockley | K48: 0.053321759

Sheet Overall
B1: AGE GRADE Overall Results | L1: Best 5 races to count
A2: POS | B2: NAME | C2: RACES | D2: 1 | E2: 2 | F2: 3 | G2: 4 | H2: 5 | I2: 6 | J2: 7 | K2: 8 | L2: POINTS
A3: 1 | B3: Hans Thompson | C3: =COUNTIF(D3:K3,">0") -> 4 | D3: =IF(ISERROR(VLOOKUP(B3,'Race 1'!B$3:G$44,5,FALSE)),0,VLOOKUP(B3,'Race 1'!B$3:G$44,5,FALSE)) -> 99 | E3: =IF(ISERROR(VLOOKUP(B3,'Race 2'!$B$3:$F$66,5,FALSE)),0,VLOOKUP(B3,'Race 2'!$B$3:$F$66,5,FALSE)) -> 98 | F3: =IF(ISERROR(VLOOKUP(B3,'Race 3'!$B$3:$F$43,5,FALSE)),0,VLOOKUP(B3,'Race 3'!$B$3:$F$43,5,FALSE)) -> 99 | G3: =IF(ISERROR(VLOOKUP(B3,'Race 4'!$B$3:$F$53,5,FALSE)),0,VLOOKUP(B3,'Race 4'!$B$3:$F$53,5,FALSE)) -> 98 | H3: =IF(ISERROR(VLOOKUP(B3,'Race 5'!$B$3:$F$78,5,FALSE)),0,VLOOKUP(B3,'Race 5'!$B$3:$F$78,5,FALSE)) -> 0 | I3: =IF(ISERROR(VLOOKUP(B3,'Race 6'!B$3:G$42,5,FALSE)),0,VLOOKUP(B3,'Race 6'!B$3:G$42,5,FALSE)) -> 0 | J3: =IF(ISERROR(VLOOKUP(B3,'Race 7'!B$3:G$38,5,FALSE)),0,VLOOKUP(B3,'Race 7'!B$3:G$38,5,FALSE)) -> 0 | K3: =IF(ISERROR(VLOOKUP(B3,'Race 8'!B$3:J$50,5,FALSE)),0,VLOOKUP(B3,'Race 8'!B$3:J$50,5,FALSE)) -> 0 | L3: {=SUM(LARGE(D3:K3,{1,2,3,4,5}))} -> 394
A4: 2 | B4: Rob Sandles | C4: =COUNTIF(D4:K4,">0") -> 4 | D4: =IF(ISERROR(VLOOKUP(B4,'Race 1'!B$3:G$44,5,FALSE)),0,VLOOKUP(B4,'Race 1'!B$3:G$44,5,FALSE)) -> 92 | E4: =IF(ISERROR(VLOOKUP(B4,'Race 2'!$B$3:$F$66,5,FALSE)),0,VLOOKUP(B4,'Race 2'!$B$3:$F$66,5,FALSE)) -> 91 | F4: =IF(ISERROR(VLOOKUP(B4,'Race 3'!$B$3:$F$43,5,FALSE)),0,VLOOKUP(B4,'Race 3'!$B$3:$F$43,5,FALSE)) -> 97 | G4: =IF(ISERROR(VLOOKUP(B4,'Race 4'!$B$3:$F$53,5,FALSE)),0,VLOOKUP(B4,'Race 4'!$B$3:$F$53,5,FALSE)) -> 93 | H4: =IF(ISERROR(VLOOKUP(B4,'Race 5'!$B$3:$F$78,5,FALSE)),0,VLOOKUP(B4,'Race 5'!$B$3:$F$78,5,FALSE)) -> 0 | I4: =IF(ISERROR(VLOOKUP(B4,'Race 6'!B$3:G$42,5,FALSE)),0,VLOOKUP(B4,'Race 6'!B$3:G$42,5,FALSE)) -> 0 | J4: =IF(ISERROR(VLOOKUP(B4,'Race 7'!B$3:G$38,5,FALSE)),0,VLOOKUP(B4,'Race 7'!B$3:G$38,5,FALSE)) -> 0 | K4: =IF(ISERROR(VLOOKUP(B4,'Race 8'!B$3:J$45,5,FALSE)),0,VLOOKUP(B4,'Race 8'!B$3:J$45,5,FALSE)) -> 0 | L4: {=SUM(LARGE(D4:K4,{1,2,3,4,5}))} -> 373
A5: 3 | B5: Leighton Jones | C5: =COUNTIF(D5:K5,">0") -> 4 | D5: =IF(ISERROR(VLOOKUP(B5,'Race 1'!B$3:G$44,5,FALSE)),0,VLOOKUP(B5,'Race 1'!B$3:G$44,5,FALSE)) -> 93 | E5: =IF(ISERROR(VLOOKUP(B5,'Race 2'!$B$3:$F$66,5,FALSE)),0,VLOOKUP(B5,'Race 2'!$B$3:$F$66,5,FALSE)) -> 92 | F5: =IF(ISERROR(VLOOKUP(B5,'Race 3'!$B$3:$F$43,5,FALSE)),0,VLOOKUP(B5,'Race 3'!$B$3:$F$43,5,FALSE)) -> 91 | G5: =IF(ISERROR(VLOOKUP(B5,'Race 4'!$B$3:$F$53,5,FALSE)),0,VLOOKUP(B5,'Race 4'!$B$3:$F$53,5,FALSE)) -> 91 | H5: =IF(ISERROR(VLOOKUP(B5,'Race 5'!$B$3:$F$78,5,FALSE)),0,VLOOKUP(B5,'Race 5'!$B$3:$F$78,5,FALSE)) -> 0 | I5: =IF(ISERROR(VLOOKUP(B5,'Race 6'!B$3:G$42,5,FALSE)),0,VLOOKUP(B5,'Race 6'!B$3:G$42,5,FALSE)) -> 0 | J5: =IF(ISERROR(VLOOKUP(B5,'Race 7'!B$3:G$38,5,FALSE)),0,VLOOKUP(B5,'Race 7'!B$3:G$38,5,FALSE)) -> 0 | K5: =IF(ISERROR(VLOOKUP(B5,'Race 8'!B$3:J$50,5,FALSE)),0,VLOOKUP(B5,'Race 8'!B$3:J$50,5,FALSE)) -> 0 | L5: {=SUM(LARGE(D5:K5,{1,2,3,4,5}))} -> 367
A6: 4 | B6: Diane Ridgeway | C6: =COUNTIF(D6:K6,">0") -> 4 | D6: =IF(ISERROR(VLOOKUP(B6,'Race 1'!B$3:G$44,5,FALSE)),0,VLOOKUP(B6,'Race 1'!B$3:G$44,5,FALSE)) -> 90 | E6: =IF(ISERROR(VLOOKUP(B6,'Race 2'!$B$3:$F$66,5,FALSE)),0,VLOOKUP(B6,'Race 2'!$B$3:$F$66,5,FALSE)) -> 89 | F6: =IF(ISERROR(VLOOKUP(B6,'Race 3'!$B$3:$F$43,5,FALSE)),0,VLOOKUP(B6,'Race 3'!$B$3:$F$43,5,FALSE)) -> 87 | G6: =IF(ISERROR(VLOOKUP(B6,'Race 4'!$B$3:$F$53,5,FALSE)),0,VLOOKUP(B6,'Race 4'!$B$3:$F$53,5,FALSE)) -> 89 | H6: =IF(ISERROR(VLOOKUP(B6,'Race 5'!$B$3:$F$78,5,FALSE)),0,VLOOKUP(B6,'Race 5'!$B$3:$F$78,5,FALSE)) -> 0 | I6: =IF(ISERROR(VLOOKUP(B6,'Race 6'!B$3:G$42,5,FALSE)),0,VLOOKUP(B6,'Race 6'!B$3:G$42,5,FALSE)) -> 0 | J6: =IF(ISERROR(VLOOKUP(B6,'Race 7'!B$3:G$38,5,FALSE)),0,VLOOKUP(B6,'Race 7'!B$3:G$38,5,FALSE)) -> 0 | K6: =IF(ISERROR(VLOOKUP(B6,'Race 8'!B$3:J$50,5,FALSE)),0,VLOOKUP(B6,'Race 8'!B$3:J$50,5,FALSE)) -> 0 | L6: {=SUM(LARGE(D6:K6,{1,2,3,4,5}))} -> 355
A7: 5 | B7: Caroline Sandles | C7: =COUNTIF(D7:K7,">0") -> 4 | D7: =IF(ISERROR(VLOOKUP(B7,'Race 1'!B$3:G$44,5,FALSE)),0,VLOOKUP(B7,'Race 1'!B$3:G$44,5,FALSE)) -> 89 | E7: =IF(ISERROR(VLOOKUP(B7,'Race 2'!$B$3:$F$66,5,FALSE)),0,VLOOKUP(B7,'Race 2'!$B$3:$F$66,5,FALSE)) -> 86 | F7: =IF(ISERROR(VLOOKUP(B7,'Race 3'!$B$3:$F$43,5,FALSE)),0,VLOOKUP(B7,'Race 3'!$B$3:$F$43,5,FALSE)) -> 92 | G7: =IF(ISERROR(VLOOKUP(B7,'Race 4'!$B$3:$F$53,5,FALSE)),0,VLOOKUP(B7,'Race 4'!$B$3:$F$53,5,FALSE)) -> 88 | H7: =IF(ISERROR(VLOOKUP(B7,'Race 5'!$B$3:$F$78,5,FALSE)),0,VLOOKUP(B7,'Race 5'!$B$3:$F$78,5,FALSE)) -> 0 | I7: =IF(ISERROR(VLOOKUP(B7,'Race 6'!B$3:G$42,5,FALSE)),0,VLOOKUP(B7,'Race 6'!B$3:G$42,5,FALSE)) -> 0 | J7: =IF(ISERROR(VLOOKUP(B7,'Race 7'!B$3:G$38,5,FALSE)),0,VLOOKUP(B7,'Race 7'!B$3:G$38,5,FALSE)) -> 0 | K7: =IF(ISERROR(VLOOKUP(B7,'Race 8'!B$3:J$50,5,FALSE)),0,VLOOKUP(B7,'Race 8'!B$3:J$50,5,FALSE)) -> 0 | L7: {=SUM(LARGE(D7:K7,{1,2,3,4,5}))} -> 355
A8: 6 | B8: Peter Clement | C8: =COUNTIF(D8:K8,">0") -> 4 | D8: =IF(ISERROR(VLOOKUP(B8,'Race 1'!B$3:G$44,5,FALSE)),0,VLOOKUP(B8,'Race 1'!B$3:G$44,5,FALSE)) -> 88 | E8: =IF(ISERROR(VLOOKUP(B8,'Race 2'!$B$3:$F$66,5,FALSE)),0,VLOOKUP(B8,'Race 2'!$B$3:$F$66,5,FALSE)) -> 84 | F8: =IF(ISERROR(VLOOKUP(B8,'Race 3'!$B$3:$F$43,5,FALSE)),0,VLOOKUP(B8,'Race 3'!$B$3:$F$43,5,FALSE)) -> 84 | G8: =IF(ISERROR(VLOOKUP(B8,'Race 4'!$B$3:$F$53,5,FALSE)),0,VLOOKUP(B8,'Race 4'!$B$3:$F$53,5,FALSE)) -> 87 | H8: =IF(ISERROR(VLOOKUP(B8,'Race 5'!$B$3:$F$78,5,FALSE)),0,VLOOKUP(B8,'Race 5'!$B$3:$F$78,5,FALSE)) -> 0 | I8: =IF(ISERROR(VLOOKUP(B8,'Race 6'!B$3:G$42,5,FALSE)),0,VLOOKUP(B8,'Race 6'!B$3:G$42,5,FALSE)) -> 0 | J8: =IF(ISERROR(VLOOKUP(B8,'Race 7'!B$3:G$38,5,FALSE)),0,VLOOKUP(B8,'Race 7'!B$3:G$38,5,FALSE)) -> 0 | K8: =IF(ISERROR(VLOOKUP(B8,'Race 8'!B$3:J$45,5,FALSE)),0,VLOOKUP(B8,'Race 8'!B$3:J$45,5,FALSE)) -> 0 | L8: {=SUM(LARGE(D8:K8,{1,2,3,4,5}))} -> 343
A9: 7 | B9: Aron Jones | C9: =COUNTIF(D9:K9,">0") -> 4 | D9: =IF(ISERROR(VLOOKUP(B9,'Race 1'!B$3:G$44,5,FALSE)),0,VLOOKUP(B9,'Race 1'!B$3:G$44,5,FALSE)) -> 84 | E9: =IF(ISERROR(VLOOKUP(B9,'Race 2'!$B$3:$F$66,5,FALSE)),0,VLOOKUP(B9,'Race 2'!$B$3:$F$66,5,FALSE)) -> 85 | F9: =IF(ISERROR(VLOOKUP(B9,'Race 3'!$B$3:$F$43,5,FALSE)),0,VLOOKUP(B9,'Race 3'!$B$3:$F$43,5,FALSE)) -> 88 | G9: =IF(ISERROR(VLOOKUP(B9,'Race 4'!$B$3:$F$53,5,FALSE)),0,VLOOKUP(B9,'Race 4'!$B$3:$F$53,5,FALSE)) -> 83 | H9: =IF(ISERROR(VLOOKUP(B9,'Race 5'!$B$3:$F$78,5,FALSE)),0,VLOOKUP(B9,'Race 5'!$B$3:$F$78,5,FALSE)) -> 0 | I9: =IF(ISERROR(VLOOKUP(B9,'Race 6'!B$3:G$42,5,FALSE)),0,VLOOKUP(B9,'Race 6'!B$3:G$42,5,FALSE)) -> 0 | J9: =IF(ISERROR(VLOOKUP(B9,'Race 7'!B$3:G$38,5,FALSE)),0,VLOOKUP(B9,'Race 7'!B$3:G$38,5,FALSE)) -> 0 | K9: =IF(ISERROR(VLOOKUP(B9,'Race 8'!B$3:J$45,5,FALSE)),0,VLOOKUP(B9,'Race 8'!B$3:J$45,5,FALSE)) -> 0 | L9: {=SUM(LARGE(D9:K9,{1,2,3,4,5}))} -> 340
A10: 8 | B10: Justin Sperrin | C10: =COUNTIF(D10:K10,">0") -> 4 | D10: =IF(ISERROR(VLOOKUP(B10,'Race 1'!B$3:G$44,5,FALSE)),0,VLOOKUP(B10,'Race 1'!B$3:G$44,5,FALSE)) -> 82 | E10: =IF(ISERROR(VLOOKUP(B10,'Race 2'!$B$3:$F$66,5,FALSE)),0,VLOOKUP(B10,'Race 2'!$B$3:$F$66,5,FALSE)) -> 83 | F10: =IF(ISERROR(VLOOKUP(B10,'Race 3'!$B$3:$F$43,5,FALSE)),0,VLOOKUP(B10,'Race 3'!$B$3:$F$43,5,FALSE)) -> 85 | G10: =IF(ISERROR(VLOOKUP(B10,'Race 4'!$B$3:$F$53,5,FALSE)),0,VLOOKUP(B10,'Race 4'!$B$3:$F$53,5,FALSE)) -> 78 | H10: =IF(ISERROR(VLOOKUP(B10,'Race 5'!$B$3:$F$78,5,FALSE)),0,VLOOKUP(B10,'Race 5'!$B$3:$F$78,5,FALSE)) -> 0 | I10: =IF(ISERROR(VLOOKUP(B10,'Race 6'!B$3:G$42,5,FALSE)),0,VLOOKUP(B10,'Race 6'!B$3:G$42,5,FALSE)) -> 0 | J10: =IF(ISERROR(VLOOKUP(B10,'Race 7'!B$3:G$38,5,FALSE)),0,VLOOKUP(B10,'Race 7'!B$3:G$38,5,FALSE)) -> 0 | K10: =IF(ISERROR(VLOOKUP(B10,'Race 8'!B$3:J$50,5,FALSE)),0,VLOOKUP(B10,'Race 8'!B$3:J$50,5,FALSE)) -> 0 | L10: {=SUM(LARGE(D10:K10,{1,2,3,4,5}))} -> 328
A11: 9 | B11: David Doherty | C11: =COUNTIF(D11:K11,">0") -> 4 | D11: =IF(ISERROR(VLOOKUP(B11,'Race 1'!B$3:G$44,5,FALSE)),0,VLOOKUP(B11,'Race 1'!B$3:G$44,5,FALSE)) -> 77 | E11: =IF(ISERROR(VLOOKUP(B11,'Race 2'!$B$3:$F$66,5,FALSE)),0,VLOOKUP(B11,'Race 2'!$B$3:$F$66,5,FALSE)) -> 82 | F11: =IF(ISERROR(VLOOKUP(B11,'Race 3'!$B$3:$F$43,5,FALSE)),0,VLOOKUP(B11,'Race 3'!$B$3:$F$43,5,FALSE)) -> 76 | G11: =IF(ISERROR(VLOOKUP(B11,'Race 4'!$B$3:$F$53,5,FALSE)),0,VLOOKUP(B11,'Race 4'!$B$3:$F$53,5,FALSE)) -> 77 | H11: =IF(ISERROR(VLOOKUP(B11,'Race 5'!$B$3:$F$78,5,FALSE)),0,VLOOKUP(B11,'Race 5'!$B$3:$F$78,5,FALSE)) -> 0 | I11: =IF(ISERROR(VLOOKUP(B11,'Race 6'!B$3:G$42,5,FALSE)),0,VLOOKUP(B11,'Race 6'!B$3:G$42,5,FALSE)) -> 0 | J11: =IF(ISERROR(VLOOKUP(B11,'Race 7'!B$3:G$38,5,FALSE)),0,VLOOKUP(B11,'Race 7'!B$3:G$38,5,FALSE)) -> 0 | K11: =IF(ISERROR(VLOOKUP(B11,'Race 8'!B$3:J$50,5,FALSE)),0,VLOOKUP(B11,'Race 8'!B$3:J$50,5,FALSE)) -> 0 | L11: {=SUM(LARGE(D11:K11,{1,2,3,4,5}))} -> 312
A12: 10 | B12: Ashley Pascoe | C12: =COUNTIF(D12:K12,">0") -> 3 | D12: =IF(ISERROR(VLOOKUP(B12,'Race 1'!B$3:G$44,5,FALSE)),0,VLOOKUP(B12,'Race 1'!B$3:G$44,5,FALSE)) -> 0 | E12: =IF(ISERROR(VLOOKUP(B12,'Race 2'!$B$3:$F$66,5,FALSE)),0,VLOOKUP(B12,'Race 2'!$B$3:$F$66,5,FALSE)) -> 100 | F12: =IF(ISERROR(VLOOKUP(B12,'Race 3'!$B$3:$F$43,5,FALSE)),0,VLOOKUP(B12,'Race 3'!$B$3:$F$43,5,FALSE)) -> 100 | G12: =IF(ISERROR(VLOOKUP(B12,'Race 4'!$B$3:$F$53,5,FALSE)),0,VLOOKUP(B12,'Race 4'!$B$3:$F$53,5,FALSE)) -> 99 | H12: =IF(ISERROR(VLOOKUP(B12,'Race 5'!$B$3:$F$78,5,FALSE)),0,VLOOKUP(B12,'Race 5'!$B$3:$F$78,5,FALSE)) -> 0 | I12: =IF(ISERROR(VLOOKUP(B12,'Race 6'!B$3:G$42,5,FALSE)),0,VLOOKUP(B12,'Race 6'!B$3:G$42,5,FALSE)) -> 0 | J12: =IF(ISERROR(VLOOKUP(B12,'Race 7'!B$3:G$38,5,FALSE)),0,VLOOKUP(B12,'Race 7'!B$3:G$38,5,FALSE)) -> 0 | K12: =IF(ISERROR(VLOOKUP(B12,'Race 8'!B$3:J$50,5,FALSE)),0,VLOOKUP(B12,'Race 8'!B$3:J$50,5,FALSE)) -> 0 | L12: {=SUM(LARGE(D12:K12,{1,2,3,4,5}))} -> 299
A13: 11 | B13: Gavin Davies | C13: =COUNTIF(D13:K13,">0") -> 3 | D13: =IF(ISERROR(VLOOKUP(B13,'Race 1'!B$3:G$44,5,FALSE)),0,VLOOKUP(B13,'Race 1'!B$3:G$44,5,FALSE)) -> 100 | E13: =IF(ISERROR(VLOOKUP(B13,'Race 2'!$B$3:$F$66,5,FALSE)),0,VLOOKUP(B13,'Race 2'!$B$3:$F$66,5,FALSE)) -> 99 | F13: =IF(ISERROR(VLOOKUP(B13,'Race 3'!$B$3:$F$43,5,FALSE)),0,VLOOKUP(B13,'Race 3'!$B$3:$F$43,5,FALSE)) -> 0 | G13: =IF(ISERROR(VLOOKUP(B13,'Race 4'!$B$3:$F$53,5,FALSE)),0,VLOOKUP(B13,'Race 4'!$B$3:$F$53,5,FALSE)) -> 95 | H13: =IF(ISERROR(VLOOKUP(B13,'Race 5'!$B$3:$F$78,5,FALSE)),0,VLOOKUP(B13,'Race 5'!$B$3:$F$78,5,FALSE)) -> 0 | I13: =IF(ISERROR(VLOOKUP(B13,'Race 6'!B$3:G$42,5,FALSE)),0,VLOOKUP(B13,'Race 6'!B$3:G$42,5,FALSE)) -> 0 | J13: =IF(ISERROR(VLOOKUP(B13,'Race 7'!B$3:G$38,5,FALSE)),0,VLOOKUP(B13,'Race 7'!B$3:G$38,5,FALSE)) -> 0 | K13: =IF(ISERROR(VLOOKUP(B13,'Race 8'!B$3:J$50,5,FALSE)),0,VLOOKUP(B13,'Race 8'!B$3:J$50,5,FALSE)) -> 0 | L13: {=SUM(LARGE(D13:K13,{1,2,3,4,5}))} -> 294
A14: 11 | B14: Gareth Parry | C14: =COUNTIF(D14:K14,">0") -> 3 | D14: =IF(ISERROR(VLOOKUP(B14,'Race 1'!B$3:G$44,5,FALSE)),0,VLOOKUP(B14,'Race 1'!B$3:G$44,5,FALSE)) -> 98 | E14: =IF(ISERROR(VLOOKUP(B14,'Race 2'!$B$3:$F$66,5,FALSE)),0,VLOOKUP(B14,'Race 2'!$B$3:$F$66,5,FALSE)) -> 97 | F14: =IF(ISERROR(VLOOKUP(B14,'Race 3'!$B$3:$F$43,5,FALSE)),0,VLOOKUP(B14,'Race 3'!$B$3:$F$43,5,FALSE)) -> 0 | G14: =IF(ISERROR(VLOOKUP(B14,'Race 4'!$B$3:$F$53,5,FALSE)),0,VLOOKUP(B14,'Race 4'!$B$3:$F$53,5,FALSE)) -> 97 | H14: =IF(ISERROR(VLOOKUP(B14,'Race 5'!$B$3:$F$78,5,FALSE)),0,VLOOKUP(B14,'Race 5'!$B$3:$F$78,5,FALSE)) -> 0 | I14: =IF(ISERROR(VLOOKUP(B14,'Race 6'!B$3:G$42,5,FALSE)),0,VLOOKUP(B14,'Race 6'!B$3:G$42,5,FALSE)) -> 0 | J14: =IF(ISERROR(VLOOKUP(B14,'Race 7'!B$3:G$38,5,FALSE)),0,VLOOKUP(B14,'Race 7'!B$3:G$38,5,FALSE)) -> 0 | K14: =IF(ISERROR(VLOOKUP(B14,'Race 8'!B$3:J$50,5,FALSE)),0,VLOOKUP(B14,'Race 8'!B$3:J$50,5,FALSE)) -> 0 | L14: {=SUM(LARGE(D14:K14,{1,2,3,4,5}))} -> 292
A15: 12 | B15: Francis Heron | C15: =COUNTIF(D15:K15,">0") -> 3 | D15: =IF(ISERROR(VLOOKUP(B15,'Race 1'!B$3:G$44,5,FALSE)),0,VLOOKUP(B15,'Race 1'!B$3:G$44,5,FALSE)) -> 96 | E15: =IF(ISERROR(VLOOKUP(B15,'Race 2'!$B$3:$F$66,5,FALSE)),0,VLOOKUP(B15,'Race 2'!$B$3:$F$66,5,FALSE)) -> 96 | F15: =IF(ISERROR(VLOOKUP(B15,'Race 3'!$B$3:$F$43,5,FALSE)),0,VLOOKUP(B15,'Race 3'!$B$3:$F$43,5,FALSE)) -> 0 | G15: =IF(ISERROR(VLOOKUP(B15,'Race 4'!$B$3:$F$53,5,FALSE)),0,VLOOKUP(B15,'Race 4'!$B$3:$F$53,5,FALSE)) -> 94 | H15: =IF(ISERROR(VLOOKUP(B15,'Race 5'!$B$3:$F$78,5,FALSE)),0,VLOOKUP(B15,'Race 5'!$B$3:$F$78,5,FALSE)) -> 0 | I15: =IF(ISERROR(VLOOKUP(B15,'Race 6'!B$3:G$42,5,FALSE)),0,VLOOKUP(B15,'Race 6'!B$3:G$42,5,FALSE)) -> 0 | J15: =IF(ISERROR(VLOOKUP(B15,'Race 7'!B$3:G$38,5,FALSE)),0,VLOOKUP(B15,'Race 7'!B$3:G$38,5,FALSE)) -> 0 | K15: =IF(ISERROR(VLOOKUP(B15,'Race 8'!B$3:J$50,5,FALSE)),0,VLOOKUP(B15,'Race 8'!B$3:J$50,5,FALSE)) -> 0 | L15: {=SUM(LARGE(D15:K15,{1,2,3,4,5}))} -> 286
A16: 13 | B16: Fran Newman | C16: =COUNTIF(D16:K16,">0") -> 3 | D16: =IF(ISERROR(VLOOKUP(B16,'Race 1'!B$3:G$44,5,FALSE)),0,VLOOKUP(B16,'Race 1'!B$3:G$44,5,FALSE)) -> 0 | E16: =IF(ISERROR(VLOOKUP(B16,'Race 2'!$B$3:$F$66,5,FALSE)),0,VLOOKUP(B16,'Race 2'!$B$3:$F$66,5,FALSE)) -> 94 | F16: =IF(ISERROR(VLOOKUP(B16,'Race 3'!$B$3:$F$43,5,FALSE)),0,VLOOKUP(B16,'Race 3'!$B$3:$F$43,5,FALSE)) -> 96 | G16: =IF(ISERROR(VLOOKUP(B16,'Race 4'!$B$3:$F$53,5,FALSE)),0,VLOOKUP(B16,'Race 4'!$B$3:$F$53,5,FALSE)) -> 92 | H16: =IF(ISERROR(VLOOKUP(B16,'Race 5'!$B$3:$F$78,5,FALSE)),0,VLOOKUP(B16,'Race 5'!$B$3:$F$78,5,FALSE)) -> 0 | I16: =IF(ISERROR(VLOOKUP(B16,'Race 6'!B$3:G$42,5,FALSE)),0,VLOOKUP(B16,'Race 6'!B$3:G$42,5,FALSE)) -> 0 | J16: =IF(ISERROR(VLOOKUP(B16,'Race 7'!B$3:G$38,5,FALSE)),0,VLOOKUP(B16,'Race 7'!B$3:G$38,5,FALSE)) -> 0 | K16: =IF(ISERROR(VLOOKUP(B16,'Race 8'!B$3:J$50,5,FALSE)),0,VLOOKUP(B16,'Race 8'!B$3:J$50,5,FALSE)) -> 0 | L16: {=SUM(LARGE(D16:K16,{1,2,3,4,5}))} -> 282
A17: 14 | B17: Paul Jenkins | C17: =COUNTIF(D17:K17,">0") -> 3 | D17: =IF(ISERROR(VLOOKUP(B17,'Race 1'!B$3:G$44,5,FALSE)),0,VLOOKUP(B17,'Race 1'!B$3:G$44,5,FALSE)) -> 95 | E17: =IF(ISERROR(VLOOKUP(B17,'Race 2'!$B$3:$F$66,5,FALSE)),0,VLOOKUP(B17,'Race 2'!$B$3:$F$66,5,FALSE)) -> 93 | F17: =IF(ISERROR(VLOOKUP(B17,'Race 3'!$B$3:$F$43,5,FALSE)),0,VLOOKUP(B17,'Race 3'!$B$3:$F$43,5,FALSE)) -> 94 | G17: =IF(ISERROR(VLOOKUP(B17,'Race 4'!$B$3:$F$53,5,FALSE)),0,VLOOKUP(B17,'Race 4'!$B$3:$F$53,5,FALSE)) -> 0 | H17: =IF(ISERROR(VLOOKUP(B17,'Race 5'!$B$3:$F$78,5,FALSE)),0,VLOOKUP(B17,'Race 5'!$B$3:$F$78,5,FALSE)) -> 0 | I17: =IF(ISERROR(VLOOKUP(B17,'Race 6'!B$3:G$42,5,FALSE)),0,VLOOKUP(B17,'Race 6'!B$3:G$42,5,FALSE)) -> 0 | J17: =IF(ISERROR(VLOOKUP(B17,'Race 7'!B$3:G$38,5,FALSE)),0,VLOOKUP(B17,'Race 7'!B$3:G$38,5,FALSE)) -> 0 | K17: =IF(ISERROR(VLOOKUP(B17,'Race 8'!B$3:J$45,5,FALSE)),0,VLOOKUP(B17,'Race 8'!B$3:J$45,5,FALSE)) -> 0 | L17: {=SUM(LARGE(D17:K17,{1,2,3,4,5}))} -> 282
A18: 15 | B18: Eiri Evans-Jones | C18: =COUNTIF(D18:K18,">0") -> 4 | D18: =IF(ISERROR(VLOOKUP(B18,'Race 1'!B$3:G$44,5,FALSE)),0,VLOOKUP(B18,'Race 1'!B$3:G$44,5,FALSE)) -> 67 | E18: =IF(ISERROR(VLOOKUP(B18,'Race 2'!$B$3:$F$66,5,FALSE)),0,VLOOKUP(B18,'Race 2'!$B$3:$F$66,5,FALSE)) -> 67 | F18: =IF(ISERROR(VLOOKUP(B18,'Race 3'!$B$3:$F$43,5,FALSE)),0,VLOOKUP(B18,'Race 3'!$B$3:$F$43,5,FALSE)) -> 70 | G18: =IF(ISERROR(VLOOKUP(B18,'Race 4'!$B$3:$F$53,5,FALSE)),0,VLOOKUP(B18,'Race 4'!$B$3:$F$53,5,FALSE)) -> 68 | H18: =IF(ISERROR(VLOOKUP(B18,'Race 5'!$B$3:$F$78,5,FALSE)),0,VLOOKUP(B18,'Race 5'!$B$3:$F$78,5,FALSE)) -> 0 | I18: =IF(ISERROR(VLOOKUP(B18,'Race 6'!B$3:G$42,5,FALSE)),0,VLOOKUP(B18,'Race 6'!B$3:G$42,5,FALSE)) -> 0 | J18: =IF(ISERROR(VLOOKUP(B18,'Race 7'!B$3:G$38,5,FALSE)),0,VLOOKUP(B18,'Race 7'!B$3:G$38,5,FALSE)) -> 0 | K18: =IF(ISERROR(VLOOKUP(B18,'Race 8'!B$3:J$50,5,FALSE)),0,VLOOKUP(B18,'Race 8'!B$3:J$50,5,FALSE)) -> 0 | L18: {=SUM(LARGE(D18:K18,{1,2,3,4,5}))} -> 272
A19: 16 | B19: Julie Archer | C19: =COUNTIF(D19:K19,">0") -> 3 | D19: =IF(ISERROR(VLOOKUP(B19,'Race 1'!B$3:G$44,5,FALSE)),0,VLOOKUP(B19,'Race 1'!B$3:G$44,5,FALSE)) -> 94 | E19: =IF(ISERROR(VLOOKUP(B19,'Race 2'!$B$3:$F$66,5,FALSE)),0,VLOOKUP(B19,'Race 2'!$B$3:$F$66,5,FALSE)) -> 88 | F19: =IF(ISERROR(VLOOKUP(B19,'Race 3'!$B$3:$F$43,5,FALSE)),0,VLOOKUP(B19,'Race 3'!$B$3:$F$43,5,FALSE)) -> 0 | G19: =IF(ISERROR(VLOOKUP(B19,'Race 4'!$B$3:$F$53,5,FALSE)),0,VLOOKUP(B19,'Race 4'!$B$3:$F$53,5,FALSE)) -> 84 | H19: =IF(ISERROR(VLOOKUP(B19,'Race 5'!$B$3:$F$78,5,FALSE)),0,VLOOKUP(B19,'Race 5'!$B$3:$F$78,5,FALSE)) -> 0 | I19: =IF(ISERROR(VLOOKUP(B19,'Race 6'!B$3:G$42,5,FALSE)),0,VLOOKUP(B19,'Race 6'!B$3:G$42,5,FALSE)) -> 0 | J19: =IF(ISERROR(VLOOKUP(B19,'Race 7'!B$3:G$38,5,FALSE)),0,VLOOKUP(B19,'Race 7'!B$3:G$38,5,FALSE)) -> 0 | K19: =IF(ISERROR(VLOOKUP(B19,'Race 8'!B$3:J$50,5,FALSE)),0,VLOOKUP(B19,'Race 8'!B$3:J$50,5,FALSE)) -> 0 | L19: {=SUM(LARGE(D19:K19,{1,2,3,4,5}))} -> 266
A20: 17 | B20: Cris Arnold | C20: =COUNTIF(D20:K20,">0") -> 3 | D20: =IF(ISERROR(VLOOKUP(B20,'Race 1'!B$3:G$44,5,FALSE)),0,VLOOKUP(B20,'Race 1'!B$3:G$44,5,FALSE)) -> 86 | E20: =IF(ISERROR(VLOOKUP(B20,'Race 2'!$B$3:$F$66,5,FALSE)),0,VLOOKUP(B20,'Race 2'!$B$3:$F$66,5,FALSE)) -> 0 | F20: =IF(ISERROR(VLOOKUP(B20,'Race 3'!$B$3:$F$43,5,FALSE)),0,VLOOKUP(B20,'Race 3'!$B$3:$F$43,5,FALSE)) -> 98 | G20: =IF(ISERROR(VLOOKUP(B20,'Race 4'!$B$3:$F$53,5,FALSE)),0,VLOOKUP(B20,'Race 4'!$B$3:$F$53,5,FALSE)) -> 82 | H20: =IF(ISERROR(VLOOKUP(B20,'Race 5'!$B$3:$F$78,5,FALSE)),0,VLOOKUP(B20,'Race 5'!$B$3:$F$78,5,FALSE)) -> 0 | I20: =IF(ISERROR(VLOOKUP(B20,'Race 6'!B$3:G$42,5,FALSE)),0,VLOOKUP(B20,'Race 6'!B$3:G$42,5,FALSE)) -> 0 | J20: =IF(ISERROR(VLOOKUP(B20,'Race 7'!B$3:G$38,5,FALSE)),0,VLOOKUP(B20,'Race 7'!B$3:G$38,5,FALSE)) -> 0 | K20: =IF(ISERROR(VLOOKUP(B20,'Race 8'!B$3:J$50,5,FALSE)),0,VLOOKUP(B20,'Race 8'!B$3:J$50,5,FALSE)) -> 0 | L20: {=SUM(LARGE(D20:K20,{1,2,3,4,5}))} -> 266
A21: 18 | B21: Megan Chick | C21: =COUNTIF(D21:K21,">0") -> 3 | D21: =IF(ISERROR(VLOOKUP(B21,'Race 1'!B$3:G$44,5,FALSE)),0,VLOOKUP(B21,'Race 1'!B$3:G$44,5,FALSE)) -> 87 | E21: =IF(ISERROR(VLOOKUP(B21,'Race 2'!$B$3:$F$66,5,FALSE)),0,VLOOKUP(B21,'Race 2'!$B$3:$F$66,5,FALSE)) -> 87 | F21: =IF(ISERROR(VLOOKUP(B21,'Race 3'!$B$3:$F$43,5,FALSE)),0,VLOOKUP(B21,'Race 3'!$B$3:$F$43,5,FALSE)) -> 90 | G21: =IF(ISERROR(VLOOKUP(B21,'Race 4'!$B$3:$F$53,5,FALSE)),0,VLOOKUP(B21,'Race 4'!$B$3:$F$53,5,FALSE)) -> 0 | H21: =IF(ISERROR(VLOOKUP(B21,'Race 5'!$B$3:$F$78,5,FALSE)),0,VLOOKUP(B21,'Race 5'!$B$3:$F$78,5,FALSE)) -> 0 | I21: =IF(ISERROR(VLOOKUP(B21,'Race 6'!B$3:G$42,5,FALSE)),0,VLOOKUP(B21,'Race 6'!B$3:G$42,5,FALSE)) -> 0 | J21: =IF(ISERROR(VLOOKUP(B21,'Race 7'!B$3:G$38,5,FALSE)),0,VLOOKUP(B21,'Race 7'!B$3:G$38,5,FALSE)) -> 0 | K21: =IF(ISERROR(VLOOKUP(B21,'Race 8'!B$3:J$50,5,FALSE)),0,VLOOKUP(B21,'Race 8'!B$3:J$50,5,FALSE)) -> 0 | L21: {=SUM(LARGE(D21:K21,{1,2,3,4,5}))} -> 264
A22: 19 | B22: Sean Morgans | C22: =COUNTIF(D22:K22,">0") -> 3 | D22: =IF(ISERROR(VLOOKUP(B22,'Race 1'!B$3:G$44,5,FALSE)),0,VLOOKUP(B22,'Race 1'!B$3:G$44,5,FALSE)) -> 85 | E22: =IF(ISERROR(VLOOKUP(B22,'Race 2'!$B$3:$F$66,5,FALSE)),0,VLOOKUP(B22,'Race 2'!$B$3:$F$66,5,FALSE)) -> 0 | F22: =IF(ISERROR(VLOOKUP(B22,'Race 3'!$B$3:$F$43,5,FALSE)),0,VLOOKUP(B22,'Race 3'!$B$3:$F$43,5,FALSE)) -> 86 | G22: =IF(ISERROR(VLOOKUP(B22,'Race 4'!$B$3:$F$53,5,FALSE)),0,VLOOKUP(B22,'Race 4'!$B$3:$F$53,5,FALSE)) -> 86 | H22: =IF(ISERROR(VLOOKUP(B22,'Race 5'!$B$3:$F$78,5,FALSE)),0,VLOOKUP(B22,'Race 5'!$B$3:$F$78,5,FALSE)) -> 0 | I22: =IF(ISERROR(VLOOKUP(B22,'Race 6'!B$3:G$42,5,FALSE)),0,VLOOKUP(B22,'Race 6'!B$3:G$42,5,FALSE)) -> 0 | J22: =IF(ISERROR(VLOOKUP(B22,'Race 7'!B$3:G$38,5,FALSE)),0,VLOOKUP(B22,'Race 7'!B$3:G$38,5,FALSE)) -> 0 | K22: =IF(ISERROR(VLOOKUP(B22,'Race 8'!B$3:J$50,5,FALSE)),0,VLOOKUP(B22,'Race 8'!B$3:J$50,5,FALSE)) -> 0 | L22: {=SUM(LARGE(D22:K22,{1,2,3,4,5}))} -> 257
A23: 20 | B23: Jia Ping Lee | C23: =COUNTIF(D23:K23,">0") -> 4 | D23: =IF(ISERROR(VLOOKUP(B23,'Race 1'!B$3:G$44,5,FALSE)),0,VLOOKUP(B23,'Race 1'!B$3:G$44,5,FALSE)) -> 66 | E23: =IF(ISERROR(VLOOKUP(B23,'Race 2'!$B$3:$F$66,5,FALSE)),0,VLOOKUP(B23,'Race 2'!$B$3:$F$66,5,FALSE)) -> 62 | F23: =IF(ISERROR(VLOOKUP(B23,'Race 3'!$B$3:$F$43,5,FALSE)),0,VLOOKUP(B23,'Race 3'!$B$3:$F$43,5,FALSE)) -> 69 | G23: =IF(ISERROR(VLOOKUP(B23,'Race 4'!$B$3:$F$53,5,FALSE)),0,VLOOKUP(B23,'Race 4'!$B$3:$F$53,5,FALSE)) -> 58 | H23: =IF(ISERROR(VLOOKUP(B23,'Race 5'!$B$3:$F$78,5,FALSE)),0,VLOOKUP(B23,'Race 5'!$B$3:$F$78,5,FALSE)) -> 0 | I23: =IF(ISERROR(VLOOKUP(B23,'Race 6'!B$3:G$42,5,FALSE)),0,VLOOKUP(B23,'Race 6'!B$3:G$42,5,FALSE)) -> 0 | J23: =IF(ISERROR(VLOOKUP(B23,'Race 7'!B$3:G$38,5,FALSE)),0,VLOOKUP(B23,'Race 7'!B$3:G$38,5,FALSE)) -> 0 | K23: =IF(ISERROR(VLOOKUP(B23,'Race 8'!B$3:J$50,5,FALSE)),0,VLOOKUP(B23,'Race 8'!B$3:J$50,5,FALSE)) -> 0 | L23: {=SUM(LARGE(D23:K23,{1,2,3,4,5}))} -> 255
A24: 21 | B24: Chris Snary | C24: =COUNTIF(D24:K24,">0") -> 4 | D24: =IF(ISERROR(VLOOKUP(B24,'Race 1'!B$3:G$44,5,FALSE)),0,VLOOKUP(B24,'Race 1'!B$3:G$44,5,FALSE)) -> 59 | E24: =IF(ISERROR(VLOOKUP(B24,'Race 2'!$B$3:$F$66,5,FALSE)),0,VLOOKUP(B24,'Race 2'!$B$3:$F$66,5,FALSE)) -> 73 | F24: =IF(ISERROR(VLOOKUP(B24,'Race 3'!$B$3:$F$43,5,FALSE)),0,VLOOKUP(B24,'Race 3'!$B$3:$F$43,5,FALSE)) -> 60 | G24: =IF(ISERROR(VLOOKUP(B24,'Race 4'!$B$3:$F$53,5,FALSE)),0,VLOOKUP(B24,'Race 4'!$B$3:$F$53,5,FALSE)) -> 62 | H24: =IF(ISERROR(VLOOKUP(B24,'Race 5'!$B$3:$F$78,5,FALSE)),0,VLOOKUP(B24,'Race 5'!$B$3:$F$78,5,FALSE)) -> 0 | I24: =IF(ISERROR(VLOOKUP(B24,'Race 6'!B$3:G$42,5,FALSE)),0,VLOOKUP(B24,'Race 6'!B$3:G$42,5,FALSE)) -> 0 | J24: =IF(ISERROR(VLOOKUP(B24,'Race 7'!B$3:G$38,5,FALSE)),0,VLOOKUP(B24,'Race 7'!B$3:G$38,5,FALSE)) -> 0 | K24: =IF(ISERROR(VLOOKUP(B24,'Race 8'!B$3:J$45,5,FALSE)),0,VLOOKUP(B24,'Race 8'!B$3:J$45,5,FALSE)) -> 0 | L24: {=SUM(LARGE(D24:K24,{1,2,3,4,5}))} -> 254
A25: 22 | B25: Sam Grunhut | C25: =COUNTIF(D25:K25,">0") -> 4 | D25: =IF(ISERROR(VLOOKUP(B25,'Race 1'!B$3:G$44,5,FALSE)),0,VLOOKUP(B25,'Race 1'!B$3:G$44,5,FALSE)) -> 65 | E25: =IF(ISERROR(VLOOKUP(B25,'Race 2'!$B$3:$F$66,5,FALSE)),0,VLOOKUP(B25,'Race 2'!$B$3:$F$66,5,FALSE)) -> 65 | F25: =IF(ISERROR(VLOOKUP(B25,'Race 3'!$B$3:$F$43,5,FALSE)),0,VLOOKUP(B25,'Race 3'!$B$3:$F$43,5,FALSE)) -> 67 | G25: =IF(ISERROR(VLOOKUP(B25,'Race 4'!$B$3:$F$53,5,FALSE)),0,VLOOKUP(B25,'Race 4'!$B$3:$F$53,5,FALSE)) -> 56 | H25: =IF(ISERROR(VLOOKUP(B25,'Race 5'!$B$3:$F$78,5,FALSE)),0,VLOOKUP(B25,'Race 5'!$B$3:$F$78,5,FALSE)) -> 0 | I25: =IF(ISERROR(VLOOKUP(B25,'Race 6'!B$3:G$42,5,FALSE)),0,VLOOKUP(B25,'Race 6'!B$3:G$42,5,FALSE)) -> 0 | J25: =IF(ISERROR(VLOOKUP(B25,'Race 7'!B$3:G$38,5,FALSE)),0,VLOOKUP(B25,'Race 7'!B$3:G$38,5,FALSE)) -> 0 | K25: =IF(ISERROR(VLOOKUP(B25,'Race 8'!B$3:J$50,5,FALSE)),0,VLOOKUP(B25,'Race 8'!B$3:J$50,5,FALSE)) -> 0 | L25: {=SUM(LARGE(D25:K25,{1,2,3,4,5}))} -> 253
A26: 23 | B26: Michelle Grey | C26: =COUNTIF(D26:K26,">0") -> 3 | D26: =IF(ISERROR(VLOOKUP(B26,'Race 1'!B$3:G$44,5,FALSE)),0,VLOOKUP(B26,'Race 1'!B$3:G$44,5,FALSE)) -> 83 | E26: =IF(ISERROR(VLOOKUP(B26,'Race 2'!$B$3:$F$66,5,FALSE)),0,VLOOKUP(B26,'Race 2'!$B$3:$F$66,5,FALSE)) -> 72 | F26: =IF(ISERROR(VLOOKUP(B26,'Race 3'!$B$3:$F$43,5,FALSE)),0,VLOOKUP(B26,'Race 3'!$B$3:$F$43,5,FALSE)) -> 0 | G26: =IF(ISERROR(VLOOKUP(B26,'Race 4'!$B$3:$F$53,5,FALSE)),0,VLOOKUP(B26,'Race 4'!$B$3:$F$53,5,FALSE)) -> 85 | H26: =IF(ISERROR(VLOOKUP(B26,'Race 5'!$B$3:$F$78,5,FALSE)),0,VLOOKUP(B26,'Race 5'!$B$3:$F$78,5,FALSE)) -> 0 | I26: =IF(ISERROR(VLOOKUP(B26,'Race 6'!B$3:G$42,5,FALSE)),0,VLOOKUP(B26,'Race 6'!B$3:G$42,5,FALSE)) -> 0 | J26: =IF(ISERROR(VLOOKUP(B26,'Race 7'!B$3:G$38,5,FALSE)),0,VLOOKUP(B26,'Race 7'!B$3:G$38,5,FALSE)) -> 0 | K26: =IF(ISERROR(VLOOKUP(B26,'Race 8'!B$3:J$50,5,FALSE)),0,VLOOKUP(B26,'Race 8'!B$3:J$50,5,FALSE)) -> 0 | L26: {=SUM(LARGE(D26:K26,{1,2,3,4,5}))} -> 240
A27: 24 | B27: Meaghan Jenkins | C27: =COUNTIF(D27:K27,">0") -> 4 | D27: =IF(ISERROR(VLOOKUP(B27,'Race 1'!B$3:G$44,5,FALSE)),0,VLOOKUP(B27,'Race 1'!B$3:G$44,5,FALSE)) -> 63 | E27: =IF(ISERROR(VLOOKUP(B27,'Race 2'!$B$3:$F$66,5,FALSE)),0,VLOOKUP(B27,'Race 2'!$B$3:$F$66,5,FALSE)) -> 58 | F27: =IF(ISERROR(VLOOKUP(B27,'Race 3'!$B$3:$F$43,5,FALSE)),0,VLOOKUP(B27,'Race 3'!$B$3:$F$43,5,FALSE)) -> 65 | G27: =IF(ISERROR(VLOOKUP(B27,'Race 4'!$B$3:$F$53,5,FALSE)),0,VLOOKUP(B27,'Race 4'!$B$3:$F$53,5,FALSE)) -> 52 | H27: =IF(ISERROR(VLOOKUP(B27,'Race 5'!$B$3:$F$78,5,FALSE)),0,VLOOKUP(B27,'Race 5'!$B$3:$F$78,5,FALSE)) -> 0 | I27: =IF(ISERROR(VLOOKUP(B27,'Race 6'!B$3:G$42,5,FALSE)),0,VLOOKUP(B27,'Race 6'!B$3:G$42,5,FALSE)) -> 0 | J27: =IF(ISERROR(VLOOKUP(B27,'Race 7'!B$3:G$38,5,FALSE)),0,VLOOKUP(B27,'Race 7'!B$3:G$38,5,FALSE)) -> 0 | K27: =IF(ISERROR(VLOOKUP(B27,'Race 8'!B$3:J$50,5,FALSE)),0,VLOOKUP(B27,'Race 8'!B$3:J$50,5,FALSE)) -> 0 | L27: {=SUM(LARGE(D27:K27,{1,2,3,4,5}))} -> 238
A28: 25 | B28: Victoria Holmes | C28: =COUNTIF(D28:K28,">0") -> 4 | D28: =IF(ISERROR(VLOOKUP(B28,'Race 1'!B$3:G$44,5,FALSE)),0,VLOOKUP(B28,'Race 1'!B$3:G$44,5,FALSE)) -> 61 | E28: =IF(ISERROR(VLOOKUP(B28,'Race 2'!$B$3:$F$66,5,FALSE)),0,VLOOKUP(B28,'Race 2'!$B$3:$F$66,5,FALSE)) -> 56 | F28: =IF(ISERROR(VLOOKUP(B28,'Race 3'!$B$3:$F$43,5,FALSE)),0,VLOOKUP(B28,'Race 3'!$B$3:$F$43,5,FALSE)) -> 63 | G28: =IF(ISERROR(VLOOKUP(B28,'Race 4'!$B$3:$F$53,5,FALSE)),0,VLOOKUP(B28,'Race 4'!$B$3:$F$53,5,FALSE)) -> 53 | H28: =IF(ISERROR(VLOOKUP(B28,'Race 5'!$B$3:$F$78,5,FALSE)),0,VLOOKUP(B28,'Race 5'!$B$3:$F$78,5,FALSE)) -> 0 | I28: =IF(ISERROR(VLOOKUP(B28,'Race 6'!B$3:G$42,5,FALSE)),0,VLOOKUP(B28,'Race 6'!B$3:G$42,5,FALSE)) -> 0 | J28: =IF(ISERROR(VLOOKUP(B28,'Race 7'!B$3:G$38,5,FALSE)),0,VLOOKUP(B28,'Race 7'!B$3:G$38,5,FALSE)) -> 0 | K28: =IF(ISERROR(VLOOKUP(B28,'Race 8'!B$3:J$50,5,FALSE)),0,VLOOKUP(B28,'Race 8'!B$3:J$50,5,FALSE)) -> 0 | L28: {=SUM(LARGE(D28:K28,{1,2,3,4,5}))} -> 233
A29: 26 | B29: Laura Gilbert | C29: =COUNTIF(D29:K29,">0") -> 3 | D29: =IF(ISERROR(VLOOKUP(B29,'Race 1'!B$3:G$44,5,FALSE)),0,VLOOKUP(B29,'Race 1'!B$3:G$44,5,FALSE)) -> 76 | E29: =IF(ISERROR(VLOOKUP(B29,'Race 2'!$B$3:$F$66,5,FALSE)),0,VLOOKUP(B29,'Race 2'!$B$3:$F$66,5,FALSE)) -> 78 | F29: =IF(ISERROR(VLOOKUP(B29,'Race 3'!$B$3:$F$43,5,FALSE)),0,VLOOKUP(B29,'Race 3'!$B$3:$F$43,5,FALSE)) -> 0 | G29: =IF(ISERROR(VLOOKUP(B29,'Race 4'!$B$3:$F$53,5,FALSE)),0,VLOOKUP(B29,'Race 4'!$B$3:$F$53,5,FALSE)) -> 79 | H29: =IF(ISERROR(VLOOKUP(B29,'Race 5'!$B$3:$F$78,5,FALSE)),0,VLOOKUP(B29,'Race 5'!$B$3:$F$78,5,FALSE)) -> 0 | I29: =IF(ISERROR(VLOOKUP(B29,'Race 6'!B$3:G$42,5,FALSE)),0,VLOOKUP(B29,'Race 6'!B$3:G$42,5,FALSE)) -> 0 | J29: =IF(ISERROR(VLOOKUP(B29,'Race 7'!B$3:G$38,5,FALSE)),0,VLOOKUP(B29,'Race 7'!B$3:G$38,5,FALSE)) -> 0 | K29: =IF(ISERROR(VLOOKUP(B29,'Race 8'!B$3:J$50,5,FALSE)),0,VLOOKUP(B29,'Race 8'!B$3:J$50,5,FALSE)) -> 0 | L29: {=SUM(LARGE(D29:K29,{1,2,3,4,5}))} -> 233
A30: 27 | B30: Steve McLelland | C30: =COUNTIF(D30:K30,">0") -> 3 | D30: =IF(ISERROR(VLOOKUP(B30,'Race 1'!B$3:G$44,5,FALSE)),0,VLOOKUP(B30,'Race 1'!B$3:G$44,5,FALSE)) -> 81 | E30: =IF(ISERROR(VLOOKUP(B30,'Race 2'!$B$3:$F$66,5,FALSE)),0,VLOOKUP(B30,'Race 2'!$B$3:$F$66,5,FALSE)) -> 80 | F30: =IF(ISERROR(VLOOKUP(B30,'Race 3'!$B$3:$F$43,5,FALSE)),0,VLOOKUP(B30,'Race 3'!$B$3:$F$43,5,FALSE)) -> 0 | G30: =IF(ISERROR(VLOOKUP(B30,'Race 4'!$B$3:$F$53,5,FALSE)),0,VLOOKUP(B30,'Race 4'!$B$3:$F$53,5,FALSE)) -> 72 | H30: =IF(ISERROR(VLOOKUP(B30,'Race 5'!$B$3:$F$78,5,FALSE)),0,VLOOKUP(B30,'Race 5'!$B$3:$F$78,5,FALSE)) -> 0 | I30: =IF(ISERROR(VLOOKUP(B30,'Race 6'!B$3:G$42,5,FALSE)),0,VLOOKUP(B30,'Race 6'!B$3:G$42,5,FALSE)) -> 0 | J30: =IF(ISERROR(VLOOKUP(B30,'Race 7'!B$3:G$38,5,FALSE)),0,VLOOKUP(B30,'Race 7'!B$3:G$38,5,FALSE)) -> 0 | K30: =IF(ISERROR(VLOOKUP(B30,'Race 8'!B$3:J$50,5,FALSE)),0,VLOOKUP(B30,'Race 8'!B$3:J$50,5,FALSE)) -> 0 | L30: {=SUM(LARGE(D30:K30,{1,2,3,4,5}))} -> 233
A31: 28 | B31: Clare Baxter | C31: =COUNTIF(D31:K31,">0") -> 3 | D31: =IF(ISERROR(VLOOKUP(B31,'Race 1'!B$3:G$44,5,FALSE)),0,VLOOKUP(B31,'Race 1'!B$3:G$44,5,FALSE)) -> 75 | E31: =IF(ISERROR(VLOOKUP(B31,'Race 2'!$B$3:$F$66,5,FALSE)),0,VLOOKUP(B31,'Race 2'!$B$3:$F$66,5,FALSE)) -> 81 | F31: =IF(ISERROR(VLOOKUP(B31,'Race 3'!$B$3:$F$43,5,FALSE)),0,VLOOKUP(B31,'Race 3'!$B$3:$F$43,5,FALSE)) -> 0 | G31: =IF(ISERROR(VLOOKUP(B31,'Race 4'!$B$3:$F$53,5,FALSE)),0,VLOOKUP(B31,'Race 4'!$B$3:$F$53,5,FALSE)) -> 76 | H31: =IF(ISERROR(VLOOKUP(B31,'Race 5'!$B$3:$F$78,5,FALSE)),0,VLOOKUP(B31,'Race 5'!$B$3:$F$78,5,FALSE)) -> 0 | I31: =IF(ISERROR(VLOOKUP(B31,'Race 6'!B$3:G$42,5,FALSE)),0,VLOOKUP(B31,'Race 6'!B$3:G$42,5,FALSE)) -> 0 | J31: =IF(ISERROR(VLOOKUP(B31,'Race 7'!B$3:G$38,5,FALSE)),0,VLOOKUP(B31,'Race 7'!B$3:G$38,5,FALSE)) -> 0 | K31: =IF(ISERROR(VLOOKUP(B31,'Race 8'!B$3:J$50,5,FALSE)),0,VLOOKUP(B31,'Race 8'!B$3:J$50,5,FALSE)) -> 0 | L31: {=SUM(LARGE(D31:K31,{1,2,3,4,5}))} -> 232
A32: 29 | B32: Manisha Rickards | C32: =COUNTIF(D32:K32,">0") -> 3 | D32: =IF(ISERROR(VLOOKUP(B32,'Race 1'!B$3:G$44,5,FALSE)),0,VLOOKUP(B32,'Race 1'!B$3:G$44,5,FALSE)) -> 78 | E32: =IF(ISERROR(VLOOKUP(B32,'Race 2'!$B$3:$F$66,5,FALSE)),0,VLOOKUP(B32,'Race 2'!$B$3:$F$66,5,FALSE)) -> 71 | F32: =IF(ISERROR(VLOOKUP(B32,'Race 3'!$B$3:$F$43,5,FALSE)),0,VLOOKUP(B32,'Race 3'!$B$3:$F$43,5,FALSE)) -> 82 | G32: =IF(ISERROR(VLOOKUP(B32,'Race 4'!$B$3:$F$53,5,FALSE)),0,VLOOKUP(B32,'Race 4'!$B$3:$F$53,5,FALSE)) -> 0 | H32: =IF(ISERROR(VLOOKUP(B32,'Race 5'!$B$3:$F$78,5,FALSE)),0,VLOOKUP(B32,'Race 5'!$B$3:$F$78,5,FALSE)) -> 0 | I32: =IF(ISERROR(VLOOKUP(B32,'Race 6'!B$3:G$42,5,FALSE)),0,VLOOKUP(B32,'Race 6'!B$3:G$42,5,FALSE)) -> 0 | J32: =IF(ISERROR(VLOOKUP(B32,'Race 7'!B$3:G$38,5,FALSE)),0,VLOOKUP(B32,'Race 7'!B$3:G$38,5,FALSE)) -> 0 | K32: =IF(ISERROR(VLOOKUP(B32,'Race 8'!B$3:J$45,5,FALSE)),0,VLOOKUP(B32,'Race 8'!B$3:J$45,5,FALSE)) -> 0 | L32: {=SUM(LARGE(D32:K32,{1,2,3,4,5}))} -> 231
A33: 30 | B33: Dan Evans | C33: =COUNTIF(D33:K33,">0") -> 3 | D33: =IF(ISERROR(VLOOKUP(B33,'Race 1'!B$3:G$44,5,FALSE)),0,VLOOKUP(B33,'Race 1'!B$3:G$44,5,FALSE)) -> 79 | E33: =IF(ISERROR(VLOOKUP(B33,'Race 2'!$B$3:$F$66,5,FALSE)),0,VLOOKUP(B33,'Race 2'!$B$3:$F$66,5,FALSE)) -> 0 | F33: =IF(ISERROR(VLOOKUP(B33,'Race 3'!$B$3:$F$43,5,FALSE)),0,VLOOKUP(B33,'Race 3'!$B$3:$F$43,5,FALSE)) -> 77 | G33: =IF(ISERROR(VLOOKUP(B33,'Race 4'!$B$3:$F$53,5,FALSE)),0,VLOOKUP(B33,'Race 4'!$B$3:$F$53,5,FALSE)) -> 71 | H33: =IF(ISERROR(VLOOKUP(B33,'Race 5'!$B$3:$F$78,5,FALSE)),0,VLOOKUP(B33,'Race 5'!$B$3:$F$78,5,FALSE)) -> 0 | I33: =IF(ISERROR(VLOOKUP(B33,'Race 6'!B$3:G$42,5,FALSE)),0,VLOOKUP(B33,'Race 6'!B$3:G$42,5,FALSE)) -> 0 | J33: =IF(ISERROR(VLOOKUP(B33,'Race 7'!B$3:G$38,5,FALSE)),0,VLOOKUP(B33,'Race 7'!B$3:G$38,5,FALSE)) -> 0 | K33: =IF(ISERROR(VLOOKUP(B33,'Race 8'!B$3:J$50,5,FALSE)),0,VLOOKUP(B33,'Race 8'!B$3:J$50,5,FALSE)) -> 0 | L33: {=SUM(LARGE(D33:K33,{1,2,3,4,5}))} -> 227
A34: 31 | B34: Sandra Rees | C34: =COUNTIF(D34:K34,">0") -> 3 | D34: =IF(ISERROR(VLOOKUP(B34,'Race 1'!B$3:G$44,5,FALSE)),0,VLOOKUP(B34,'Race 1'!B$3:G$44,5,FALSE)) -> 73 | E34: =IF(ISERROR(VLOOKUP(B34,'Race 2'!$B$3:$F$66,5,FALSE)),0,VLOOKUP(B34,'Race 2'!$B$3:$F$66,5,FALSE)) -> 0 | F34: =IF(ISERROR(VLOOKUP(B34,'Race 3'!$B$3:$F$43,5,FALSE)),0,VLOOKUP(B34,'Race 3'!$B$3:$F$43,5,FALSE)) -> 80 | G34: =IF(ISERROR(VLOOKUP(B34,'Race 4'!$B$3:$F$53,5,FALSE)),0,VLOOKUP(B34,'Race 4'!$B$3:$F$53,5,FALSE)) -> 69 | H34: =IF(ISERROR(VLOOKUP(B34,'Race 5'!$B$3:$F$78,5,FALSE)),0,VLOOKUP(B34,'Race 5'!$B$3:$F$78,5,FALSE)) -> 0 | I34: =IF(ISERROR(VLOOKUP(B34,'Race 6'!B$3:G$42,5,FALSE)),0,VLOOKUP(B34,'Race 6'!B$3:G$42,5,FALSE)) -> 0 | J34: =IF(ISERROR(VLOOKUP(B34,'Race 7'!B$3:G$38,5,FALSE)),0,VLOOKUP(B34,'Race 7'!B$3:G$38,5,FALSE)) -> 0 | K34: =IF(ISERROR(VLOOKUP(B34,'Race 8'!B$3:J$50,5,FALSE)),0,VLOOKUP(B34,'Race 8'!B$3:J$50,5,FALSE)) -> 0 | L34: {=SUM(LARGE(D34:K34,{1,2,3,4,5}))} -> 222
A35: 32 | B35: Chris Simons | C35: =COUNTIF(D35:K35,">0") -> 3 | D35: =IF(ISERROR(VLOOKUP(B35,'Race 1'!B$3:G$44,5,FALSE)),0,VLOOKUP(B35,'Race 1'!B$3:G$44,5,FALSE)) -> 72 | E35: =IF(ISERROR(VLOOKUP(B35,'Race 2'!$B$3:$F$66,5,FALSE)),0,VLOOKUP(B35,'Race 2'!$B$3:$F$66,5,FALSE)) -> 70 | F35: =IF(ISERROR(VLOOKUP(B35,'Race 3'!$B$3:$F$43,5,FALSE)),0,VLOOKUP(B35,'Race 3'!$B$3:$F$43,5,FALSE)) -> 78 | G35: =IF(ISERROR(VLOOKUP(B35,'Race 4'!$B$3:$F$53,5,FALSE)),0,VLOOKUP(B35,'Race 4'!$B$3:$F$53,5,FALSE)) -> 0 | H35: =IF(ISERROR(VLOOKUP(B35,'Race 5'!$B$3:$F$78,5,FALSE)),0,VLOOKUP(B35,'Race 5'!$B$3:$F$78,5,FALSE)) -> 0 | I35: =IF(ISERROR(VLOOKUP(B35,'Race 6'!B$3:G$42,5,FALSE)),0,VLOOKUP(B35,'Race 6'!B$3:G$42,5,FALSE)) -> 0 | J35: =IF(ISERROR(VLOOKUP(B35,'Race 7'!B$3:G$38,5,FALSE)),0,VLOOKUP(B35,'Race 7'!B$3:G$38,5,FALSE)) -> 0 | K35: =IF(ISERROR(VLOOKUP(B35,'Race 8'!B$3:J$45,5,FALSE)),0,VLOOKUP(B35,'Race 8'!B$3:J$45,5,FALSE)) -> 0 | L35: {=SUM(LARGE(D35:K35,{1,2,3,4,5}))} -> 220
A36: 33 | B36: Jenny Stanford | C36: =COUNTIF(D36:K36,">0") -> 3 | D36: =IF(ISERROR(VLOOKUP(B36,'Race 1'!B$3:G$44,5,FALSE)),0,VLOOKUP(B36,'Race 1'!B$3:G$44,5,FALSE)) -> 0 | E36: =IF(ISERROR(VLOOKUP(B36,'Race 2'!$B$3:$F$66,5,FALSE)),0,VLOOKUP(B36,'Race 2'!$B$3:$F$66,5,FALSE)) -> 74 | F36: =IF(ISERROR(VLOOKUP(B36,'Race 3'!$B$3:$F$43,5,FALSE)),0,VLOOKUP(B36,'Race 3'!$B$3:$F$43,5,FALSE)) -> 75 | G36: =IF(ISERROR(VLOOKUP(B36,'Race 4'!$B$3:$F$53,5,FALSE)),0,VLOOKUP(B36,'Race 4'!$B$3:$F$53,5,FALSE)) -> 70 | H36: =IF(ISERROR(VLOOKUP(B36,'Race 5'!$B$3:$F$78,5,FALSE)),0,VLOOKUP(B36,'Race 5'!$B$3:$F$78,5,FALSE)) -> 0 | I36: =IF(ISERROR(VLOOKUP(B36,'Race 6'!B$3:G$42,5,FALSE)),0,VLOOKUP(B36,'Race 6'!B$3:G$42,5,FALSE)) -> 0 | J36: =IF(ISERROR(VLOOKUP(B36,'Race 7'!B$3:G$38,5,FALSE)),0,VLOOKUP(B36,'Race 7'!B$3:G$38,5,FALSE)) -> 0 | K36: =IF(ISERROR(VLOOKUP(B36,'Race 8'!B$3:J$45,5,FALSE)),0,VLOOKUP(B36,'Race 8'!B$3:J$45,5,FALSE)) -> 0 | L36: {=SUM(LARGE(D36:K36,{1,2,3,4,5}))} -> 219
A37: 34 | B37: Laura Hall | C37: =COUNTIF(D37:K37,">0") -> 3 | D37: =IF(ISERROR(VLOOKUP(B37,'Race 1'!B$3:G$44,5,FALSE)),0,VLOOKUP(B37,'Race 1'!B$3:G$44,5,FALSE)) -> 0 | E37: =IF(ISERROR(VLOOKUP(B37,'Race 2'!$B$3:$F$66,5,FALSE)),0,VLOOKUP(B37,'Race 2'!$B$3:$F$66,5,FALSE)) -> 75 | F37: =IF(ISERROR(VLOOKUP(B37,'Race 3'!$B$3:$F$43,5,FALSE)),0,VLOOKUP(B37,'Race 3'!$B$3:$F$43,5,FALSE)) -> 74 | G37: =IF(ISERROR(VLOOKUP(B37,'Race 4'!$B$3:$F$53,5,FALSE)),0,VLOOKUP(B37,'Race 4'!$B$3:$F$53,5,FALSE)) -> 65 | H37: =IF(ISERROR(VLOOKUP(B37,'Race 5'!$B$3:$F$78,5,FALSE)),0,VLOOKUP(B37,'Race 5'!$B$3:$F$78,5,FALSE)) -> 0 | I37: =IF(ISERROR(VLOOKUP(B37,'Race 6'!B$3:G$42,5,FALSE)),0,VLOOKUP(B37,'Race 6'!B$3:G$42,5,FALSE)) -> 0 | J37: =IF(ISERROR(VLOOKUP(B37,'Race 7'!B$3:G$38,5,FALSE)),0,VLOOKUP(B37,'Race 7'!B$3:G$38,5,FALSE)) -> 0 | K37: =IF(ISERROR(VLOOKUP(B37,'Race 8'!B$3:J$50,5,FALSE)),0,VLOOKUP(B37,'Race 8'!B$3:J$50,5,FALSE)) -> 0 | L37: {=SUM(LARGE(D37:K37,{1,2,3,4,5}))} -> 214
A38: 35 | B38: Kelly Bamford | C38: =COUNTIF(D38:K38,">0") -> 3 | D38: =IF(ISERROR(VLOOKUP(B38,'Race 1'!B$3:G$44,5,FALSE)),0,VLOOKUP(B38,'Race 1'!B$3:G$44,5,FALSE)) -> 0 | E38: =IF(ISERROR(VLOOKUP(B38,'Race 2'!$B$3:$F$66,5,FALSE)),0,VLOOKUP(B38,'Race 2'!$B$3:$F$66,5,FALSE)) -> 69 | F38: =IF(ISERROR(VLOOKUP(B38,'Race 3'!$B$3:$F$43,5,FALSE)),0,VLOOKUP(B38,'Race 3'!$B$3:$F$43,5,FALSE)) -> 72 | G38: =IF(ISERROR(VLOOKUP(B38,'Race 4'!$B$3:$F$53,5,FALSE)),0,VLOOKUP(B38,'Race 4'!$B$3:$F$53,5,FALSE)) -> 66 | H38: =IF(ISERROR(VLOOKUP(B38,'Race 5'!$B$3:$F$78,5,FALSE)),0,VLOOKUP(B38,'Race 5'!$B$3:$F$78,5,FALSE)) -> 0 | I38: =IF(ISERROR(VLOOKUP(B38,'Race 6'!B$3:G$42,5,FALSE)),0,VLOOKUP(B38,'Race 6'!B$3:G$42,5,FALSE)) -> 0 | J38: =IF(ISERROR(VLOOKUP(B38,'Race 7'!B$3:G$38,5,FALSE)),0,VLOOKUP(B38,'Race 7'!B$3:G$38,5,FALSE)) -> 0 | K38: =IF(ISERROR(VLOOKUP(B38,'Race 8'!B$3:J$50,5,FALSE)),0,VLOOKUP(B38,'Race 8'!B$3:J$50,5,FALSE)) -> 0 | L38: {=SUM(LARGE(D38:K38,{1,2,3,4,5}))} -> 207
A39: 36 | B39: Fay Sharpe | C39: =COUNTIF(D39:K39,">0") -> 3 | D39: =IF(ISERROR(VLOOKUP(B39,'Race 1'!B$3:G$44,5,FALSE)),0,VLOOKUP(B39,'Race 1'!B$3:G$44,5,FALSE)) -> 74 | E39: =IF(ISERROR(VLOOKUP(B39,'Race 2'!$B$3:$F$66,5,FALSE)),0,VLOOKUP(B39,'Race 2'!$B$3:$F$66,5,FALSE)) -> 63 | F39: =IF(ISERROR(VLOOKUP(B39,'Race 3'!$B$3:$F$43,5,FALSE)),0,VLOOKUP(B39,'Race 3'!$B$3:$F$43,5,FALSE)) -> 68 | G39: =IF(ISERROR(VLOOKUP(B39,'Race 4'!$B$3:$F$53,5,FALSE)),0,VLOOKUP(B39,'Race 4'!$B$3:$F$53,5,FALSE)) -> 0 | H39: =IF(ISERROR(VLOOKUP(B39,'Race 5'!$B$3:$F$78,5,FALSE)),0,VLOOKUP(B39,'Race 5'!$B$3:$F$78,5,FALSE)) -> 0 | I39: =IF(ISERROR(VLOOKUP(B39,'Race 6'!B$3:G$42,5,FALSE)),0,VLOOKUP(B39,'Race 6'!B$3:G$42,5,FALSE)) -> 0 | J39: =IF(ISERROR(VLOOKUP(B39,'Race 7'!B$3:G$38,5,FALSE)),0,VLOOKUP(B39,'Race 7'!B$3:G$38,5,FALSE)) -> 0 | K39: =IF(ISERROR(VLOOKUP(B39,'Race 8'!B$3:J$50,5,FALSE)),0,VLOOKUP(B39,'Race 8'!B$3:J$50,5,FALSE)) -> 0 | L39: {=SUM(LARGE(D39:K39,{1,2,3,4,5}))} -> 205
A40: 37 | B40: Lynn Holmes | C40: =COUNTIF(D40:K40,">0") -> 3 | D40: =IF(ISERROR(VLOOKUP(B40,'Race 1'!B$3:G$44,5,FALSE)),0,VLOOKUP(B40,'Race 1'!B$3:G$44,5,FALSE)) -> 71 | E40: =IF(ISERROR(VLOOKUP(B40,'Race 2'!$B$3:$F$66,5,FALSE)),0,VLOOKUP(B40,'Race 2'!$B$3:$F$66,5,FALSE)) -> 68 | F40: =IF(ISERROR(VLOOKUP(B40,'Race 3'!$B$3:$F$43,5,FALSE)),0,VLOOKUP(B40,'Race 3'!$B$3:$F$43,5,FALSE)) -> 0 | G40: =IF(ISERROR(VLOOKUP(B40,'Race 4'!$B$3:$F$53,5,FALSE)),0,VLOOKUP(B40,'Race 4'!$B$3:$F$53,5,FALSE)) -> 59 | H40: =IF(ISERROR(VLOOKUP(B40,'Race 5'!$B$3:$F$78,5,FALSE)),0,VLOOKUP(B40,'Race 5'!$B$3:$F$78,5,FALSE)) -> 0 | I40: =IF(ISERROR(VLOOKUP(B40,'Race 6'!B$3:G$42,5,FALSE)),0,VLOOKUP(B40,'Race 6'!B$3:G$42,5,FALSE)) -> 0 | J40: =IF(ISERROR(VLOOKUP(B40,'Race 7'!B$3:G$38,5,FALSE)),0,VLOOKUP(B40,'Race 7'!B$3:G$38,5,FALSE)) -> 0 | K40: =IF(ISERROR(VLOOKUP(B40,'Race 8'!B$3:J$50,5,FALSE)),0,VLOOKUP(B40,'Race 8'!B$3:J$50,5,FALSE)) -> 0 | L40: {=SUM(LARGE(D40:K40,{1,2,3,4,5}))} -> 198
A41: 38 | B41: Christina Smith | C41: =COUNTIF(D41:K41,">0") -> 2 | D41: =IF(ISERROR(VLOOKUP(B41,'Race 1'!B$3:G$44,5,FALSE)),0,VLOOKUP(B41,'Race 1'!B$3:G$44,5,FALSE)) -> 97 | E41: =IF(ISERROR(VLOOKUP(B41,'Race 2'!$B$3:$F$66,5,FALSE)),0,VLOOKUP(B41,'Race 2'!$B$3:$F$66,5,FALSE)) -> 95 | F41: =IF(ISERROR(VLOOKUP(B41,'Race 3'!$B$3:$F$43,5,FALSE)),0,VLOOKUP(B41,'Race 3'!$B$3:$F$43,5,FALSE)) -> 0 | G41: =IF(ISERROR(VLOOKUP(B41,'Race 4'!$B$3:$F$53,5,FALSE)),0,VLOOKUP(B41,'Race 4'!$B$3:$F$53,5,FALSE)) -> 0 | H41: =IF(ISERROR(VLOOKUP(B41,'Race 5'!$B$3:$F$78,5,FALSE)),0,VLOOKUP(B41,'Race 5'!$B$3:$F$78,5,FALSE)) -> 0 | I41: =IF(ISERROR(VLOOKUP(B41,'Race 6'!B$3:G$42,5,FALSE)),0,VLOOKUP(B41,'Race 6'!B$3:G$42,5,FALSE)) -> 0 | J41: =IF(ISERROR(VLOOKUP(B41,'Race 7'!B$3:G$38,5,FALSE)),0,VLOOKUP(B41,'Race 7'!B$3:G$38,5,FALSE)) -> 0 | K41: =IF(ISERROR(VLOOKUP(B41,'Race 8'!B$3:J$50,5,FALSE)),0,VLOOKUP(B41,'Race 8'!B$3:J$50,5,FALSE)) -> 0 | L41: {=SUM(LARGE(D41:K41,{1,2,3,4,5}))} -> 192
A42: 39 | B42: Debbie Gibbs | C42: =COUNTIF(D42:K42,">0") -> 3 | D42: =IF(ISERROR(VLOOKUP(B42,'Race 1'!B$3:G$44,5,FALSE)),0,VLOOKUP(B42,'Race 1'!B$3:G$44,5,FALSE)) -> 0 | E42: =IF(ISERROR(VLOOKUP(B42,'Race 2'!$B$3:$F$66,5,FALSE)),0,VLOOKUP(B42,'Race 2'!$B$3:$F$66,5,FALSE)) -> 61 | F42: =IF(ISERROR(VLOOKUP(B42,'Race 3'!$B$3:$F$43,5,FALSE)),0,VLOOKUP(B42,'Race 3'!$B$3:$F$43,5,FALSE)) -> 64 | G42: =IF(ISERROR(VLOOKUP(B42,'Race 4'!$B$3:$F$53,5,FALSE)),0,VLOOKUP(B42,'Race 4'!$B$3:$F$53,5,FALSE)) -> 64 | H42: =IF(ISERROR(VLOOKUP(B42,'Race 5'!$B$3:$F$78,5,FALSE)),0,VLOOKUP(B42,'Race 5'!$B$3:$F$78,5,FALSE)) -> 0 | I42: =IF(ISERROR(VLOOKUP(B42,'Race 6'!B$3:G$42,5,FALSE)),0,VLOOKUP(B42,'Race 6'!B$3:G$42,5,FALSE)) -> 0 | J42: =IF(ISERROR(VLOOKUP(B42,'Race 7'!B$3:G$38,5,FALSE)),0,VLOOKUP(B42,'Race 7'!B$3:G$38,5,FALSE)) -> 0 | K42: =IF(ISERROR(VLOOKUP(B42,'Race 8'!B$3:J$50,5,FALSE)),0,VLOOKUP(B42,'Race 8'!B$3:J$50,5,FALSE)) -> 0 | L42: {=SUM(LARGE(D42:K42,{1,2,3,4,5}))} -> 189
A43: 40 | B43: Lee Morris | C43: =COUNTIF(D43:K43,">0") -> 2 | D43: =IF(ISERROR(VLOOKUP(B43,'Race 1'!B$3:G$44,5,FALSE)),0,VLOOKUP(B43,'Race 1'!B$3:G$44,5,FALSE)) -> 91 | E43: =IF(ISERROR(VLOOKUP(B43,'Race 2'!$B$3:$F$66,5,FALSE)),0,VLOOKUP(B43,'Race 2'!$B$3:$F$66,5,FALSE)) -> 0 | F43: =IF(ISERROR(VLOOKUP(B43,'Race 3'!$B$3:$F$43,5,FALSE)),0,VLOOKUP(B43,'Race 3'!$B$3:$F$43,5,FALSE)) -> 95 | G43: =IF(ISERROR(VLOOKUP(B43,'Race 4'!$B$3:$F$53,5,FALSE)),0,VLOOKUP(B43,'Race 4'!$B$3:$F$53,5,FALSE)) -> 0 | H43: =IF(ISERROR(VLOOKUP(B43,'Race 5'!$B$3:$F$78,5,FALSE)),0,VLOOKUP(B43,'Race 5'!$B$3:$F$78,5,FALSE)) -> 0 | I43: =IF(ISERROR(VLOOKUP(B43,'Race 6'!B$3:G$42,5,FALSE)),0,VLOOKUP(B43,'Race 6'!B$3:G$42,5,FALSE)) -> 0 | J43: =IF(ISERROR(VLOOKUP(B43,'Race 7'!B$3:G$38,5,FALSE)),0,VLOOKUP(B43,'Race 7'!B$3:G$38,5,FALSE)) -> 0 | K43: =IF(ISERROR(VLOOKUP(B43,'Race 8'!B$3:J$50,5,FALSE)),0,VLOOKUP(B43,'Race 8'!B$3:J$50,5,FALSE)) -> 0 | L43: {=SUM(LARGE(D43:K43,{1,2,3,4,5}))} -> 186
A44: 41 | B44: Kevin Watson | C44: =COUNTIF(D44:K44,">0") -> 2 | D44: =IF(ISERROR(VLOOKUP(B44,'Race 1'!B$3:G$44,5,FALSE)),0,VLOOKUP(B44,'Race 1'!B$3:G$44,5,FALSE)) -> 0 | E44: =IF(ISERROR(VLOOKUP(B44,'Race 2'!$B$3:$F$66,5,FALSE)),0,VLOOKUP(B44,'Race 2'!$B$3:$F$66,5,FALSE)) -> 90 | F44: =IF(ISERROR(VLOOKUP(B44,'Race 3'!$B$3:$F$43,5,FALSE)),0,VLOOKUP(B44,'Race 3'!$B$3:$F$43,5,FALSE)) -> 93 | G44: =IF(ISERROR(VLOOKUP(B44,'Race 4'!$B$3:$F$53,5,FALSE)),0,VLOOKUP(B44,'Race 4'!$B$3:$F$53,5,FALSE)) -> 0 | H44: =IF(ISERROR(VLOOKUP(B44,'Race 5'!$B$3:$F$78,5,FALSE)),0,VLOOKUP(B44,'Race 5'!$B$3:$F$78,5,FALSE)) -> 0 | I44: =IF(ISERROR(VLOOKUP(B44,'Race 6'!B$3:G$42,5,FALSE)),0,VLOOKUP(B44,'Race 6'!B$3:G$42,5,FALSE)) -> 0 | J44: =IF(ISERROR(VLOOKUP(B44,'Race 7'!B$3:G$38,5,FALSE)),0,VLOOKUP(B44,'Race 7'!B$3:G$38,5,FALSE)) -> 0 | K44: =IF(ISERROR(VLOOKUP(B44,'Race 8'!B$3:J$50,5,FALSE)),0,VLOOKUP(B44,'Race 8'!B$3:J$50,5,FALSE)) -> 0 | L44: {=SUM(LARGE(D44:K44,{1,2,3,4,5}))} -> 183
A45: 42 | B45: Mark Bamford | C45: =COUNTIF(D45:K45,">0") -> 2 | D45: =IF(ISERROR(VLOOKUP(B45,'Race 1'!B$3:G$44,5,FALSE)),0,VLOOKUP(B45,'Race 1'!B$3:G$44,5,FALSE)) -> 0 | E45: =IF(ISERROR(VLOOKUP(B45,'Race 2'!$B$3:$F$66,5,FALSE)),0,VLOOKUP(B45,'Race 2'!$B$3:$F$66,5,FALSE)) -> 0 | F45: =IF(ISERROR(VLOOKUP(B45,'Race 3'!$B$3:$F$43,5,FALSE)),0,VLOOKUP(B45,'Race 3'!$B$3:$F$43,5,FALSE)) -> 89 | G45: =IF(ISERROR(VLOOKUP(B45,'Race 4'!$B$3:$F$53,5,FALSE)),0,VLOOKUP(B45,'Race 4'!$B$3:$F$53,5,FALSE)) -> 90 | H45: =IF(ISERROR(VLOOKUP(B45,'Race 5'!$B$3:$F$78,5,FALSE)),0,VLOOKUP(B45,'Race 5'!$B$3:$F$78,5,FALSE)) -> 0 | I45: =IF(ISERROR(VLOOKUP(B45,'Race 6'!B$3:G$42,5,FALSE)),0,VLOOKUP(B45,'Race 6'!B$3:G$42,5,FALSE)) -> 0 | J45: =IF(ISERROR(VLOOKUP(B45,'Race 7'!B$3:G$38,5,FALSE)),0,VLOOKUP(B45,'Race 7'!B$3:G$38,5,FALSE)) -> 0 | K45: =IF(ISERROR(VLOOKUP(B45,'Race 8'!B$3:J$50,5,FALSE)),0,VLOOKUP(B45,'Race 8'!B$3:J$50,5,FALSE)) -> 0 | L45: {=SUM(LARGE(D45:K45,{1,2,3,4,5}))} -> 179
A46: 44 | B46: Jane Wallace | C46: =COUNTIF(D46:K46,">0") -> 3 | D46: =IF(ISERROR(VLOOKUP(B46,'Race 1'!B$3:G$44,5,FALSE)),0,VLOOKUP(B46,'Race 1'!B$3:G$44,5,FALSE)) -> 64 | E46: =IF(ISERROR(VLOOKUP(B46,'Race 2'!$B$3:$F$66,5,FALSE)),0,VLOOKUP(B46,'Race 2'!$B$3:$F$66,5,FALSE)) -> 60 | F46: =IF(ISERROR(VLOOKUP(B46,'Race 3'!$B$3:$F$43,5,FALSE)),0,VLOOKUP(B46,'Race 3'!$B$3:$F$43,5,FALSE)) -> 0 | G46: =IF(ISERROR(VLOOKUP(B46,'Race 4'!$B$3:$F$53,5,FALSE)),0,VLOOKUP(B46,'Race 4'!$B$3:$F$53,5,FALSE)) -> 54 | H46: =IF(ISERROR(VLOOKUP(B46,'Race 5'!$B$3:$F$78,5,FALSE)),0,VLOOKUP(B46,'Race 5'!$B$3:$F$78,5,FALSE)) -> 0 | I46: =IF(ISERROR(VLOOKUP(B46,'Race 6'!B$3:G$42,5,FALSE)),0,VLOOKUP(B46,'Race 6'!B$3:G$42,5,FALSE)) -> 0 | J46: =IF(ISERROR(VLOOKUP(B46,'Race 7'!B$3:G$38,5,FALSE)),0,VLOOKUP(B46,'Race 7'!B$3:G$38,5,FALSE)) -> 0 | K46: =IF(ISERROR(VLOOKUP(B46,'Race 8'!B$3:J$50,5,FALSE)),0,VLOOKUP(B46,'Race 8'!B$3:J$50,5,FALSE)) -> 0 | L46: {=SUM(LARGE(D46:K46,{1,2,3,4,5}))} -> 178
A47: 45 | B47: Sharon Trotman | C47: =COUNTIF(D47:K47,">0") -> 2 | D47: =IF(ISERROR(VLOOKUP(B47,'Race 1'!B$3:G$44,5,FALSE)),0,VLOOKUP(B47,'Race 1'!B$3:G$44,5,FALSE)) -> 80 | E47: =IF(ISERROR(VLOOKUP(B47,'Race 2'!$B$3:$F$66,5,FALSE)),0,VLOOKUP(B47,'Race 2'!$B$3:$F$66,5,FALSE)) -> 0 | F47: =IF(ISERROR(VLOOKUP(B47,'Race 3'!$B$3:$F$43,5,FALSE)),0,VLOOKUP(B47,'Race 3'!$B$3:$F$43,5,FALSE)) -> 0 | G47: =IF(ISERROR(VLOOKUP(B47,'Race 4'!$B$3:$F$53,5,FALSE)),0,VLOOKUP(B47,'Race 4'!$B$3:$F$53,5,FALSE)) -> 81 | H47: =IF(ISERROR(VLOOKUP(B47,'Race 5'!$B$3:$F$78,5,FALSE)),0,VLOOKUP(B47,'Race 5'!$B$3:$F$78,5,FALSE)) -> 0 | I47: =IF(ISERROR(VLOOKUP(B47,'Race 6'!B$3:G$42,5,FALSE)),0,VLOOKUP(B47,'Race 6'!B$3:G$42,5,FALSE)) -> 0 | J47: =IF(ISERROR(VLOOKUP(B47,'Race 7'!B$3:G$38,5,FALSE)),0,VLOOKUP(B47,'Race 7'!B$3:G$38,5,FALSE)) -> 0 | K47: =IF(ISERROR(VLOOKUP(B47,'Race 8'!B$3:J$45,5,FALSE)),0,VLOOKUP(B47,'Race 8'!B$3:J$45,5,FALSE)) -> 0 | L47: {=SUM(LARGE(D47:K47,{1,2,3,4,5}))} -> 161
A48: 46 | B48: James Bennett | C48: =COUNTIF(D48:K48,">0") -> 2 | D48: =IF(ISERROR(VLOOKUP(B48,'Race 1'!B$3:G$44,5,FALSE)),0,VLOOKUP(B48,'Race 1'!B$3:G$44,5,FALSE)) -> 0 | E48: =IF(ISERROR(VLOOKUP(B48,'Race 2'!$B$3:$F$66,5,FALSE)),0,VLOOKUP(B48,'Race 2'!$B$3:$F$66,5,FALSE)) -> 79 | F48: =IF(ISERROR(VLOOKUP(B48,'Race 3'!$B$3:$F$43,5,FALSE)),0,VLOOKUP(B48,'Race 3'!$B$3:$F$43,5,FALSE)) -> 79 | G48: =IF(ISERROR(VLOOKUP(B48,'Race 4'!$B$3:$F$53,5,FALSE)),0,VLOOKUP(B48,'Race 4'!$B$3:$F$53,5,FALSE)) -> 0 | H48: =IF(ISERROR(VLOOKUP(B48,'Race 5'!$B$3:$F$78,5,FALSE)),0,VLOOKUP(B48,'Race 5'!$B$3:$F$78,5,FALSE)) -> 0 | I48: =IF(ISERROR(VLOOKUP(B48,'Race 6'!B$3:G$42,5,FALSE)),0,VLOOKUP(B48,'Race 6'!B$3:G$42,5,FALSE)) -> 0 | J48: =IF(ISERROR(VLOOKUP(B48,'Race 7'!B$3:G$38,5,FALSE)),0,VLOOKUP(B48,'Race 7'!B$3:G$38,5,FALSE)) -> 0 | K48: =IF(ISERROR(VLOOKUP(B48,'Race 8'!B$3:J$50,5,FALSE)),0,VLOOKUP(B48,'Race 8'!B$3:J$50,5,FALSE)) -> 0 | L48: {=SUM(LARGE(D48:K48,{1,2,3,4,5}))} -> 158
A49: 47 | B49: Stuart Davies | C49: =COUNTIF(D49:K49,">0") -> 2 | D49: =IF(ISERROR(VLOOKUP(B49,'Race 1'!B$3:G$44,5,FALSE)),0,VLOOKUP(B49,'Race 1'!B$3:G$44,5,FALSE)) -> 0 | E49: =IF(ISERROR(VLOOKUP(B49,'Race 2'!$B$3:$F$66,5,FALSE)),0,VLOOKUP(B49,'Race 2'!$B$3:$F$66,5,FALSE)) -> 0 | F49: =IF(ISERROR(VLOOKUP(B49,'Race 3'!$B$3:$F$43,5,FALSE)),0,VLOOKUP(B49,'Race 3'!$B$3:$F$43,5,FALSE)) -> 83 | G49: =IF(ISERROR(VLOOKUP(B49,'Race 4'!$B$3:$F$53,5,FALSE)),0,VLOOKUP(B49,'Race 4'!$B$3:$F$53,5,FALSE)) -> 75 | H49: =IF(ISERROR(VLOOKUP(B49,'Race 5'!$B$3:$F$78,5,FALSE)),0,VLOOKUP(B49,'Race 5'!$B$3:$F$78,5,FALSE)) -> 0 | I49: =IF(ISERROR(VLOOKUP(B49,'Race 6'!B$3:G$42,5,FALSE)),0,VLOOKUP(B49,'Race 6'!B$3:G$42,5,FALSE)) -> 0 | J49: =IF(ISERROR(VLOOKUP(B49,'Race 7'!B$3:G$38,5,FALSE)),0,VLOOKUP(B49,'Race 7'!B$3:G$38,5,FALSE)) -> 0 | K49: =IF(ISERROR(VLOOKUP(B49,'Race 8'!B$3:J$50,5,FALSE)),0,VLOOKUP(B49,'Race 8'!B$3:J$50,5,FALSE)) -> 0 | L49: {=SUM(LARGE(D49:K49,{1,2,3,4,5}))} -> 158
A50: 48 | B50: Ed Davies | C50: =COUNTIF(D50:K50,">0") -> 2 | D50: =IF(ISERROR(VLOOKUP(B50,'Race 1'!B$3:G$44,5,FALSE)),0,VLOOKUP(B50,'Race 1'!B$3:G$44,5,FALSE)) -> 0 | E50: =IF(ISERROR(VLOOKUP(B50,'Race 2'!$B$3:$F$66,5,FALSE)),0,VLOOKUP(B50,'Race 2'!$B$3:$F$66,5,FALSE)) -> 76 | F50: =IF(ISERROR(VLOOKUP(B50,'Race 3'!$B$3:$F$43,5,FALSE)),0,VLOOKUP(B50,'Race 3'!$B$3:$F$43,5,FALSE)) -> 0 | G50: =IF(ISERROR(VLOOKUP(B50,'Race 4'!$B$3:$F$53,5,FALSE)),0,VLOOKUP(B50,'Race 4'!$B$3:$F$53,5,FALSE)) -> 74 | H50: =IF(ISERROR(VLOOKUP(B50,'Race 5'!$B$3:$F$78,5,FALSE)),0,VLOOKUP(B50,'Race 5'!$B$3:$F$78,5,FALSE)) -> 0 | I50: =IF(ISERROR(VLOOKUP(B50,'Race 6'!B$3:G$42,5,FALSE)),0,VLOOKUP(B50,'Race 6'!B$3:G$42,5,FALSE)) -> 0 | J50: =IF(ISERROR(VLOOKUP(B50,'Race 7'!B$3:G$38,5,FALSE)),0,VLOOKUP(B50,'Race 7'!B$3:G$38,5,FALSE)) -> 0 | K50: =IF(ISERROR(VLOOKUP(B50,'Race 8'!B$3:J$45,5,FALSE)),0,VLOOKUP(B50,'Race 8'!B$3:J$45,5,FALSE)) -> 0 | L50: {=SUM(LARGE(D50:K50,{1,2,3,4,5}))} -> 150
A51: 49 | B51: Louise Steer | C51: =COUNTIF(D51:K51,">0") -> 2 | D51: =IF(ISERROR(VLOOKUP(B51,'Race 1'!B$3:G$44,5,FALSE)),0,VLOOKUP(B51,'Race 1'!B$3:G$44,5,FALSE)) -> 0 | E51: =IF(ISERROR(VLOOKUP(B51,'Race 2'!$B$3:$F$66,5,FALSE)),0,VLOOKUP(B51,'Race 2'!$B$3:$F$66,5,FALSE)) -> 0 | F51: =IF(ISERROR(VLOOKUP(B51,'Race 3'!$B$3:$F$43,5,FALSE)),0,VLOOKUP(B51,'Race 3'!$B$3:$F$43,5,FALSE)) -> 73 | G51: =IF(ISERROR(VLOOKUP(B51,'Race 4'!$B$3:$F$53,5,FALSE)),0,VLOOKUP(B51,'Race 4'!$B$3:$F$53,5,FALSE)) -> 73 | H51: =IF(ISERROR(VLOOKUP(B51,'Race 5'!$B$3:$F$78,5,FALSE)),0,VLOOKUP(B51,'Race 5'!$B$3:$F$78,5,FALSE)) -> 0 | I51: =IF(ISERROR(VLOOKUP(B51,'Race 6'!B$3:G$42,5,FALSE)),0,VLOOKUP(B51,'Race 6'!B$3:G$42,5,FALSE)) -> 0 | J51: =IF(ISERROR(VLOOKUP(B51,'Race 7'!B$3:G$38,5,FALSE)),0,VLOOKUP(B51,'Race 7'!B$3:G$38,5,FALSE)) -> 0 | K51: =IF(ISERROR(VLOOKUP(B51,'Race 8'!B$3:J$50,5,FALSE)),0,VLOOKUP(B51,'Race 8'!B$3:J$50,5,FALSE)) -> 0 | L51: {=SUM(LARGE(D51:K51,{1,2,3,4,5}))} -> 146
A52: 50 | B52: Linda Owens | C52: =COUNTIF(D52:K52,">0") -> 2 | D52: =IF(ISERROR(VLOOKUP(B52,'Race 1'!B$3:G$44,5,FALSE)),0,VLOOKUP(B52,'Race 1'!B$3:G$44,5,FALSE)) -> 0 | E52: =IF(ISERROR(VLOOKUP(B52,'Race 2'!$B$3:$F$66,5,FALSE)),0,VLOOKUP(B52,'Race 2'!$B$3:$F$66,5,FALSE)) -> 77 | F52: =IF(ISERROR(VLOOKUP(B52,'Race 3'!$B$3:$F$43,5,FALSE)),0,VLOOKUP(B52,'Race 3'!$B$3:$F$43,5,FALSE)) -> 0 | G52: =IF(ISERROR(VLOOKUP(B52,'Race 4'!$B$3:$F$53,5,FALSE)),0,VLOOKUP(B52,'Race 4'!$B$3:$F$53,5,FALSE)) -> 60 | H52: =IF(ISERROR(VLOOKUP(B52,'Race 5'!$B$3:$F$78,5,FALSE)),0,VLOOKUP(B52,'Race 5'!$B$3:$F$78,5,FALSE)) -> 0 | I52: =IF(ISERROR(VLOOKUP(B52,'Race 6'!B$3:G$42,5,FALSE)),0,VLOOKUP(B52,'Race 6'!B$3:G$42,5,FALSE)) -> 0 | J52: =IF(ISERROR(VLOOKUP(B52,'Race 7'!B$3:G$38,5,FALSE)),0,VLOOKUP(B52,'Race 7'!B$3:G$38,5,FALSE)) -> 0 | K52: =IF(ISERROR(VLOOKUP(B52,'Race 8'!B$3:J$50,5,FALSE)),0,VLOOKUP(B52,'Race 8'!B$3:J$50,5,FALSE)) -> 0 | L52: {=SUM(LARGE(D52:K52,{1,2,3,4,5}))} -> 137
A53: 51 | B53: Caroline Morgan | C53: =COUNTIF(D53:K53,">0") -> 2 | D53: =IF(ISERROR(VLOOKUP(B53,'Race 1'!B$3:G$44,5,FALSE)),0,VLOOKUP(B53,'Race 1'!B$3:G$44,5,FALSE)) -> 70 | E53: =IF(ISERROR(VLOOKUP(B53,'Race 2'!$B$3:$F$66,5,FALSE)),0,VLOOKUP(B53,'Race 2'!$B$3:$F$66,5,FALSE)) -> 0 | F53: =IF(ISERROR(VLOOKUP(B53,'Race 3'!$B$3:$F$43,5,FALSE)),0,VLOOKUP(B53,'Race 3'!$B$3:$F$43,5,FALSE)) -> 0 | G53: =IF(ISERROR(VLOOKUP(B53,'Race 4'!$B$3:$F$53,5,FALSE)),0,VLOOKUP(B53,'Race 4'!$B$3:$F$53,5,FALSE)) -> 67 | H53: =IF(ISERROR(VLOOKUP(B53,'Race 5'!$B$3:$F$78,5,FALSE)),0,VLOOKUP(B53,'Race 5'!$B$3:$F$78,5,FALSE)) -> 0 | I53: =IF(ISERROR(VLOOKUP(B53,'Race 6'!B$3:G$42,5,FALSE)),0,VLOOKUP(B53,'Race 6'!B$3:G$42,5,FALSE)) -> 0 | J53: =IF(ISERROR(VLOOKUP(B53,'Race 7'!B$3:G$38,5,FALSE)),0,VLOOKUP(B53,'Race 7'!B$3:G$38,5,FALSE)) -> 0 | K53: =IF(ISERROR(VLOOKUP(B53,'Race 8'!B$3:J$50,5,FALSE)),0,VLOOKUP(B53,'Race 8'!B$3:J$50,5,FALSE)) -> 0 | L53: {=SUM(LARGE(D53:K53,{1,2,3,4,5}))} -> 137
A54: 52 | B54: Mike Prasad | C54: =COUNTIF(D54:K54,">0") -> 2 | D54: =IF(ISERROR(VLOOKUP(B54,'Race 1'!B$3:G$44,5,FALSE)),0,VLOOKUP(B54,'Race 1'!B$3:G$44,5,FALSE)) -> 69 | E54: =IF(ISERROR(VLOOKUP(B54,'Race 2'!$B$3:$F$66,5,FALSE)),0,VLOOKUP(B54,'Race 2'!$B$3:$F$66,5,FALSE)) -> 0 | F54: =IF(ISERROR(VLOOKUP(B54,'Race 3'!$B$3:$F$43,5,FALSE)),0,VLOOKUP(B54,'Race 3'!$B$3:$F$43,5,FALSE)) -> 66 | G54: =IF(ISERROR(VLOOKUP(B54,'Race 4'!$B$3:$F$53,5,FALSE)),0,VLOOKUP(B54,'Race 4'!$B$3:$F$53,5,FALSE)) -> 0 | H54: =IF(ISERROR(VLOOKUP(B54,'Race 5'!$B$3:$F$78,5,FALSE)),0,VLOOKUP(B54,'Race 5'!$B$3:$F$78,5,FALSE)) -> 0 | I54: =IF(ISERROR(VLOOKUP(B54,'Race 6'!B$3:G$42,5,FALSE)),0,VLOOKUP(B54,'Race 6'!B$3:G$42,5,FALSE)) -> 0 | J54: =IF(ISERROR(VLOOKUP(B54,'Race 7'!B$3:G$38,5,FALSE)),0,VLOOKUP(B54,'Race 7'!B$3:G$38,5,FALSE)) -> 0 | K54: =IF(ISERROR(VLOOKUP(B54,'Race 8'!B$3:J$50,5,FALSE)),0,VLOOKUP(B54,'Race 8'!B$3:J$50,5,FALSE)) -> 0 | L54: {=SUM(LARGE(D54:K54,{1,2,3,4,5}))} -> 135
A55: 53 | B55: Cori Davies | C55: =COUNTIF(D55:K55,">0") -> 2 | D55: =IF(ISERROR(VLOOKUP(B55,'Race 1'!B$3:G$44,5,FALSE)),0,VLOOKUP(B55,'Race 1'!B$3:G$44,5,FALSE)) -> 68 | E55: =IF(ISERROR(VLOOKUP(B55,'Race 2'!$B$3:$F$66,5,FALSE)),0,VLOOKUP(B55,'Race 2'!$B$3:$F$66,5,FALSE)) -> 64 | F55: =IF(ISERROR(VLOOKUP(B55,'Race 3'!$B$3:$F$43,5,FALSE)),0,VLOOKUP(B55,'Race 3'!$B$3:$F$43,5,FALSE)) -> 0 | G55: =IF(ISERROR(VLOOKUP(B55,'Race 4'!$B$3:$F$53,5,FALSE)),0,VLOOKUP(B55,'Race 4'!$B$3:$F$53,5,FALSE)) -> 0 | H55: =IF(ISERROR(VLOOKUP(B55,'Race 5'!$B$3:$F$78,5,FALSE)),0,VLOOKUP(B55,'Race 5'!$B$3:$F$78,5,FALSE)) -> 0 | I55: =IF(ISERROR(VLOOKUP(B55,'Race 6'!B$3:G$42,5,FALSE)),0,VLOOKUP(B55,'Race 6'!B$3:G$42,5,FALSE)) -> 0 | J55: =IF(ISERROR(VLOOKUP(B55,'Race 7'!B$3:G$38,5,FALSE)),0,VLOOKUP(B55,'Race 7'!B$3:G$38,5,FALSE)) -> 0 | K55: =IF(ISERROR(VLOOKUP(B55,'Race 8'!B$3:J$50,5,FALSE)),0,VLOOKUP(B55,'Race 8'!B$3:J$50,5,FALSE)) -> 0 | L55: {=SUM(LARGE(D55:K55,{1,2,3,4,5}))} -> 132
A56: 54 | B56: Saran Lewis | C56: =COUNTIF(D56:K56,">0") -> 2 | D56: =IF(ISERROR(VLOOKUP(B56,'Race 1'!B$3:G$44,5,FALSE)),0,VLOOKUP(B56,'Race 1'!B$3:G$44,5,FALSE)) -> 0 | E56: =IF(ISERROR(VLOOKUP(B56,'Race 2'!$B$3:$F$66,5,FALSE)),0,VLOOKUP(B56,'Race 2'!$B$3:$F$66,5,FALSE)) -> 66 | F56: =IF(ISERROR(VLOOKUP(B56,'Race 3'!$B$3:$F$43,5,FALSE)),0,VLOOKUP(B56,'Race 3'!$B$3:$F$43,5,FALSE)) -> 0 | G56: =IF(ISERROR(VLOOKUP(B56,'Race 4'!$B$3:$F$53,5,FALSE)),0,VLOOKUP(B56,'Race 4'!$B$3:$F$53,5,FALSE)) -> 63 | H56: =IF(ISERROR(VLOOKUP(B56,'Race 5'!$B$3:$F$78,5,FALSE)),0,VLOOKUP(B56,'Race 5'!$B$3:$F$78,5,FALSE)) -> 0 | I56: =IF(ISERROR(VLOOKUP(B56,'Race 6'!B$3:G$42,5,FALSE)),0,VLOOKUP(B56,'Race 6'!B$3:G$42,5,FALSE)) -> 0 | J56: =IF(ISERROR(VLOOKUP(B56,'Race 7'!B$3:G$38,5,FALSE)),0,VLOOKUP(B56,'Race 7'!B$3:G$38,5,FALSE)) -> 0 | K56: =IF(ISERROR(VLOOKUP(B56,'Race 8'!B$3:J$50,5,FALSE)),0,VLOOKUP(B56,'Race 8'!B$3:J$50,5,FALSE)) -> 0 | L56: {=SUM(LARGE(D56:K56,{1,2,3,4,5}))} -> 129
A57: 55 | B57: Sophie Grunhut | C57: =COUNTIF(D57:K57,">0") -> 2 | D57: =IF(ISERROR(VLOOKUP(B57,'Race 1'!B$3:G$44,5,FALSE)),0,VLOOKUP(B57,'Race 1'!B$3:G$44,5,FALSE)) -> 0 | E57: =IF(ISERROR(VLOOKUP(B57,'Race 2'!$B$3:$F$66,5,FALSE)),0,VLOOKUP(B57,'Race 2'!$B$3:$F$66,5,FALSE)) -> 54 | F57: =IF(ISERROR(VLOOKUP(B57,'Race 3'!$B$3:$F$43,5,FALSE)),0,VLOOKUP(B57,'Race 3'!$B$3:$F$43,5,FALSE)) -> 62 | G57: =IF(ISERROR(VLOOKUP(B57,'Race 4'!$B$3:$F$53,5,FALSE)),0,VLOOKUP(B57,'Race 4'!$B$3:$F$53,5,FALSE)) -> 0 | H57: =IF(ISERROR(VLOOKUP(B57,'Race 5'!$B$3:$F$78,5,FALSE)),0,VLOOKUP(B57,'Race 5'!$B$3:$F$78,5,FALSE)) -> 0 | I57: =IF(ISERROR(VLOOKUP(B57,'Race 6'!B$3:G$42,5,FALSE)),0,VLOOKUP(B57,'Race 6'!B$3:G$42,5,FALSE)) -> 0 | J57: =IF(ISERROR(VLOOKUP(B57,'Race 7'!B$3:G$38,5,FALSE)),0,VLOOKUP(B57,'Race 7'!B$3:G$38,5,FALSE)) -> 0 | K57: =IF(ISERROR(VLOOKUP(B57,'Race 8'!B$3:J$50,5,FALSE)),0,VLOOKUP(B57,'Race 8'!B$3:J$50,5,FALSE)) -> 0 | L57: {=SUM(LARGE(D57:K57,{1,2,3,4,5}))} -> 116
A58: 56 | B58: Frances Ratcliff | C58: =COUNTIF(D58:K58,">0") -> 2 | D58: =IF(ISERROR(VLOOKUP(B58,'Race 1'!B$3:G$44,5,FALSE)),0,VLOOKUP(B58,'Race 1'!B$3:G$44,5,FALSE)) -> 60 | E58: =IF(ISERROR(VLOOKUP(B58,'Race 2'!$B$3:$F$66,5,FALSE)),0,VLOOKUP(B58,'Race 2'!$B$3:$F$66,5,FALSE)) -> 0 | F58: =IF(ISERROR(VLOOKUP(B58,'Race 3'!$B$3:$F$43,5,FALSE)),0,VLOOKUP(B58,'Race 3'!$B$3:$F$43,5,FALSE)) -> 0 | G58: =IF(ISERROR(VLOOKUP(B58,'Race 4'!$B$3:$F$53,5,FALSE)),0,VLOOKUP(B58,'Race 4'!$B$3:$F$53,5,FALSE)) -> 50 | H58: =IF(ISERROR(VLOOKUP(B58,'Race 5'!$B$3:$F$78,5,FALSE)),0,VLOOKUP(B58,'Race 5'!$B$3:$F$78,5,FALSE)) -> 0 | I58: =IF(ISERROR(VLOOKUP(B58,'Race 6'!B$3:G$42,5,FALSE)),0,VLOOKUP(B58,'Race 6'!B$3:G$42,5,FALSE)) -> 0 | J58: =IF(ISERROR(VLOOKUP(B58,'Race 7'!B$3:G$38,5,FALSE)),0,VLOOKUP(B58,'Race 7'!B$3:G$38,5,FALSE)) -> 0 | K58: =IF(ISERROR(VLOOKUP(B58,'Race 8'!B$3:J$50,5,FALSE)),0,VLOOKUP(B58,'Race 8'!B$3:J$50,5,FALSE)) -> 0 | L58: {=SUM(LARGE(D58:K58,{1,2,3,4,5}))} -> 110
A59: 57 | B59: Katie Williams | C59: =COUNTIF(D59:K59,">0") -> 1 | D59: =IF(ISERROR(VLOOKUP(B59,'Race 1'!B$3:G$44,5,FALSE)),0,VLOOKUP(B59,'Race 1'!B$3:G$44,5,FALSE)) -> 0 | E59: =IF(ISERROR(VLOOKUP(B59,'Race 2'!$B$3:$F$66,5,FALSE)),0,VLOOKUP(B59,'Race 2'!$B$3:$F$66,5,FALSE)) -> 0 | F59: =IF(ISERROR(VLOOKUP(B59,'Race 3'!$B$3:$F$43,5,FALSE)),0,VLOOKUP(B59,'Race 3'!$B$3:$F$43,5,FALSE)) -> 0 | G59: =IF(ISERROR(VLOOKUP(B59,'Race 4'!$B$3:$F$53,5,FALSE)),0,VLOOKUP(B59,'Race 4'!$B$3:$F$53,5,FALSE)) -> 100 | H59: =IF(ISERROR(VLOOKUP(B59,'Race 5'!$B$3:$F$78,5,FALSE)),0,VLOOKUP(B59,'Race 5'!$B$3:$F$78,5,FALSE)) -> 0 | I59: =IF(ISERROR(VLOOKUP(B59,'Race 6'!B$3:G$42,5,FALSE)),0,VLOOKUP(B59,'Race 6'!B$3:G$42,5,FALSE)) -> 0 | J59: =IF(ISERROR(VLOOKUP(B59,'Race 7'!B$3:G$38,5,FALSE)),0,VLOOKUP(B59,'Race 7'!B$3:G$38,5,FALSE)) -> 0 | K59: =IF(ISERROR(VLOOKUP(B59,'Race 8'!B$3:J$50,5,FALSE)),0,VLOOKUP(B59,'Race 8'!B$3:J$50,5,FALSE)) -> 0 | L59: {=SUM(LARGE(D59:K59,{1,2,3,4,5}))} -> 100
A60: 58 | B60: Chris Pridmore | C60: =COUNTIF(D60:K60,">0") -> 1 | D60: =IF(ISERROR(VLOOKUP(B60,'Race 1'!B$3:G$44,5,FALSE)),0,VLOOKUP(B60,'Race 1'!B$3:G$44,5,FALSE)) -> 0 | E60: =IF(ISERROR(VLOOKUP(B60,'Race 2'!$B$3:$F$66,5,FALSE)),0,VLOOKUP(B60,'Race 2'!$B$3:$F$66,5,FALSE)) -> 0 | F60: =IF(ISERROR(VLOOKUP(B60,'Race 3'!$B$3:$F$43,5,FALSE)),0,VLOOKUP(B60,'Race 3'!$B$3:$F$43,5,FALSE)) -> 0 | G60: =IF(ISERROR(VLOOKUP(B60,'Race 4'!$B$3:$F$53,5,FALSE)),0,VLOOKUP(B60,'Race 4'!$B$3:$F$53,5,FALSE)) -> 96 | H60: =IF(ISERROR(VLOOKUP(B60,'Race 5'!$B$3:$F$78,5,FALSE)),0,VLOOKUP(B60,'Race 5'!$B$3:$F$78,5,FALSE)) -> 0 | I60: =IF(ISERROR(VLOOKUP(B60,'Race 6'!B$3:G$42,5,FALSE)),0,VLOOKUP(B60,'Race 6'!B$3:G$42,5,FALSE)) -> 0 | J60: =IF(ISERROR(VLOOKUP(B60,'Race 7'!B$3:G$38,5,FALSE)),0,VLOOKUP(B60,'Race 7'!B$3:G$38,5,FALSE)) -> 0 | K60: =IF(ISERROR(VLOOKUP(B60,'Race 8'!B$3:J$45,5,FALSE)),0,VLOOKUP(B60,'Race 8'!B$3:J$45,5,FALSE)) -> 0 | L60: {=SUM(LARGE(D60:K60,{1,2,3,4,5}))} -> 96
A61: 59 | B61: James Davies | C61: =COUNTIF(D61:K61,">0") -> 1 | D61: =IF(ISERROR(VLOOKUP(B61,'Race 1'!B$3:G$44,5,FALSE)),0,VLOOKUP(B61,'Race 1'!B$3:G$44,5,FALSE)) -> 0 | E61: =IF(ISERROR(VLOOKUP(B61,'Race 2'!$B$3:$F$66,5,FALSE)),0,VLOOKUP(B61,'Race 2'!$B$3:$F$66,5,FALSE)) -> 0 | F61: =IF(ISERROR(VLOOKUP(B61,'Race 3'!$B$3:$F$43,5,FALSE)),0,VLOOKUP(B61,'Race 3'!$B$3:$F$43,5,FALSE)) -> 81 | G61: =IF(ISERROR(VLOOKUP(B61,'Race 4'!$B$3:$F$53,5,FALSE)),0,VLOOKUP(B61,'Race 4'!$B$3:$F$53,5,FALSE)) -> 0 | H61: =IF(ISERROR(VLOOKUP(B61,'Race 5'!$B$3:$F$78,5,FALSE)),0,VLOOKUP(B61,'Race 5'!$B$3:$F$78,5,FALSE)) -> 0 | I61: =IF(ISERROR(VLOOKUP(B61,'Race 6'!B$3:G$42,5,FALSE)),0,VLOOKUP(B61,'Race 6'!B$3:G$42,5,FALSE)) -> 0 | J61: =IF(ISERROR(VLOOKUP(B61,'Race 7'!B$3:G$38,5,FALSE)),0,VLOOKUP(B61,'Race 7'!B$3:G$38,5,FALSE)) -> 0 | K61: =IF(ISERROR(VLOOKUP(B61,'Race 8'!B$3:J$50,5,FALSE)),0,VLOOKUP(B61,'Race 8'!B$3:J$50,5,FALSE)) -> 0 | L61: {=SUM(LARGE(D61:K61,{1,2,3,4,5}))} -> 81
A62: 60 | B62: Michelle Thomas-Luisi | C62: =COUNTIF(D62:K62,">0") -> 1 | D62: =IF(ISERROR(VLOOKUP(B62,'Race 1'!B$3:G$44,5,FALSE)),0,VLOOKUP(B62,'Race 1'!B$3:G$44,5,FALSE)) -> 0 | E62: =IF(ISERROR(VLOOKUP(B62,'Race 2'!$B$3:$F$66,5,FALSE)),0,VLOOKUP(B62,'Race 2'!$B$3:$F$66,5,FALSE)) -> 0 | F62: =IF(ISERROR(VLOOKUP(B62,'Race 3'!$B$3:$F$43,5,FALSE)),0,VLOOKUP(B62,'Race 3'!$B$3:$F$43,5,FALSE)) -> 0 | G62: =IF(ISERROR(VLOOKUP(B62,'Race 4'!$B$3:$F$53,5,FALSE)),0,VLOOKUP(B62,'Race 4'!$B$3:$F$53,5,FALSE)) -> 80 | H62: =IF(ISERROR(VLOOKUP(B62,'Race 5'!$B$3:$F$78,5,FALSE)),0,VLOOKUP(B62,'Race 5'!$B$3:$F$78,5,FALSE)) -> 0 | I62: =IF(ISERROR(VLOOKUP(B62,'Race 6'!B$3:G$42,5,FALSE)),0,VLOOKUP(B62,'Race 6'!B$3:G$42,5,FALSE)) -> 0 | J62: =IF(ISERROR(VLOOKUP(B62,'Race 7'!B$3:G$38,5,FALSE)),0,VLOOKUP(B62,'Race 7'!B$3:G$38,5,FALSE)) -> 0 | K62: =IF(ISERROR(VLOOKUP(B62,'Race 8'!B$3:J$50,5,FALSE)),0,VLOOKUP(B62,'Race 8'!B$3:J$50,5,FALSE)) -> 0 | L62: {=SUM(LARGE(D62:K62,{1,2,3,4,5}))} -> 80
A63: 61 | B63: Ceri Isaac | C63: =COUNTIF(D63:K63,">0") -> 1 | D63: =IF(ISERROR(VLOOKUP(B63,'Race 1'!B$3:G$44,5,FALSE)),0,VLOOKUP(B63,'Race 1'!B$3:G$44,5,FALSE)) -> 0 | E63: =IF(ISERROR(VLOOKUP(B63,'Race 2'!$B$3:$F$66,5,FALSE)),0,VLOOKUP(B63,'Race 2'!$B$3:$F$66,5,FALSE)) -> 0 | F63: =IF(ISERROR(VLOOKUP(B63,'Race 3'!$B$3:$F$43,5,FALSE)),0,VLOOKUP(B63,'Race 3'!$B$3:$F$43,5,FALSE)) -> 71 | G63: =IF(ISERROR(VLOOKUP(B63,'Race 4'!$B$3:$F$53,5,FALSE)),0,VLOOKUP(B63,'Race 4'!$B$3:$F$53,5,FALSE)) -> 0 | H63: =IF(ISERROR(VLOOKUP(B63,'Race 5'!$B$3:$F$78,5,FALSE)),0,VLOOKUP(B63,'Race 5'!$B$3:$F$78,5,FALSE)) -> 0 | I63: =IF(ISERROR(VLOOKUP(B63,'Race 6'!B$3:G$42,5,FALSE)),0,VLOOKUP(B63,'Race 6'!B$3:G$42,5,FALSE)) -> 0 | J63: =IF(ISERROR(VLOOKUP(B63,'Race 7'!B$3:G$38,5,FALSE)),0,VLOOKUP(B63,'Race 7'!B$3:G$38,5,FALSE)) -> 0 | K63: =IF(ISERROR(VLOOKUP(B63,'Race 8'!B$3:J$50,5,FALSE)),0,VLOOKUP(B63,'Race 8'!B$3:J$50,5,FALSE)) -> 0 | L63: {=SUM(LARGE(D63:K63,{1,2,3,4,5}))} -> 71
A64: 62 | B64: Gina Southam | C64: =COUNTIF(D64:K64,">0") -> 1 | D64: =IF(ISERROR(VLOOKUP(B64,'Race 1'!B$3:G$44,5,FALSE)),0,VLOOKUP(B64,'Race 1'!B$3:G$44,5,FALSE)) -> 62 | E64: =IF(ISERROR(VLOOKUP(B64,'Race 2'!$B$3:$F$66,5,FALSE)),0,VLOOKUP(B64,'Race 2'!$B$3:$F$66,5,FALSE)) -> 0 | F64: =IF(ISERROR(VLOOKUP(B64,'Race 3'!$B$3:$F$43,5,FALSE)),0,VLOOKUP(B64,'Race 3'!$B$3:$F$43,5,FALSE)) -> 0 | G64: =IF(ISERROR(VLOOKUP(B64,'Race 4'!$B$3:$F$53,5,FALSE)),0,VLOOKUP(B64,'Race 4'!$B$3:$F$53,5,FALSE)) -> 0 | H64: =IF(ISERROR(VLOOKUP(B64,'Race 5'!$B$3:$F$78,5,FALSE)),0,VLOOKUP(B64,'Race 5'!$B$3:$F$78,5,FALSE)) -> 0 | I64: =IF(ISERROR(VLOOKUP(B64,'Race 6'!B$3:G$42,5,FALSE)),0,VLOOKUP(B64,'Race 6'!B$3:G$42,5,FALSE)) -> 0 | J64: =IF(ISERROR(VLOOKUP(B64,'Race 7'!B$3:G$38,5,FALSE)),0,VLOOKUP(B64,'Race 7'!B$3:G$38,5,FALSE)) -> 0 | K64: =IF(ISERROR(VLOOKUP(B64,'Race 8'!B$3:J$50,5,FALSE)),0,VLOOKUP(B64,'Race 8'!B$3:J$50,5,FALSE)) -> 0 | L64: {=SUM(LARGE(D64:K64,{1,2,3,4,5}))} -> 62
A65: 63 | B65: Emily Thomas | C65: =COUNTIF(D65:K65,">0") -> 1 | D65: =IF(ISERROR(VLOOKUP(B65,'Race 1'!B$3:G$44,5,FALSE)),0,VLOOKUP(B65,'Race 1'!B$3:G$44,5,FALSE)) -> 0 | E65: =IF(ISERROR(VLOOKUP(B65,'Race 2'!$B$3:$F$66,5,FALSE)),0,VLOOKUP(B65,'Race 2'!$B$3:$F$66,5,FALSE)) -> 0 | F65: =IF(ISERROR(VLOOKUP(B65,'Race 3'!$B$3:$F$43,5,FALSE)),0,VLOOKUP(B65,'Race 3'!$B$3:$F$43,5,FALSE)) -> 0 | G65: =IF(ISERROR(VLOOKUP(B65,'Race 4'!$B$3:$F$53,5,FALSE)),0,VLOOKUP(B65,'Race 4'!$B$3:$F$53,5,FALSE)) -> 61 | H65: =IF(ISERROR(VLOOKUP(B65,'Race 5'!$B$3:$F$78,5,FALSE)),0,VLOOKUP(B65,'Race 5'!$B$3:$F$78,5,FALSE)) -> 0 | I65: =IF(ISERROR(VLOOKUP(B65,'Race 6'!B$3:G$42,5,FALSE)),0,VLOOKUP(B65,'Race 6'!B$3:G$42,5,FALSE)) -> 0 | J65: =IF(ISERROR(VLOOKUP(B65,'Race 7'!B$3:G$38,5,FALSE)),0,VLOOKUP(B65,'Race 7'!B$3:G$38,5,FALSE)) -> 0 | K65: =IF(ISERROR(VLOOKUP(B65,'Race 8'!B$3:J$50,5,FALSE)),0,VLOOKUP(B65,'Race 8'!B$3:J$50,5,FALSE)) -> 0 | L65: {=SUM(LARGE(D65:K65,{1,2,3,4,5}))} -> 61
A66: 64 | B66: Paula Stockley | C66: =COUNTIF(D66:K66,">0") -> 1 | D66: =IF(ISERROR(VLOOKUP(B66,'Race 1'!B$3:G$44,5,FALSE)),0,VLOOKUP(B66,'Race 1'!B$3:G$44,5,FALSE)) -> 0 | E66: =IF(ISERROR(VLOOKUP(B66,'Race 2'!$B$3:$F$66,5,FALSE)),0,VLOOKUP(B66,'Race 2'!$B$3:$F$66,5,FALSE)) -> 0 | F66: =IF(ISERROR(VLOOKUP(B66,'Race 3'!$B$3:$F$43,5,FALSE)),0,VLOOKUP(B66,'Race 3'!$B$3:$F$43,5,FALSE)) -> 61 | G66: =IF(ISERROR(VLOOKUP(B66,'Race 4'!$B$3:$F$53,5,FALSE)),0,VLOOKUP(B66,'Race 4'!$B$3:$F$53,5,FALSE)) -> 0 | H66: =IF(ISERROR(VLOOKUP(B66,'Race 5'!$B$3:$F$78,5,FALSE)),0,VLOOKUP(B66,'Race 5'!$B$3:$F$78,5,FALSE)) -> 0 | I66: =IF(ISERROR(VLOOKUP(B66,'Race 6'!B$3:G$42,5,FALSE)),0,VLOOKUP(B66,'Race 6'!B$3:G$42,5,FALSE)) -> 0 | J66: =IF(ISERROR(VLOOKUP(B66,'Race 7'!B$3:G$38,5,FALSE)),0,VLOOKUP(B66,'Race 7'!B$3:G$38,5,FALSE)) -> 0 | K66: =IF(ISERROR(VLOOKUP(B66,'Race 8'!B$3:J$50,5,FALSE)),0,VLOOKUP(B66,'Race 8'!B$3:J$50,5,FALSE)) -> 0 | L66: {=SUM(LARGE(D66:K66,{1,2,3,4,5}))} -> 61
A67: 65 | B67: Caroline Jones I | C67: =COUNTIF(D67:K67,">0") -> 1 | D67: =IF(ISERROR(VLOOKUP(B67,'Race 1'!B$3:G$44,5,FALSE)),0,VLOOKUP(B67,'Race 1'!B$3:G$44,5,FALSE)) -> 0 | E67: =IF(ISERROR(VLOOKUP(B67,'Race 2'!$B$3:$F$66,5,FALSE)),0,VLOOKUP(B67,'Race 2'!$B$3:$F$66,5,FALSE)) -> 59 | F67: =IF(ISERROR(VLOOKUP(B67,'Race 3'!$B$3:$F$43,5,FALSE)),0,VLOOKUP(B67,'Race 3'!$B$3:$F$43,5,FALSE)) -> 0 | G67: =IF(ISERROR(VLOOKUP(B67,'Race 4'!$B$3:$F$53,5,FALSE)),0,VLOOKUP(B67,'Race 4'!$B$3:$F$53,5,FALSE)) -> 0 | H67: =IF(ISERROR(VLOOKUP(B67,'Race 5'!$B$3:$F$78,5,FALSE)),0,VLOOKUP(B67,'Race 5'!$B$3:$F$78,5,FALSE)) -> 0 | I67: =IF(ISERROR(VLOOKUP(B67,'Race 6'!B$3:G$42,5,FALSE)),0,VLOOKUP(B67,'Race 6'!B$3:G$42,5,FALSE)) -> 0 | J67: =IF(ISERROR(VLOOKUP(B67,'Race 7'!B$3:G$38,5,FALSE)),0,VLOOKUP(B67,'Race 7'!B$3:G$38,5,FALSE)) -> 0 | K67: =IF(ISERROR(VLOOKUP(B67,'Race 8'!B$3:J$50,5,FALSE)),0,VLOOKUP(B67,'Race 8'!B$3:J$50,5,FALSE)) -> 0 | L67: {=SUM(LARGE(D67:K67,{1,2,3,4,5}))} -> 59
A68: 66 | B68: Meghann Millership | C68: =COUNTIF(D68:K68,">0") -> 1 | D68: =IF(ISERROR(VLOOKUP(B68,'Race 1'!B$3:G$44,5,FALSE)),0,VLOOKUP(B68,'Race 1'!B$3:G$44,5,FALSE)) -> 0 | E68: =IF(ISERROR(VLOOKUP(B68,'Race 2'!$B$3:$F$66,5,FALSE)),0,VLOOKUP(B68,'Race 2'!$B$3:$F$66,5,FALSE)) -> 57 | F68: =IF(ISERROR(VLOOKUP(B68,'Race 3'!$B$3:$F$43,5,FALSE)),0,VLOOKUP(B68,'Race 3'!$B$3:$F$43,5,FALSE)) -> 0 | G68: =IF(ISERROR(VLOOKUP(B68,'Race 4'!$B$3:$F$53,5,FALSE)),0,VLOOKUP(B68,'Race 4'!$B$3:$F$53,5,FALSE)) -> 0 | H68: =IF(ISERROR(VLOOKUP(B68,'Race 5'!$B$3:$F$78,5,FALSE)),0,VLOOKUP(B68,'Race 5'!$B$3:$F$78,5,FALSE)) -> 0 | I68: =IF(ISERROR(VLOOKUP(B68,'Race 6'!B$3:G$42,5,FALSE)),0,VLOOKUP(B68,'Race 6'!B$3:G$42,5,FALSE)) -> 0 | J68: =IF(ISERROR(VLOOKUP(B68,'Race 7'!B$3:G$38,5,FALSE)),0,VLOOKUP(B68,'Race 7'!B$3:G$38,5,FALSE)) -> 0 | K68: =IF(ISERROR(VLOOKUP(B68,'Race 8'!B$3:J$50,5,FALSE)),0,VLOOKUP(B68,'Race 8'!B$3:J$50,5,FALSE)) -> 0 | L68: {=SUM(LARGE(D68:K68,{1,2,3,4,5}))} -> 57
A69: 67 | B69: Mark Jenkins | C69: =COUNTIF(D69:K69,">0") -> 1 | D69: =IF(ISERROR(VLOOKUP(B69,'Race 1'!B$3:G$44,5,FALSE)),0,VLOOKUP(B69,'Race 1'!B$3:G$44,5,FALSE)) -> 0 | E69: =IF(ISERROR(VLOOKUP(B69,'Race 2'!$B$3:$F$66,5,FALSE)),0,VLOOKUP(B69,'Race 2'!$B$3:$F$66,5,FALSE)) -> 0 | F69: =IF(ISERROR(VLOOKUP(B69,'Race 3'!$B$3:$F$43,5,FALSE)),0,VLOOKUP(B69,'Race 3'!$B$3:$F$43,5,FALSE)) -> 0 | G69: =IF(ISERROR(VLOOKUP(B69,'Race 4'!$B$3:$F$53,5,FALSE)),0,VLOOKUP(B69,'Race 4'!$B$3:$F$53,5,FALSE)) -> 57 | H69: =IF(ISERROR(VLOOKUP(B69,'Race 5'!$B$3:$F$78,5,FALSE)),0,VLOOKUP(B69,'Race 5'!$B$3:$F$78,5,FALSE)) -> 0 | I69: =IF(ISERROR(VLOOKUP(B69,'Race 6'!B$3:G$42,5,FALSE)),0,VLOOKUP(B69,'Race 6'!B$3:G$42,5,FALSE)) -> 0 | J69: =IF(ISERROR(VLOOKUP(B69,'Race 7'!B$3:G$38,5,FALSE)),0,VLOOKUP(B69,'Race 7'!B$3:G$38,5,FALSE)) -> 0 | K69: =IF(ISERROR(VLOOKUP(B69,'Race 8'!B$3:J$50,5,FALSE)),0,VLOOKUP(B69,'Race 8'!B$3:J$50,5,FALSE)) -> 0 | L69: {=SUM(LARGE(D69:K69,{1,2,3,4,5}))} -> 57
A70: 68 | B70: Clare Daniel | C70: =COUNTIF(D70:K70,">0") -> 1 | D70: =IF(ISERROR(VLOOKUP(B70,'Race 1'!B$3:G$44,5,FALSE)),0,VLOOKUP(B70,'Race 1'!B$3:G$44,5,FALSE)) -> 0 | E70: =IF(ISERROR(VLOOKUP(B70,'Race 2'!$B$3:$F$66,5,FALSE)),0,VLOOKUP(B70,'Race 2'!$B$3:$F$66,5,FALSE)) -> 55 | F70: =IF(ISERROR(VLOOKUP(B70,'Race 3'!$B$3:$F$43,5,FALSE)),0,VLOOKUP(B70,'Race 3'!$B$3:$F$43,5,FALSE)) -> 0 | G70: =IF(ISERROR(VLOOKUP(B70,'Race 4'!$B$3:$F$53,5,FALSE)),0,VLOOKUP(B70,'Race 4'!$B$3:$F$53,5,FALSE)) -> 0 | H70: =IF(ISERROR(VLOOKUP(B70,'Race 5'!$B$3:$F$78,5,FALSE)),0,VLOOKUP(B70,'Race 5'!$B$3:$F$78,5,FALSE)) -> 0 | I70: =IF(ISERROR(VLOOKUP(B70,'Race 6'!B$3:G$42,5,FALSE)),0,VLOOKUP(B70,'Race 6'!B$3:G$42,5,FALSE)) -> 0 | J70: =IF(ISERROR(VLOOKUP(B70,'Race 7'!B$3:G$38,5,FALSE)),0,VLOOKUP(B70,'Race 7'!B$3:G$38,5,FALSE)) -> 0 | K70: =IF(ISERROR(VLOOKUP(B70,'Race 8'!B$3:J$50,5,FALSE)),0,VLOOKUP(B70,'Race 8'!B$3:J$50,5,FALSE)) -> 0 | L70: {=SUM(LARGE(D70:K70,{1,2,3,4,5}))} -> 55
A71: 69 | B71: Kirsty Moors | C71: =COUNTIF(D71:K71,">0") -> 1 | D71: =IF(ISERROR(VLOOKUP(B71,'Race 1'!B$3:G$44,5,FALSE)),0,VLOOKUP(B71,'Race 1'!B$3:G$44,5,FALSE)) -> 0 | E71: =IF(ISERROR(VLOOKUP(B71,'Race 2'!$B$3:$F$66,5,FALSE)),0,VLOOKUP(B71,'Race 2'!$B$3:$F$66,5,FALSE)) -> 0 | F71: =IF(ISERROR(VLOOKUP(B71,'Race 3'!$B$3:$F$43,5,FALSE)),0,VLOOKUP(B71,'Race 3'!$B$3:$F$43,5,FALSE)) -> 0 | G71: =IF(ISERROR(VLOOKUP(B71,'Race 4'!$B$3:$F$53,5,FALSE)),0,VLOOKUP(B71,'Race 4'!$B$3:$F$53,5,FALSE)) -> 55 | H71: =IF(ISERROR(VLOOKUP(B71,'Race 5'!$B$3:$F$78,5,FALSE)),0,VLOOKUP(B71,'Race 5'!$B$3:$F$78,5,FALSE)) -> 0 | I71: =IF(ISERROR(VLOOKUP(B71,'Race 6'!B$3:G$42,5,FALSE)),0,VLOOKUP(B71,'Race 6'!B$3:G$42,5,FALSE)) -> 0 | J71: =IF(ISERROR(VLOOKUP(B71,'Race 7'!B$3:G$38,5,FALSE)),0,VLOOKUP(B71,'Race 7'!B$3:G$38,5,FALSE)) -> 0 | K71: =IF(ISERROR(VLOOKUP(B71,'Race 8'!B$3:J$50,5,FALSE)),0,VLOOKUP(B71,'Race 8'!B$3:J$50,5,FALSE)) -> 0 | L71: {=SUM(LARGE(D71:K71,{1,2,3,4,5}))} -> 55
A72: 70 | B72: Steve Jones | C72: =COUNTIF(D72:K72,">0") -> 1 | D72: =IF(ISERROR(VLOOKUP(B72,'Race 1'!B$3:G$44,5,FALSE)),0,VLOOKUP(B72,'Race 1'!B$3:G$44,5,FALSE)) -> 0 | E72: =IF(ISERROR(VLOOKUP(B72,'Race 2'!$B$3:$F$66,5,FALSE)),0,VLOOKUP(B72,'Race 2'!$B$3:$F$66,5,FALSE)) -> 0 | F72: =IF(ISERROR(VLOOKUP(B72,'Race 3'!$B$3:$F$43,5,FALSE)),0,VLOOKUP(B72,'Race 3'!$B$3:$F$43,5,FALSE)) -> 0 | G72: =IF(ISERROR(VLOOKUP(B72,'Race 4'!$B$3:$F$53,5,FALSE)),0,VLOOKUP(B72,'Race 4'!$B$3:$F$53,5,FALSE)) -> 51 | H72: =IF(ISERROR(VLOOKUP(B72,'Race 5'!$B$3:$F$78,5,FALSE)),0,VLOOKUP(B72,'Race 5'!$B$3:$F$78,5,FALSE)) -> 0 | I72: =IF(ISERROR(VLOOKUP(B72,'Race 6'!B$3:G$42,5,FALSE)),0,VLOOKUP(B72,'Race 6'!B$3:G$42,5,FALSE)) -> 0 | J72: =IF(ISERROR(VLOOKUP(B72,'Race 7'!B$3:G$38,5,FALSE)),0,VLOOKUP(B72,'Race 7'!B$3:G$38,5,FALSE)) -> 0 | K72: =IF(ISERROR(VLOOKUP(B72,'Race 8'!B$3:J$50,5,FALSE)),0,VLOOKUP(B72,'Race 8'!B$3:J$50,5,FALSE)) -> 0 | L72: {=SUM(LARGE(D72:K72,{1,2,3,4,5}))} -> 51
D75: =COUNTIF(D3:D72,">0") -> 42 | E75: =COUNTIF(E3:E72,">0") -> 47 | F75: =COUNTIF(F3:F72,">0") -> 41 | G75: =COUNTIF(G3:G73,">0") -> 51 | H75: =COUNTIF(H3:H67,">0") -> 0 | I75: =COUNTIF(I3:I67,">0") -> 0 | J75: =COUNTIF(J3:J67,">0") -> 0 | K75: =COUNTIF(K3:K67,">0") -> 0

Sheet Percentages
O1: Improvers guide - last perfomance minus avg of all performances.
A2: NAME | B2: RACES | C2: 2016 AVG % | D2: 1 | E2: 2 | F2: 3 | G2: 4 | H2: 5 | I2: 6 | J2: 7 | K2: 8 | L2: 9 | M2: 10 | P2: Best % | S2: 2016 | U2: 2015
A3: Nathan Flear | B3: =COUNTIF(D3:M3,">0") -> 0 | C3: =SUM(D3:M3)/B3 -> #DIV/0! | D3: =IF(ISERROR(VLOOKUP(A3,'Race 5'!B$2:G$45,5,FALSE)),0,VLOOKUP(A3,'Race 5'!B$2:G$45,5,FALSE)) -> 0 | E3: =IF(ISERROR(VLOOKUP(A3,#REF!,5,FALSE)),0,VLOOKUP(A3,#REF!,5,FALSE)) -> 0 | F3: =IF(ISERROR(VLOOKUP(A3,#REF!,5,FALSE)),0,VLOOKUP(A3,#REF!,5,FALSE)) -> 0 | G3: =IF(ISERROR(VLOOKUP(A3,#REF!,5,FALSE)),0,VLOOKUP(A3,#REF!,5,FALSE)) -> 0 | H3: =IF(ISERROR(VLOOKUP(A3,#REF!,5,FALSE)),0,VLOOKUP(A3,#REF!,5,FALSE)) -> 0 | I3: =IF(ISERROR(VLOOKUP(A3,#REF!,5,FALSE)),0,VLOOKUP(A3,#REF!,5,FALSE)) -> 0 | J3: =IF(ISERROR(VLOOKUP(A3,#REF!,5,FALSE)),0,VLOOKUP(A3,#REF!,5,FALSE)) -> 0 | K3: =IF(ISERROR(VLOOKUP(A3,#REF!,5,FALSE)),0,VLOOKUP(A3,#REF!,5,FALSE)) -> 0 | L3: =IF(ISERROR(VLOOKUP(A3,#REF!,5,FALSE)),0,VLOOKUP(A3,#REF!,5,FALSE)) -> 0 | M3: =IF(ISERROR(VLOOKUP(A3,#REF!,5,FALSE)),0,VLOOKUP(A3,#REF!,5,FALSE)) -> 0 | O3: =IF(L3>0,IF(B3>0,L3-C3,0),0) -> 0 | P3: =SUM(LARGE(D3:M3,{1})) -> 0 | R3: Steve Thomas | S3: =VLOOKUP(R3,A$3:C$99,3,FALSE) -> #N/A | U3: 0.74214095 | V3: =S3-U3 -> #N/A
A4: Ashley Pascoe | B4: =COUNTIF(D4:M4,">0") -> 0 | C4: =SUM(D4:M4)/B4 -> #DIV/0! | D4: =IF(ISERROR(VLOOKUP(A4,'Race 5'!B$2:G$45,5,FALSE)),0,VLOOKUP(A4,'Race 5'!B$2:G$45,5,FALSE)) -> 0 | E4: =IF(ISERROR(VLOOKUP(A4,#REF!,5,FALSE)),0,VLOOKUP(A4,#REF!,5,FALSE)) -> 0 | F4: =IF(ISERROR(VLOOKUP(A4,#REF!,5,FALSE)),0,VLOOKUP(A4,#REF!,5,FALSE)) -> 0 | G4: =IF(ISERROR(VLOOKUP(A4,#REF!,5,FALSE)),0,VLOOKUP(A4,#REF!,5,FALSE)) -> 0 | H4: =IF(ISERROR(VLOOKUP(A4,#REF!,5,FALSE)),0,VLOOKUP(A4,#REF!,5,FALSE)) -> 0 | I4: =IF(ISERROR(VLOOKUP(A4,#REF!,5,FALSE)),0,VLOOKUP(A4,#REF!,5,FALSE)) -> 0 | J4: =IF(ISERROR(VLOOKUP(A4,#REF!,5,FALSE)),0,VLOOKUP(A4,#REF!,5,FALSE)) -> 0 | K4: =IF(ISERROR(VLOOKUP(A4,#REF!,5,FALSE)),0,VLOOKUP(A4,#REF!,5,FALSE)) -> 0 | L4: =IF(ISERROR(VLOOKUP(A4,#REF!,5,FALSE)),0,VLOOKUP(A4,#REF!,5,FALSE)) -> 0 | M4: =IF(ISERROR(VLOOKUP(A4,#REF!,5,FALSE)),0,VLOOKUP(A4,#REF!,5,FALSE)) -> 0 | O4: =IF(M4>0,IF(B4>0,M4-C4,0),0) -> 0 | P4: =SUM(LARGE(D4:M4,{1})) -> 0 | R4: Steve Cable | S4: =VLOOKUP(R4,A$3:C$99,3,FALSE) -> #DIV/0! | U4: 0.69110034 | V4: =S4-U4 -> #DIV/0!
A5: Chris Francis | B5: =COUNTIF(D5:M5,">0") -> 0 | C5: =SUM(D5:M5)/B5 -> #DIV/0! | D5: =IF(ISERROR(VLOOKUP(A5,'Race 5'!B$2:G$45,5,FALSE)),0,VLOOKUP(A5,'Race 5'!B$2:G$45,5,FALSE)) -> 0 | E5: =IF(ISERROR(VLOOKUP(A5,#REF!,5,FALSE)),0,VLOOKUP(A5,#REF!,5,FALSE)) -> 0 | F5: =IF(ISERROR(VLOOKUP(A5,#REF!,5,FALSE)),0,VLOOKUP(A5,#REF!,5,FALSE)) -> 0 | G5: =IF(ISERROR(VLOOKUP(A5,#REF!,5,FALSE)),0,VLOOKUP(A5,#REF!,5,FALSE)) -> 0 | H5: =IF(ISERROR(VLOOKUP(A5,#REF!,5,FALSE)),0,VLOOKUP(A5,#REF!,5,FALSE)) -> 0 | I5: =IF(ISERROR(VLOOKUP(A5,#REF!,5,FALSE)),0,VLOOKUP(A5,#REF!,5,FALSE)) -> 0 | J5: =IF(ISERROR(VLOOKUP(A5,#REF!,5,FALSE)),0,VLOOKUP(A5,#REF!,5,FALSE)) -> 0 | K5: =IF(ISERROR(VLOOKUP(A5,#REF!,5,FALSE)),0,VLOOKUP(A5,#REF!,5,FALSE)) -> 0 | L5: =IF(ISERROR(VLOOKUP(A5,#REF!,5,FALSE)),0,VLOOKUP(A5,#REF!,5,FALSE)) -> 0 | M5: =IF(ISERROR(VLOOKUP(A5,#REF!,5,FALSE)),0,VLOOKUP(A5,#REF!,5,FALSE)) -> 0 | O5: =IF(M5>0,IF(B5>0,M5-C5,0),0) -> 0 | P5: =SUM(LARGE(D5:M5,{1})) -> 0 | R5: Lee Morris | S5: =VLOOKUP(R5,A$3:C$99,3,FALSE) -> #DIV/0! | U5: 0.63438271 | V5: =S5-U5 -> #DIV/0!
A6: Mark Gosney | B6: =COUNTIF(D6:M6,">0") -> 0 | C6: =SUM(D6:M6)/B6 -> #DIV/0! | D6: =IF(ISERROR(VLOOKUP(A6,'Race 5'!B$2:G$45,5,FALSE)),0,VLOOKUP(A6,'Race 5'!B$2:G$45,5,FALSE)) -> 0 | E6: =IF(ISERROR(VLOOKUP(A6,#REF!,5,FALSE)),0,VLOOKUP(A6,#REF!,5,FALSE)) -> 0 | F6: =IF(ISERROR(VLOOKUP(A6,#REF!,5,FALSE)),0,VLOOKUP(A6,#REF!,5,FALSE)) -> 0 | G6: =IF(ISERROR(VLOOKUP(A6,#REF!,5,FALSE)),0,VLOOKUP(A6,#REF!,5,FALSE)) -> 0 | H6: =IF(ISERROR(VLOOKUP(A6,#REF!,5,FALSE)),0,VLOOKUP(A6,#REF!,5,FALSE)) -> 0 | I6: =IF(ISERROR(VLOOKUP(A6,#REF!,5,FALSE)),0,VLOOKUP(A6,#REF!,5,FALSE)) -> 0 | J6: =IF(ISERROR(VLOOKUP(A6,#REF!,5,FALSE)),0,VLOOKUP(A6,#REF!,5,FALSE)) -> 0 | K6: =IF(ISERROR(VLOOKUP(A6,#REF!,5,FALSE)),0,VLOOKUP(A6,#REF!,5,FALSE)) -> 0 | L6: =IF(ISERROR(VLOOKUP(A6,#REF!,5,FALSE)),0,VLOOKUP(A6,#REF!,5,FALSE)) -> 0 | M6: =IF(ISERROR(VLOOKUP(A6,#REF!,5,FALSE)),0,VLOOKUP(A6,#REF!,5,FALSE)) -> 0 | O6: =IF(M6>0,IF(B6>0,M6-C6,0),0) -> 0 | P6: =SUM(LARGE(D6:M6,{1})) -> 0 | R6: Ashley Pascoe | S6: =VLOOKUP(R6,A$3:C$99,3,FALSE) -> #DIV/0! | U6: 0.74036731 | V6: =S6-U6 -> #DIV/0!
A7: Lee Edwards | B7: =COUNTIF(D7:M7,">0") -> 0 | C7: =SUM(D7:M7)/B7 -> #DIV/0! | D7: =IF(ISERROR(VLOOKUP(A7,'Race 5'!B$2:G$45,5,FALSE)),0,VLOOKUP(A7,'Race 5'!B$2:G$45,5,FALSE)) -> 0 | E7: =IF(ISERROR(VLOOKUP(A7,#REF!,5,FALSE)),0,VLOOKUP(A7,#REF!,5,FALSE)) -> 0 | F7: =IF(ISERROR(VLOOKUP(A7,#REF!,5,FALSE)),0,VLOOKUP(A7,#REF!,5,FALSE)) -> 0 | G7: =IF(ISERROR(VLOOKUP(A7,#REF!,5,FALSE)),0,VLOOKUP(A7,#REF!,5,FALSE)) -> 0 | H7: =IF(ISERROR(VLOOKUP(A7,#REF!,5,FALSE)),0,VLOOKUP(A7,#REF!,5,FALSE)) -> 0 | I7: =IF(ISERROR(VLOOKUP(A7,#REF!,5,FALSE)),0,VLOOKUP(A7,#REF!,5,FALSE)) -> 0 | J7: =IF(ISERROR(VLOOKUP(A7,#REF!,5,FALSE)),0,VLOOKUP(A7,#REF!,5,FALSE)) -> 0 | K7: =IF(ISERROR(VLOOKUP(A7,#REF!,5,FALSE)),0,VLOOKUP(A7,#REF!,5,FALSE)) -> 0 | L7: =IF(ISERROR(VLOOKUP(A7,#REF!,5,FALSE)),0,VLOOKUP(A7,#REF!,5,FALSE)) -> 0 | M7: =IF(ISERROR(VLOOKUP(A7,#REF!,5,FALSE)),0,VLOOKUP(A7,#REF!,5,FALSE)) -> 0 | O7: =IF(M7>0,IF(B7>0,M7-C7,0),0) -> 0 | P7: =SUM(LARGE(D7:M7,{1})) -> 0 | R7: Louise Miskell | S7: =VLOOKUP(R7,A$3:C$99,3,FALSE) -> #DIV/0! | U7: 0.69284375 | V7: =S7-U7 -> #DIV/0!
A8: Gareth Morgan | B8: =COUNTIF(D8:M8,">0") -> 0 | C8: =SUM(D8:M8)/B8 -> #DIV/0! | D8: =IF(ISERROR(VLOOKUP(A8,'Race 5'!B$2:G$45,5,FALSE)),0,VLOOKUP(A8,'Race 5'!B$2:G$45,5,FALSE)) -> 0 | E8: =IF(ISERROR(VLOOKUP(A8,#REF!,5,FALSE)),0,VLOOKUP(A8,#REF!,5,FALSE)) -> 0 | F8: =IF(ISERROR(VLOOKUP(A8,#REF!,5,FALSE)),0,VLOOKUP(A8,#REF!,5,FALSE)) -> 0 | G8: =IF(ISERROR(VLOOKUP(A8,#REF!,5,FALSE)),0,VLOOKUP(A8,#REF!,5,FALSE)) -> 0 | H8: =IF(ISERROR(VLOOKUP(A8,#REF!,5,FALSE)),0,VLOOKUP(A8,#REF!,5,FALSE)) -> 0 | I8: =IF(ISERROR(VLOOKUP(A8,#REF!,5,FALSE)),0,VLOOKUP(A8,#REF!,5,FALSE)) -> 0 | J8: =IF(ISERROR(VLOOKUP(A8,#REF!,5,FALSE)),0,VLOOKUP(A8,#REF!,5,FALSE)) -> 0 | K8: =IF(ISERROR(VLOOKUP(A8,#REF!,5,FALSE)),0,VLOOKUP(A8,#REF!,5,FALSE)) -> 0 | L8: =IF(ISERROR(VLOOKUP(A8,#REF!,5,FALSE)),0,VLOOKUP(A8,#REF!,5,FALSE)) -> 0 | M8: =IF(ISERROR(VLOOKUP(A8,#REF!,5,FALSE)),0,VLOOKUP(A8,#REF!,5,FALSE)) -> 0 | O8: =IF(M8>0,IF(B8>0,M8-C8,0),0) -> 0 | P8: =SUM(LARGE(D8:M8,{1})) -> 0 | R8: Del Eyre | S8: =VLOOKUP(R8,A$3:C$99,3,FALSE) -> #DIV/0! | U8: 0.65986189 | V8: =S8-U8 -> #DIV/0!
A9: Lee Morris | B9: =COUNTIF(D9:M9,">0") -> 0 | C9: =SUM(D9:M9)/B9 -> #DIV/0! | D9: =IF(ISERROR(VLOOKUP(A9,'Race 5'!B$2:G$45,5,FALSE)),0,VLOOKUP(A9,'Race 5'!B$2:G$45,5,FALSE)) -> 0 | E9: =IF(ISERROR(VLOOKUP(A9,#REF!,5,FALSE)),0,VLOOKUP(A9,#REF!,5,FALSE)) -> 0 | F9: =IF(ISERROR(VLOOKUP(A9,#REF!,5,FALSE)),0,VLOOKUP(A9,#REF!,5,FALSE)) -> 0 | G9: =IF(ISERROR(VLOOKUP(A9,#REF!,5,FALSE)),0,VLOOKUP(A9,#REF!,5,FALSE)) -> 0 | H9: =IF(ISERROR(VLOOKUP(A9,#REF!,5,FALSE)),0,VLOOKUP(A9,#REF!,5,FALSE)) -> 0 | I9: =IF(ISERROR(VLOOKUP(A9,#REF!,5,FALSE)),0,VLOOKUP(A9,#REF!,5,FALSE)) -> 0 | J9: =IF(ISERROR(VLOOKUP(A9,#REF!,5,FALSE)),0,VLOOKUP(A9,#REF!,5,FALSE)) -> 0 | K9: =IF(ISERROR(VLOOKUP(A9,#REF!,5,FALSE)),0,VLOOKUP(A9,#REF!,5,FALSE)) -> 0 | L9: =IF(ISERROR(VLOOKUP(A9,#REF!,5,FALSE)),0,VLOOKUP(A9,#REF!,5,FALSE)) -> 0 | M9: =IF(ISERROR(VLOOKUP(A9,#REF!,5,FALSE)),0,VLOOKUP(A9,#REF!,5,FALSE)) -> 0 | O9: =IF(M9>0,IF(B9>0,M9-C9,0),0) -> 0 | P9: =SUM(LARGE(D9:M9,{1})) -> 0 | R9: Linda Owens | S9: =VLOOKUP(R9,A$3:C$99,3,FALSE) -> #DIV/0! | U9: 0.6505188 | V9: =S9-U9 -> #DIV/0!
A10: Ceri Isaac | B10: =COUNTIF(D10:M10,">0") -> 0 | C10: =SUM(D10:M10)/B10 -> #DIV/0! | D10: =IF(ISERROR(VLOOKUP(A10,'Race 5'!B$2:G$45,5,FALSE)),0,VLOOKUP(A10,'Race 5'!B$2:G$45,5,FALSE)) -> 0 | E10: =IF(ISERROR(VLOOKUP(A10,#REF!,5,FALSE)),0,VLOOKUP(A10,#REF!,5,FALSE)) -> 0 | F10: =IF(ISERROR(VLOOKUP(A10,#REF!,5,FALSE)),0,VLOOKUP(A10,#REF!,5,FALSE)) -> 0 | G10: =IF(ISERROR(VLOOKUP(A10,#REF!,5,FALSE)),0,VLOOKUP(A10,#REF!,5,FALSE)) -> 0 | H10: =IF(ISERROR(VLOOKUP(A10,#REF!,5,FALSE)),0,VLOOKUP(A10,#REF!,5,FALSE)) -> 0 | I10: =IF(ISERROR(VLOOKUP(A10,#REF!,5,FALSE)),0,VLOOKUP(A10,#REF!,5,FALSE)) -> 0 | J10: =IF(ISERROR(VLOOKUP(A10,#REF!,5,FALSE)),0,VLOOKUP(A10,#REF!,5,FALSE)) -> 0 | K10: =IF(ISERROR(VLOOKUP(A10,#REF!,5,FALSE)),0,VLOOKUP(A10,#REF!,5,FALSE)) -> 0 | L10: =IF(ISERROR(VLOOKUP(A10,#REF!,5,FALSE)),0,VLOOKUP(A10,#REF!,5,FALSE)) -> 0 | M10: =IF(ISERROR(VLOOKUP(A10,#REF!,5,FALSE)),0,VLOOKUP(A10,#REF!,5,FALSE)) -> 0 | O10: =IF(M10>0,IF(B10>0,M10-C10,0),0) -> 0 | P10: =SUM(LARGE(D10:M10,{1})) -> 0 | R10: Linda Waller | S10: =VLOOKUP(R10,A$3:C$99,3,FALSE) -> #DIV/0! | U10: 0.62570031 | V10: =S10-U10 -> #DIV/0!
A11: Dean Hardie | B11: =COUNTIF(D11:M11,">0") -> 0 | C11: =SUM(D11:M11)/B11 -> #DIV/0! | D11: =IF(ISERROR(VLOOKUP(A11,'Race 5'!B$2:G$45,5,FALSE)),0,VLOOKUP(A11,'Race 5'!B$2:G$45,5,FALSE)) -> 0 | E11: =IF(ISERROR(VLOOKUP(A11,#REF!,5,FALSE)),0,VLOOKUP(A11,#REF!,5,FALSE)) -> 0 | F11: =IF(ISERROR(VLOOKUP(A11,#REF!,5,FALSE)),0,VLOOKUP(A11,#REF!,5,FALSE)) -> 0 | G11: =IF(ISERROR(VLOOKUP(A11,#REF!,5,FALSE)),0,VLOOKUP(A11,#REF!,5,FALSE)) -> 0 | H11: =IF(ISERROR(VLOOKUP(A11,#REF!,5,FALSE)),0,VLOOKUP(A11,#REF!,5,FALSE)) -> 0 | I11: =IF(ISERROR(VLOOKUP(A11,#REF!,5,FALSE)),0,VLOOKUP(A11,#REF!,5,FALSE)) -> 0 | J11: =IF(ISERROR(VLOOKUP(A11,#REF!,5,FALSE)),0,VLOOKUP(A11,#REF!,5,FALSE)) -> 0 | K11: =IF(ISERROR(VLOOKUP(A11,#REF!,5,FALSE)),0,VLOOKUP(A11,#REF!,5,FALSE)) -> 0 | L11: =IF(ISERROR(VLOOKUP(A11,#REF!,5,FALSE)),0,VLOOKUP(A11,#REF!,5,FALSE)) -> 0 | M11: =IF(ISERROR(VLOOKUP(A11,#REF!,5,FALSE)),0,VLOOKUP(A11,#REF!,5,FALSE)) -> 0 | O11: =IF(M11>0,IF(B11>0,M11-C11,0),0) -> 0 | P11: =SUM(LARGE(D11:M11,{1})) -> 0 | R11: Philip Wallace | S11: =VLOOKUP(R11,A$3:C$99,3,FALSE) -> #DIV/0! | U11: 0.49667124 | V11: =S11-U11 -> #DIV/0!
A12: Ian Hoskins | B12: =COUNTIF(D12:M12,">0") -> 0 | C12: =SUM(D12:M12)/B12 -> #DIV/0! | D12: =IF(ISERROR(VLOOKUP(A12,'Race 5'!B$2:G$45,5,FALSE)),0,VLOOKUP(A12,'Race 5'!B$2:G$45,5,FALSE)) -> 0 | E12: =IF(ISERROR(VLOOKUP(A12,#REF!,5,FALSE)),0,VLOOKUP(A12,#REF!,5,FALSE)) -> 0 | F12: =IF(ISERROR(VLOOKUP(A12,#REF!,5,FALSE)),0,VLOOKUP(A12,#REF!,5,FALSE)) -> 0 | G12: =IF(ISERROR(VLOOKUP(A12,#REF!,5,FALSE)),0,VLOOKUP(A12,#REF!,5,FALSE)) -> 0 | H12: =IF(ISERROR(VLOOKUP(A12,#REF!,5,FALSE)),0,VLOOKUP(A12,#REF!,5,FALSE)) -> 0 | I12: =IF(ISERROR(VLOOKUP(A12,#REF!,5,FALSE)),0,VLOOKUP(A12,#REF!,5,FALSE)) -> 0 | J12: =IF(ISERROR(VLOOKUP(A12,#REF!,5,FALSE)),0,VLOOKUP(A12,#REF!,5,FALSE)) -> 0 | K12: =IF(ISERROR(VLOOKUP(A12,#REF!,5,FALSE)),0,VLOOKUP(A12,#REF!,5,FALSE)) -> 0 | L12: =IF(ISERROR(VLOOKUP(A12,#REF!,5,FALSE)),0,VLOOKUP(A12,#REF!,5,FALSE)) -> 0 | M12: =IF(ISERROR(VLOOKUP(A12,#REF!,5,FALSE)),0,VLOOKUP(A12,#REF!,5,FALSE)) -> 0 | O12: =IF(M12>0,IF(B12>0,M12-C12,0),0) -> 0 | P12: =SUM(LARGE(D12:M12,{1})) -> 0 | R12: Jane Wallace | S12: =VLOOKUP(R12,A$3:C$99,3,FALSE) -> #DIV/0! | U12: 0.47601523 | V12: =S12-U12 -> #DIV/0!
A13: Aron Jones | B13: =COUNTIF(D13:M13,">0") -> 0 | C13: =SUM(D13:M13)/B13 -> #DIV/0! | D13: =IF(ISERROR(VLOOKUP(A13,'Race 5'!B$2:G$45,5,FALSE)),0,VLOOKUP(A13,'Race 5'!B$2:G$45,5,FALSE)) -> 0 | E13: =IF(ISERROR(VLOOKUP(A13,#REF!,5,FALSE)),0,VLOOKUP(A13,#REF!,5,FALSE)) -> 0 | F13: =IF(ISERROR(VLOOKUP(A13,#REF!,5,FALSE)),0,VLOOKUP(A13,#REF!,5,FALSE)) -> 0 | G13: =IF(ISERROR(VLOOKUP(A13,#REF!,5,FALSE)),0,VLOOKUP(A13,#REF!,5,FALSE)) -> 0 | H13: =IF(ISERROR(VLOOKUP(A13,#REF!,5,FALSE)),0,VLOOKUP(A13,#REF!,5,FALSE)) -> 0 | I13: =IF(ISERROR(VLOOKUP(A13,#REF!,5,FALSE)),0,VLOOKUP(A13,#REF!,5,FALSE)) -> 0 | J13: =IF(ISERROR(VLOOKUP(A13,#REF!,5,FALSE)),0,VLOOKUP(A13,#REF!,5,FALSE)) -> 0 | K13: =IF(ISERROR(VLOOKUP(A13,#REF!,5,FALSE)),0,VLOOKUP(A13,#REF!,5,FALSE)) -> 0 | L13: =IF(ISERROR(VLOOKUP(A13,#REF!,5,FALSE)),0,VLOOKUP(A13,#REF!,5,FALSE)) -> 0 | M13: =IF(ISERROR(VLOOKUP(A13,#REF!,5,FALSE)),0,VLOOKUP(A13,#REF!,5,FALSE)) -> 0 | O13: =IF(M13>0,IF(B13>0,M13-C13,0),0) -> 0 | P13: =SUM(LARGE(D13:M13,{1})) -> 0 | R13: Charlie James | S13: =VLOOKUP(R13,A$3:C$99,3,FALSE) -> #DIV/0! | U13: 0.56851224 | V13: =S13-U13 -> #DIV/0!
A14: Rob Sandles | B14: =COUNTIF(D14:M14,">0") -> 0 | C14: =SUM(D14:M14)/B14 -> #DIV/0! | D14: =IF(ISERROR(VLOOKUP(A14,'Race 5'!B$2:G$45,5,FALSE)),0,VLOOKUP(A14,'Race 5'!B$2:G$45,5,FALSE)) -> 0 | E14: =IF(ISERROR(VLOOKUP(A14,#REF!,5,FALSE)),0,VLOOKUP(A14,#REF!,5,FALSE)) -> 0 | F14: =IF(ISERROR(VLOOKUP(A14,#REF!,5,FALSE)),0,VLOOKUP(A14,#REF!,5,FALSE)) -> 0 | G14: =IF(ISERROR(VLOOKUP(A14,#REF!,5,FALSE)),0,VLOOKUP(A14,#REF!,5,FALSE)) -> 0 | H14: =IF(ISERROR(VLOOKUP(A14,#REF!,5,FALSE)),0,VLOOKUP(A14,#REF!,5,FALSE)) -> 0 | I14: =IF(ISERROR(VLOOKUP(A14,#REF!,5,FALSE)),0,VLOOKUP(A14,#REF!,5,FALSE)) -> 0 | J14: =IF(ISERROR(VLOOKUP(A14,#REF!,5,FALSE)),0,VLOOKUP(A14,#REF!,5,FALSE)) -> 0 | K14: =IF(ISERROR(VLOOKUP(A14,#REF!,5,FALSE)),0,VLOOKUP(A14,#REF!,5,FALSE)) -> 0 | L14: =IF(ISERROR(VLOOKUP(A14,#REF!,5,FALSE)),0,VLOOKUP(A14,#REF!,5,FALSE)) -> 0 | M14: =IF(ISERROR(VLOOKUP(A14,#REF!,5,FALSE)),0,VLOOKUP(A14,#REF!,5,FALSE)) -> 0 | O14: =IF(M14>0,IF(B14>0,M14-C14,0),0) -> 0 | P14: =SUM(LARGE(D14:M14,{1})) -> 0 | R14: Dewi West | S14: =VLOOKUP(R14,A$3:C$99,3,FALSE) -> #DIV/0! | U14: 0.71651655 | V14: =S14-U14 -> #DIV/0!
A15: Ross Gribble | B15: =COUNTIF(D15:M15,">0") -> 0 | C15: =SUM(D15:M15)/B15 -> #DIV/0! | D15: =IF(ISERROR(VLOOKUP(A15,'Race 5'!B$2:G$45,5,FALSE)),0,VLOOKUP(A15,'Race 5'!B$2:G$45,5,FALSE)) -> 0 | E15: =IF(ISERROR(VLOOKUP(A15,#REF!,5,FALSE)),0,VLOOKUP(A15,#REF!,5,FALSE)) -> 0 | F15: =IF(ISERROR(VLOOKUP(A15,#REF!,5,FALSE)),0,VLOOKUP(A15,#REF!,5,FALSE)) -> 0 | G15: =IF(ISERROR(VLOOKUP(A15,#REF!,5,FALSE)),0,VLOOKUP(A15,#REF!,5,FALSE)) -> 0 | H15: =IF(ISERROR(VLOOKUP(A15,#REF!,5,FALSE)),0,VLOOKUP(A15,#REF!,5,FALSE)) -> 0 | I15: =IF(ISERROR(VLOOKUP(A15,#REF!,5,FALSE)),0,VLOOKUP(A15,#REF!,5,FALSE)) -> 0 | J15: =IF(ISERROR(VLOOKUP(A15,#REF!,5,FALSE)),0,VLOOKUP(A15,#REF!,5,FALSE)) -> 0 | K15: =IF(ISERROR(VLOOKUP(A15,#REF!,5,FALSE)),0,VLOOKUP(A15,#REF!,5,FALSE)) -> 0 | L15: =IF(ISERROR(VLOOKUP(A15,#REF!,5,FALSE)),0,VLOOKUP(A15,#REF!,5,FALSE)) -> 0 | M15: =IF(ISERROR(VLOOKUP(A15,#REF!,5,FALSE)),0,VLOOKUP(A15,#REF!,5,FALSE)) -> 0 | O15: =IF(M15>0,IF(B15>0,M15-C15,0),0) -> 0 | P15: =SUM(LARGE(D15:M15,{1})) -> 0 | R15: Kim Holohan | S15: =VLOOKUP(R15,A$3:C$99,3,FALSE) -> #DIV/0! | U15: 0.70402209 | V15: =S15-U15 -> #DIV/0!
... A87: Nicola Julian | B87: =COUNTIF(D87:M87,">0") -> 0 | C87: =SUM(D87:M87)/B87 -> #DIV/0! | D87: =IF(ISERROR(VLOOKUP(A87,'Race 5'!B$2:G$45,5,FALSE)),0,VLOOKUP(A87,'Race 5'!B$2:G$45,5,FALSE)) -> 0 | E87: =IF(ISERROR(VLOOKUP(A87,#REF!,5,FALSE)),0,VLOOKUP(A87,#REF!,5,FALSE)) -> 0 | F87: =IF(ISERROR(VLOOKUP(A87,#REF!,5,FALSE)),0,VLOOKUP(A87,#REF!,5,FALSE)) -> 0 | G87: =IF(ISERROR(VLOOKUP(A87,#REF!,5,FALSE)),0,VLOOKUP(A87,#REF!,5,FALSE)) -> 0 | H87: =IF(ISERROR(VLOOKUP(A87,#REF!,5,FALSE)),0,VLOOKUP(A87,#REF!,5,FALSE)) -> 0 | I87: =IF(ISERROR(VLOOKUP(A87,#REF!,5,FALSE)),0,VLOOKUP(A87,#REF!,5,FALSE)) -> 0 | J87: =IF(ISERROR(VLOOKUP(A87,#REF!,5,FALSE)),0,VLOOKUP(A87,#REF!,5,FALSE)) -> 0 | K87: =IF(ISERROR(VLOOKUP(A87,#REF!,5,FALSE)),0,VLOOKUP(A87,#REF!,5,FALSE)) -> 0 | L87: =IF(ISERROR(VLOOKUP(A87,#REF!,5,FALSE)),0,VLOOKUP(A87,#REF!,5,FALSE)) -> 0 | M87: =IF(ISERROR(VLOOKUP(A87,#REF!,5,FALSE)),0,VLOOKUP(A87,#REF!,5,FALSE)) -> 0 | O87: =IF(M87>0,IF(B87>0,M87-C87,0),0) -> 0 | P87: =SUM(LARGE(D87:M87,{1})) -> 0 | R87: Ian Hoskins | S87: =VLOOKUP(R87,A$3:C$99,3,FALSE) -> #DIV/0! | U87: 0.69708237 | V87: =S87-U87 -> #DIV/0!
A88: Lynn Holmes | B88: =COUNTIF(D88:M88,">0") -> 0 | C88: =SUM(D88:M88)/B88 -> #DIV/0! | D88: =IF(ISERROR(VLOOKUP(A88,'Race 5'!B$2:G$45,5,FALSE)),0,VLOOKUP(A88,'Race 5'!B$2:G$45,5,FALSE)) -> 0 | E88: =IF(ISERROR(VLOOKUP(A88,#REF!,5,FALSE)),0,VLOOKUP(A88,#REF!,5,FALSE)) -> 0 | F88: =IF(ISERROR(VLOOKUP(A88,#REF!,5,FALSE)),0,VLOOKUP(A88,#REF!,5,FALSE)) -> 0 | G88: =IF(ISERROR(VLOOKUP(A88,#REF!,5,FALSE)),0,VLOOKUP(A88,#REF!,5,FALSE)) -> 0 | H88: =IF(ISERROR(VLOOKUP(A88,#REF!,5,FALSE)),0,VLOOKUP(A88,#REF!,5,FALSE)) -> 0 | I88: =IF(ISERROR(VLOOKUP(A88,#REF!,5,FALSE)),0,VLOOKUP(A88,#REF!,5,FALSE)) -> 0 | J88: =IF(ISERROR(VLOOKUP(A88,#REF!,5,FALSE)),0,VLOOKUP(A88,#REF!,5,FALSE)) -> 0 | K88: =IF(ISERROR(VLOOKUP(A88,#REF!,5,FALSE)),0,VLOOKUP(A88,#REF!,5,FALSE)) -> 0 | L88: =IF(ISERROR(VLOOKUP(A88,#REF!,5,FALSE)),0,VLOOKUP(A88,#REF!,5,FALSE)) -> 0 | M88: =IF(ISERROR(VLOOKUP(A88,#REF!,5,FALSE)),0,VLOOKUP(A88,#REF!,5,FALSE)) -> 0 | O88: =IF(M88>0,IF(B88>0,M88-C88,0),0) -> 0 | P88: =SUM(LARGE(D88:M88,{1})) -> 0
A89: Richard Donne | B89: =COUNTIF(D89:M89,">0") -> 0 | C89: =SUM(D89:M89)/B89 -> #DIV/0! | D89: =IF(ISERROR(VLOOKUP(A89,'Race 5'!B$2:G$45,5,FALSE)),0,VLOOKUP(A89,'Race 5'!B$2:G$45,5,FALSE)) -> 0 | E89: =IF(ISERROR(VLOOKUP(A89,#REF!,5,FALSE)),0,VLOOKUP(A89,#REF!,5,FALSE)) -> 0 | F89: =IF(ISERROR(VLOOKUP(A89,#REF!,5,FALSE)),0,VLOOKUP(A89,#REF!,5,FALSE)) -> 0 | G89: =IF(ISERROR(VLOOKUP(A89,#REF!,5,FALSE)),0,VLOOKUP(A89,#REF!,5,FALSE)) -> 0 | H89: =IF(ISERROR(VLOOKUP(A89,#REF!,5,FALSE)),0,VLOOKUP(A89,#REF!,5,FALSE)) -> 0 | I89: =IF(ISERROR(VLOOKUP(A89,#REF!,5,FALSE)),0,VLOOKUP(A89,#REF!,5,FALSE)) -> 0 | J89: =IF(ISERROR(VLOOKUP(A89,#REF!,5,FALSE)),0,VLOOKUP(A89,#REF!,5,FALSE)) -> 0 | K89: =IF(ISERROR(VLOOKUP(A89,#REF!,5,FALSE)),0,VLOOKUP(A89,#REF!,5,FALSE)) -> 0 | L89: =IF(ISERROR(VLOOKUP(A89,#REF!,5,FALSE)),0,VLOOKUP(A89,#REF!,5,FALSE)) -> 0 | M89: =IF(ISERROR(VLOOKUP(A89,#REF!,5,FALSE)),0,VLOOKUP(A89,#REF!,5,FALSE)) -> 0 | O89: =IF(M89>0,IF(B89>0,M89-C89,0),0) -> 0 | P89: =SUM(LARGE(D89:M89,{1})) -> 0
A90: Jo Hughes-Dowdle | B90: =COUNTIF(D90:M90,">0") -> 0 | C90: =SUM(D90:M90)/B90 -> #DIV/0! | D90: =IF(ISERROR(VLOOKUP(A90,'Race 5'!B$2:G$45,5,FALSE)),0,VLOOKUP(A90,'Race 5'!B$2:G$45,5,FALSE)) -> 0 | E90: =IF(ISERROR(VLOOKUP(A90,#REF!,5,FALSE)),0,VLOOKUP(A90,#REF!,5,FALSE)) -> 0 | F90: =IF(ISERROR(VLOOKUP(A90,#REF!,5,FALSE)),0,VLOOKUP(A90,#REF!,5,FALSE)) -> 0 | G90: =IF(ISERROR(VLOOKUP(A90,#REF!,5,FALSE)),0,VLOOKUP(A90,#REF!,5,FALSE)) -> 0 | H90: =IF(ISERROR(VLOOKUP(A90,#REF!,5,FALSE)),0,VLOOKUP(A90,#REF!,5,FALSE)) -> 0 | I90: =IF(ISERROR(VLOOKUP(A90,#REF!,5,FALSE)),0,VLOOKUP(A90,#REF!,5,FALSE)) -> 0 | J90: =IF(ISERROR(VLOOKUP(A90,#REF!,5,FALSE)),0,VLOOKUP(A90,#REF!,5,FALSE)) -> 0 | K90: =IF(ISERROR(VLOOKUP(A90,#REF!,5,FALSE)),0,VLOOKUP(A90,#REF!,5,FALSE)) -> 0 | L90: =IF(ISERROR(VLOOKUP(A90,#REF!,5,FALSE)),0,VLOOKUP(A90,#REF!,5,FALSE)) -> 0 | M90: =IF(ISERROR(VLOOKUP(A90,#REF!,5,FALSE)),0,VLOOKUP(A90,#REF!,5,FALSE)) -> 0 | O90: =IF(M90>0,IF(B90>0,M90-C90,0),0) -> 0 | P90: =SUM(LARGE(D90:M90,{1})) -> 0
A91: Allan Smith | B91: =COUNTIF(D91:M91,">0") -> 0 | C91: =SUM(D91:M91)/B91 -> #DIV/0! | D91: =IF(ISERROR(VLOOKUP(A91,'Race 5'!B$2:G$45,5,FALSE)),0,VLOOKUP(A91,'Race 5'!B$2:G$45,5,FALSE)) -> 0 | E91: =IF(ISERROR(VLOOKUP(A91,#REF!,5,FALSE)),0,VLOOKUP(A91,#REF!,5,FALSE)) -> 0 | F91: =IF(ISERROR(VLOOKUP(A91,#REF!,5,FALSE)),0,VLOOKUP(A91,#REF!,5,FALSE)) -> 0 | G91: =IF(ISERROR(VLOOKUP(A91,#REF!,5,FALSE)),0,VLOOKUP(A91,#REF!,5,FALSE)) -> 0 | H91: =IF(ISERROR(VLOOKUP(A91,#REF!,5,FALSE)),0,VLOOKUP(A91,#REF!,5,FALSE)) -> 0 | I91: =IF(ISERROR(VLOOKUP(A91,#REF!,5,FALSE)),0,VLOOKUP(A91,#REF!,5,FALSE)) -> 0 | J91: =IF(ISERROR(VLOOKUP(A91,#REF!,5,FALSE)),0,VLOOKUP(A91,#REF!,5,FALSE)) -> 0 | K91: =IF(ISERROR(VLOOKUP(A91,#REF!,5,FALSE)),0,VLOOKUP(A91,#REF!,5,FALSE)) -> 0 | L91: =IF(ISERROR(VLOOKUP(A91,#REF!,5,FALSE)),0,VLOOKUP(A91,#REF!,5,FALSE)) -> 0 | M91: =IF(ISERROR(VLOOKUP(A91,#REF!,5,FALSE)),0,VLOOKUP(A91,#REF!,5,FALSE)) -> 0 | O91: =IF(M91>0,IF(B91>0,M91-C91,0),0) -> 0 | P91: =SUM(LARGE(D91:M91,{1})) -> 0
A92: Dai the Milk | B92: =COUNTIF(D92:M92,">0") -> 0 | C92: =SUM(D92:M92)/B92 -> #DIV/0! | D92: =IF(ISERROR(VLOOKUP(A92,'Race 5'!B$2:G$45,5,FALSE)),0,VLOOKUP(A92,'Race 5'!B$2:G$45,5,FALSE)) -> 0 | E92: =IF(ISERROR(VLOOKUP(A92,#REF!,5,FALSE)),0,VLOOKUP(A92,#REF!,5,FALSE)) -> 0 | F92: =IF(ISERROR(VLOOKUP(A92,#REF!,5,FALSE)),0,VLOOKUP(A92,#REF!,5,FALSE)) -> 0 | G92: =IF(ISERROR(VLOOKUP(A92,#REF!,5,FALSE)),0,VLOOKUP(A92,#REF!,5,FALSE)) -> 0 | H92: =IF(ISERROR(VLOOKUP(A92,#REF!,5,FALSE)),0,VLOOKUP(A92,#REF!,5,FALSE)) -> 0 | I92: =IF(ISERROR(VLOOKUP(A92,#REF!,5,FALSE)),0,VLOOKUP(A92,#REF!,5,FALSE)) -> 0 | J92: =IF(ISERROR(VLOOKUP(A92,#REF!,5,FALSE)),0,VLOOKUP(A92,#REF!,5,FALSE)) -> 0 | K92: =IF(ISERROR(VLOOKUP(A92,#REF!,5,FALSE)),0,VLOOKUP(A92,#REF!,5,FALSE)) -> 0 | L92: =IF(ISERROR(VLOOKUP(A92,#REF!,5,FALSE)),0,VLOOKUP(A92,#REF!,5,FALSE)) -> 0 | M92: =IF(ISERROR(VLOOKUP(A92,#REF!,5,FALSE)),0,VLOOKUP(A92,#REF!,5,FALSE)) -> 0 | O92: =IF(M92>0,IF(B92>0,M92-C92,0),0) -> 0 | P92: =SUM(LARGE(D92:M92,{1})) -> 0
A93: Alana Gabe | B93: =COUNTIF(D93:M93,">0") -> 0 | C93: =SUM(D93:M93)/B93 -> #DIV/0! | D93: =IF(ISERROR(VLOOKUP(A93,'Race 5'!B$2:G$45,5,FALSE)),0,VLOOKUP(A93,'Race 5'!B$2:G$45,5,FALSE)) -> 0 | E93: =IF(ISERROR(VLOOKUP(A93,#REF!,5,FALSE)),0,VLOOKUP(A93,#REF!,5,FALSE)) -> 0 | F93: =IF(ISERROR(VLOOKUP(A93,#REF!,5,FALSE)),0,VLOOKUP(A93,#REF!,5,FALSE)) -> 0 | G93: =IF(ISERROR(VLOOKUP(A93,#REF!,5,FALSE)),0,VLOOKUP(A93,#REF!,5,FALSE)) -> 0 | H93: =IF(ISERROR(VLOOKUP(A93,#REF!,5,FALSE)),0,VLOOKUP(A93,#REF!,5,FALSE)) -> 0 | I93: =IF(ISERROR(VLOOKUP(A93,#REF!,5,FALSE)),0,VLOOKUP(A93,#REF!,5,FALSE)) -> 0 | J93: =IF(ISERROR(VLOOKUP(A93,#REF!,5,FALSE)),0,VLOOKUP(A93,#REF!,5,FALSE)) -> 0 | K93: =IF(ISERROR(VLOOKUP(A93,#REF!,5,FALSE)),0,VLOOKUP(A93,#REF!,5,FALSE)) -> 0 | L93: =IF(ISERROR(VLOOKUP(A93,#REF!,5,FALSE)),0,VLOOKUP(A93,#REF!,5,FALSE)) -> 0 | M93: =IF(ISERROR(VLOOKUP(A93,#REF!,5,FALSE)),0,VLOOKUP(A93,#REF!,5,FALSE)) -> 0 | O93: =IF(M93>0,IF(B93>0,M93-C93,0),0) -> 0 | P93: =SUM(LARGE(D93:M93,{1})) -> 0
A94: Clare Hyndman | B94: =COUNTIF(D94:M94,">0") -> 0 | C94: =SUM(D94:M94)/B94 -> #DIV/0! | D94: =IF(ISERROR(VLOOKUP(A94,'Race 5'!B$2:G$45,5,FALSE)),0,VLOOKUP(A94,'Race 5'!B$2:G$45,5,FALSE)) -> 0 | E94: =IF(ISERROR(VLOOKUP(A94,#REF!,5,FALSE)),0,VLOOKUP(A94,#REF!,5,FALSE)) -> 0 | F94: =IF(ISERROR(VLOOKUP(A94,#REF!,5,FALSE)),0,VLOOKUP(A94,#REF!,5,FALSE)) -> 0 | G94: =IF(ISERROR(VLOOKUP(A94,#REF!,5,FALSE)),0,VLOOKUP(A94,#REF!,5,FALSE)) -> 0 | H94: =IF(ISERROR(VLOOKUP(A94,#REF!,5,FALSE)),0,VLOOKUP(A94,#REF!,5,FALSE)) -> 0 | I94: =IF(ISERROR(VLOOKUP(A94,#REF!,5,FALSE)),0,VLOOKUP(A94,#REF!,5,FALSE)) -> 0 | J94: =IF(ISERROR(VLOOKUP(A94,#REF!,5,FALSE)),0,VLOOKUP(A94,#REF!,5,FALSE)) -> 0 | K94: =IF(ISERROR(VLOOKUP(A94,#REF!,5,FALSE)),0,VLOOKUP(A94,#REF!,5,FALSE)) -> 0 | L94: =IF(ISERROR(VLOOKUP(A94,#REF!,5,FALSE)),0,VLOOKUP(A94,#REF!,5,FALSE)) -> 0 | M94: =IF(ISERROR(VLOOKUP(A94,#REF!,5,FALSE)),0,VLOOKUP(A94,#REF!,5,FALSE)) -> 0 | O94: =IF(M94>0,IF(B94>0,M94-C94,0),0) -> 0 | P94: =SUM(LARGE(D94:M94,{1})) -> 0
A95: Ian Anderson | B95: =COUNTIF(D95:M95,">0") -> 0 | C95: =SUM(D95:M95)/B95 -> #DIV/0! | D95: =IF(ISERROR(VLOOKUP(A95,'Race 5'!B$2:G$45,5,FALSE)),0,VLOOKUP(A95,'Race 5'!B$2:G$45,5,FALSE)) -> 0 | E95: =IF(ISERROR(VLOOKUP(A95,#REF!,5,FALSE)),0,VLOOKUP(A95,#REF!,5,FALSE)) -> 0 | F95: =IF(ISERROR(VLOOKUP(A95,#REF!,5,FALSE)),0,VLOOKUP(A95,#REF!,5,FALSE)) -> 0 | G95: =IF(ISERROR(VLOOKUP(A95,#REF!,5,FALSE)),0,VLOOKUP(A95,#REF!,5,FALSE)) -> 0 | H95: =IF(ISERROR(VLOOKUP(A95,#REF!,5,FALSE)),0,VLOOKUP(A95,#REF!,5,FALSE)) -> 0 | I95: =IF(ISERROR(VLOOKUP(A95,#REF!,5,FALSE)),0,VLOOKUP(A95,#REF!,5,FALSE)) -> 0 | J95: =IF(ISERROR(VLOOKUP(A95,#REF!,5,FALSE)),0,VLOOKUP(A95,#REF!,5,FALSE)) -> 0 | K95: =IF(ISERROR(VLOOKUP(A95,#REF!,5,FALSE)),0,VLOOKUP(A95,#REF!,5,FALSE)) -> 0 | L95: =IF(ISERROR(VLOOKUP(A95,#REF!,5,FALSE)),0,VLOOKUP(A95,#REF!,5,FALSE)) -> 0 | M95: =IF(ISERROR(VLOOKUP(A95,#REF!,5,FALSE)),0,VLOOKUP(A95,#REF!,5,FALSE)) -> 0 | O95: =IF(M95>0,IF(B95>0,M95-C95,0),0) -> 0 | P95: =SUM(LARGE(D95:M95,{1})) -> 0
A96: Julie Davies | B96: =COUNTIF(D96:M96,">0") -> 0 | C96: =SUM(D96:M96)/B96 -> #DIV/0! | D96: =IF(ISERROR(VLOOKUP(A96,'Race 5'!B$2:G$45,5,FALSE)),0,VLOOKUP(A96,'Race 5'!B$2:G$45,5,FALSE)) -> 0 | E96: =IF(ISERROR(VLOOKUP(A96,#REF!,5,FALSE)),0,VLOOKUP(A96,#REF!,5,FALSE)) -> 0 | F96: =IF(ISERROR(VLOOKUP(A96,#REF!,5,FALSE)),0,VLOOKUP(A96,#REF!,5,FALSE)) -> 0 | G96: =IF(ISERROR(VLOOKUP(A96,#REF!,5,FALSE)),0,VLOOKUP(A96,#REF!,5,FALSE)) -> 0 | H96: =IF(ISERROR(VLOOKUP(A96,#REF!,5,FALSE)),0,VLOOKUP(A96,#REF!,5,FALSE)) -> 0 | I96: =IF(ISERROR(VLOOKUP(A96,#REF!,5,FALSE)),0,VLOOKUP(A96,#REF!,5,FALSE)) -> 0 | J96: =IF(ISERROR(VLOOKUP(A96,#REF!,5,FALSE)),0,VLOOKUP(A96,#REF!,5,FALSE)) -> 0 | K96: =IF(ISERROR(VLOOKUP(A96,#REF!,5,FALSE)),0,VLOOKUP(A96,#REF!,5,FALSE)) -> 0 | L96: =IF(ISERROR(VLOOKUP(A96,#REF!,5,FALSE)),0,VLOOKUP(A96,#REF!,5,FALSE)) -> 0 | M96: =IF(ISERROR(VLOOKUP(A96,#REF!,5,FALSE)),0,VLOOKUP(A96,#REF!,5,FALSE)) -> 0 | O96: =IF(M96>0,IF(B96>0,M96-C96,0),0) -> 0 | P96: =SUM(LARGE(D96:M96,{1})) -> 0
A97: Sandra Rees | B97: =COUNTIF(D97:M97,">0") -> 0 | C97: =SUM(D97:M97)/B97 -> #DIV/0! | D97: =IF(ISERROR(VLOOKUP(A97,'Race 5'!B$2:G$45,5,FALSE)),0,VLOOKUP(A97,'Race 5'!B$2:G$45,5,FALSE)) -> 0 | E97: =IF(ISERROR(VLOOKUP(A97,#REF!,5,FALSE)),0,VLOOKUP(A97,#REF!,5,FALSE)) -> 0 | F97: =IF(ISERROR(VLOOKUP(A97,#REF!,5,FALSE)),0,VLOOKUP(A97,#REF!,5,FALSE)) -> 0 | G97: =IF(ISERROR(VLOOKUP(A97,#REF!,5,FALSE)),0,VLOOKUP(A97,#REF!,5,FALSE)) -> 0 | H97: =IF(ISERROR(VLOOKUP(A97,#REF!,5,FALSE)),0,VLOOKUP(A97,#REF!,5,FALSE)) -> 0 | I97: =IF(ISERROR(VLOOKUP(A97,#REF!,5,FALSE)),0,VLOOKUP(A97,#REF!,5,FALSE)) -> 0 | J97: =IF(ISERROR(VLOOKUP(A97,#REF!,5,FALSE)),0,VLOOKUP(A97,#REF!,5,FALSE)) -> 0 | K97: =IF(ISERROR(VLOOKUP(A97,#REF!,5,FALSE)),0,VLOOKUP(A97,#REF!,5,FALSE)) -> 0 | L97: =IF(ISERROR(VLOOKUP(A97,#REF!,5,FALSE)),0,VLOOKUP(A97,#REF!,5,FALSE)) -> 0 | M97: =IF(ISERROR(VLOOKUP(A97,#REF!,5,FALSE)),0,VLOOKUP(A97,#REF!,5,FALSE)) -> 0 | O97: =IF(M97>0,IF(B97>0,M97-C97,0),0) -> 0 | P97: =SUM(LARGE(D97:M97,{1})) -> 0
A98: Sylvian Clegg | B98: =COUNTIF(D98:M98,">0") -> 0 | C98: =SUM(D98:M98)/B98 -> #DIV/0! | D98: =IF(ISERROR(VLOOKUP(A98,'Race 5'!B$2:G$45,5,FALSE)),0,VLOOKUP(A98,'Race 5'!B$2:G$45,5,FALSE)) -> 0 | E98: =IF(ISERROR(VLOOKUP(A98,#REF!,5,FALSE)),0,VLOOKUP(A98,#REF!,5,FALSE)) -> 0 | F98: =IF(ISERROR(VLOOKUP(A98,#REF!,5,FALSE)),0,VLOOKUP(A98,#REF!,5,FALSE)) -> 0 | G98: =IF(ISERROR(VLOOKUP(A98,#REF!,5,FALSE)),0,VLOOKUP(A98,#REF!,5,FALSE)) -> 0 | H98: =IF(ISERROR(VLOOKUP(A98,#REF!,5,FALSE)),0,VLOOKUP(A98,#REF!,5,FALSE)) -> 0 | I98: =IF(ISERROR(VLOOKUP(A98,#REF!,5,FALSE)),0,VLOOKUP(A98,#REF!,5,FALSE)) -> 0 | J98: =IF(ISERROR(VLOOKUP(A98,#REF!,5,FALSE)),0,VLOOKUP(A98,#REF!,5,FALSE)) -> 0 | K98: =IF(ISERROR(VLOOKUP(A98,#REF!,5,FALSE)),0,VLOOKUP(A98,#REF!,5,FALSE)) -> 0 | L98: =IF(ISERROR(VLOOKUP(A98,#REF!,5,FALSE)),0,VLOOKUP(A98,#REF!,5,FALSE)) -> 0 | M98: =IF(ISERROR(VLOOKUP(A98,#REF!,5,FALSE)),0,VLOOKUP(A98,#REF!,5,FALSE)) -> 0 | O98: =IF(M98>0,IF(B98>0,M98-C98,0),0) -> 0 | P98: =SUM(LARGE(D98:M98,{1})) -> 0
A99: Jane Wallace | B99: =COUNTIF(D99:M99,">0") -> 0 | C99: =SUM(D99:M99)/B99 -> #DIV/0! | D99: =IF(ISERROR(VLOOKUP(A99,'Race 5'!B$2:G$45,5,FALSE)),0,VLOOKUP(A99,'Race 5'!B$2:G$45,5,FALSE)) -> 0 | E99: =IF(ISERROR(VLOOKUP(A99,#REF!,5,FALSE)),0,VLOOKUP(A99,#REF!,5,FALSE)) -> 0 | F99: =IF(ISERROR(VLOOKUP(A99,#REF!,5,FALSE)),0,VLOOKUP(A99,#REF!,5,FALSE)) -> 0 | G99: =IF(ISERROR(VLOOKUP(A99,#REF!,5,FALSE)),0,VLOOKUP(A99,#REF!,5,FALSE)) -> 0 | H99: =IF(ISERROR(VLOOKUP(A99,#REF!,5,FALSE)),0,VLOOKUP(A99,#REF!,5,FALSE)) -> 0 | I99: =IF(ISERROR(VLOOKUP(A99,#REF!,5,FALSE)),0,VLOOKUP(A99,#REF!,5,FALSE)) -> 0 | J99: =IF(ISERROR(VLOOKUP(A99,#REF!,5,FALSE)),0,VLOOKUP(A99,#REF!,5,FALSE)) -> 0 | K99: =IF(ISERROR(VLOOKUP(A99,#REF!,5,FALSE)),0,VLOOKUP(A99,#REF!,5,FALSE)) -> 0 | L99: =IF(ISERROR(VLOOKUP(A99,#REF!,5,FALSE)),0,VLOOKUP(A99,#REF!,5,FALSE)) -> 0 | M99: =IF(ISERROR(VLOOKUP(A99,#REF!,5,FALSE)),0,VLOOKUP(A99,#REF!,5,FALSE)) -> 0 | O99: =IF(M99>0,IF(B99>0,M99-C99,0),0) -> 0 | P99: =SUM(LARGE(D99:M99,{1})) -> 0
D101: =COUNTIF(D3:D100,">0") -> 0 | E101: =COUNTIF(E3:E100,">0") -> 0 | F101: =COUNTIF(F3:F100,">0") -> 0 | G101: =COUNTIF(G3:G100,">0") -> 0 | H101: =COUNTIF(H3:H100,">0") -> 0 | I101: =COUNTIF(I3:I100,">0") -> 0 | J101: =COUNTIF(J3:J100,">0") -> 0 | K101: =COUNTIF(K3:K100,">0") -> 0 | ... M101: =COUNTIF(M3:M100,">0") -> 0

Sheet MEN Age Grade
A1: Male Road Age Standards in H:MM:SS 2025 -- Version 2025-07-27
A2: Age | B2: 1 Mile | C2: 5 km | D2: 6 km | E2: 4 Mile | F2: 8 km | G2: 5 Mile | H2: 10 km | I2: 7 Mile | J2: 12 km | K2: 15 km | L2: 10 Mile | M2: 3 km | N2: 20 km | O2: H. Mar | P2: 25 km | Q2: 30 km | R2: Marathon | S2: 50 km | T2: 50 Mile | U2: 100 km | V2: 150 km | W2: 100 Mile | X2: 200 km
A3: Distance | B3: 1.609344 | C3: 5 | D3: 6 | E3: 6.437376 | F3: 8 | G3: 8.04672 | H3: 10 | I3: 11.265408 | J3: 12 | K3: 15 | L3: 16.09344 | M3: 3 | N3: 20 | O3: 21.0975 | P3: 25 | Q3: 30 | R3: 42.195 | S3: 50 | T3: 80.4672 | U3: 100 | V3: 150 | W3: 160.9344 | X3: 200
A4: OC sec | B4: 232 | C4: 769 | D4: 930 | E4: 1000 | F4: 1255 | G4: 1264 | H4: 1584 | I4: 1790 | J4: 1915 | K4: 2415 | L4: 2595 | M4: 440 | N4: 3260 | O4: 3451 | P4: 4110 | Q4: 4980 | R4: 7235 | S4: 8820 | T4: 16080 | U4: 21360 | V4: 36300 | W4: 39790 | X4: 52800
A5: OC | B5: 0.0026851852 | C5: 0.008900463 | D5: 0.010763889 | E5: 0.0116 | F5: 0.014525463 | G5: 0.01462963 | H5: 0.018333333 | I5: 0.020717593 | J5: 0.022164352 | K5: 0.027951389 | L5: 0.030034722 | M5: 0.0050578704 | N5: 0.037731481 | O5: 0.03994213 | P5: 0.047569444 | Q5: 0.057638889 | R5: 0.083738426 | S5: 0.10208333 | T5: 0.18611111 | U5: 0.24722222 | V5: 0.42013889 | W5: 0.46053241 | X5: 0.61111111
A6: 5 | B6: 0.0043865741 | C6: 0.014641204 | D6: 0.018506944 | E6: 0.019039352 | F6: 0.023888889 | G6: 0.0240625 | H6: 0.036134259 | I6: 0.041423611 | J6: 0.036458333 | K6: 0.045972222 | L6: 0.049398148 | N6: 0.062060185 | O6: 0.065694444 | P6: 0.078240741 | Q6: 0.094803241 | R6: 0.13773148 | S6: 0.16790509 | T6: 0.30609954 | U6: 0.40662037 | V6: 0.69101852 | W6: 0.7574537 | X6: 1.0051157
