Workbook
Name Event: #REF!
Name mile: #REF!
Name mile: #REF!
Name mile: #REF!
Name World_Standard_Times: [1]DropDownLists!$H$2:$H$13

Sheet INFO
B2: Age grading is a way to adjust an athlete's performance according to age and gender. The age-grading tables were developed by the World Association of Veteran Athletes.
B3: The tables work by recording the world record performance for regular distance events, for men and women.
B4: The table looks up the WR for your age, gender and for that distance.
B5: This age WR is then devided by your actual finish time, producing a percentage of the WR. The higher the percentage the closer you are to the WR for that age
B6: What is age-grading used for?
B7: Age grading can be used to compare performances across different ages and gender, track your own performance over time; identify your best events; set goals for current and future years; and identify your best ever performance.
B9: Your age grade can be affected by weather conditions, terrain type ie. soft sand, grass etc, and hills etc.

Sheet RULES
B3: 1. If there is a tie on age grade percentage in an individual race, the slowest person will be listed first | N3: Over 100% = World record level
B4: as there is a probability that the slowest selg graded their start and took longer to cross the start line | N4: Over 90% = World Class
N5: Over 80% = National Class
B6: 2. If there is a tie on overall age grade percentage after 10 races, the one who has won | N6: Over 70% = County Class
B7: the most head to head races is the winner. | N7: Over 60% = local Class
B9: If that doesn't separate them then 1. applies

Sheet Race 1
B1: 46204 | C1: Ynystawe | G1: 3.1 | H1: mile | J1: 5km results in Column C in Male/Female Age Grade tabs
A2: Pos | B2: AGE GRADE Order | C2: Time | D2: Age WR | E2: Min/Mi | F2: Pts | G2: Age Grade % | I2: Pos | J2: ACTUAL Race Order | K2: Time
A3: 1 | B3: Gavin Davies | C3: 00:21:16 | D3: =VLOOKUP(DATEDIF(VLOOKUP(B3,Ages!A$1:D$164,4,FALSE),B$1,"y"),'MEN Age Grade'!A$2:L$101,3,FALSE) -> 0.011215278 | E3: =C3/G$1 -> 0.0047640382 | F3: 100 | G3: =(D3/C3) -> 0.75940439 | I3: 1 | J3: Gareth Parry | K3: 00:19:30 | M3: Women | N3: =VLOOKUP("OC",'WOMEN Age Grade'!A$5:L$104,3,FALSE) -> 0.0096527778
A4: 2 | B4: Hans Thompson | C4: 00:23:53 | D4: =VLOOKUP(DATEDIF(VLOOKUP(B4,Ages!A$1:D$164,4,FALSE),B$1,"y"),'MEN Age Grade'!A$2:L$101,3,FALSE) -> 0.012418981 | E4: =C4/G$1 -> 0.0053502091 | F4: 99 | G4: =(D4/C4) -> 0.74877879 | I4: 2 | J4: Justin Sperrin | K4: 00:20:25 | M4: Men | N4: =VLOOKUP("OC",'MEN Age Grade'!A$3:L$102,3,FALSE) -> 0.008900463
A5: 3 | B5: Gareth Parry | C5: 00:19:30 | D5: =VLOOKUP(DATEDIF(VLOOKUP(B5,Ages!A$1:D$164,4,FALSE),B$1,"y"),'MEN Age Grade'!A$2:L$101,3,FALSE) -> 0.0099074074 | E5: =C5/G$1 -> 0.0043682796 | F5: 98 | G5: =(D5/C5) -> 0.73162393 | I5: 3 | J5: Lee Morris | K5: 00:20:42
A6: 4 | B6: Christina Smith | C6: 00:27:43 | D6: =VLOOKUP(DATEDIF(VLOOKUP(B6,Ages!A$1:D$164,4,FALSE),B$1,"y"),'WOMEN Age Grade'!A$2:L$101,3,FALSE) -> 0.013715278 | E6: =C6/G$1 -> 0.0062089307 | F6: 97 | G6: =D6/C6 -> 0.71256765 | I6: 4 | J6: Paul Jenkins | K6: 00:20:46
A7: 5 | B7: Francis Heron | C7: 00:25:18 | D7: =VLOOKUP(DATEDIF(VLOOKUP(B7,Ages!A$1:D$164,4,FALSE),B$1,"y"),'MEN Age Grade'!A$2:L$101,3,FALSE) -> 0.012418981 | E7: =C7/G$1 -> 0.0056675627 | F7: 96 | G7: =(D7/C7) -> 0.70685112 | I7: 5 | J7: Aron Jones | K7: 00:21:01 | M7: =VLOOKUP(B9,Ages!A$1:D$164,4,FALSE) -> 24836
A8: 6 | B8: Paul Jenkins | C8: 00:20:46 | D8: =VLOOKUP(DATEDIF(VLOOKUP(B8,Ages!A$1:D$164,4,FALSE),B$1,"y"),'MEN Age Grade'!A$2:L$101,3,FALSE) -> 0.01005787 | E8: =C8/G$1 -> 0.0046520311 | F8: 95 | G8: =(D8/C8) -> 0.69743178 | I8: 6 | J8: Dan Evans | K8: 00:21:12
A9: 7 | B9: Julie Archer | C9: 00:26:00 | D9: =VLOOKUP(DATEDIF(VLOOKUP(B9,Ages!A$1:D$164,4,FALSE),B$1,"y"),'WOMEN Age Grade'!A$2:L$101,3,FALSE) -> 0.012349537 | E9: =C9/G$1 -> 0.0058243728 | F9: 94 | G9: =D9/C9 -> 0.68397436 | I9: 7 | J9: Gavin Davies | K9: 00:21:16
A10: 8 | B10: Leighton Jones | C10: 00:28:58 | D10: =VLOOKUP(DATEDIF(VLOOKUP(B10,Ages!A$1:D$164,4,FALSE),B$1,"y"),'MEN Age Grade'!A$2:L$101,3,FALSE) -> 0.01375 | E10: =C10/G$1 -> 0.0064889486 | F10: 93 | G10: =(D10/C10) -> 0.6835443 | I10: 8 | J10: Megan Chick | K10: 00:21:28 | M10: 64 | N10: Age WR Tester
A11: 9 | B11: Rob Sandles | C11: 00:23:18 | D11: =VLOOKUP(DATEDIF(VLOOKUP(B11,Ages!A$1:D$164,4,FALSE),B$1,"y"),'MEN Age Grade'!A$2:L$101,3,FALSE) -> 0.011018519 | E11: =C11/G$1 -> 0.0052195341 | F11: 92 | G11: =(D11/C11) -> 0.68097282 | I11: 9 | J11: Rob Sandles | K11: 00:23:18 | N11: WR Time | O11: Gender
A12: 10 | B12: Lee Morris | C12: 00:20:42 | D12: =VLOOKUP(DATEDIF(VLOOKUP(B12,Ages!A$1:D$164,4,FALSE),B$1,"y"),'MEN Age Grade'!A$2:L$101,3,FALSE) -> 0.0097569444 | E12: =C12/G$1 -> 0.0046370968 | F12: 91 | G12: =(D12/C12) -> 0.67874396 | I12: 10 | J12: Sean Morgans | K12: 00:23:38 | N12: =VLOOKUP(M10,'WOMEN Age Grade'!A$5:L$104,3,FALSE) -> 0.013344907 | O12: Female
A13: 11 | B13: Diane Ridgeway | C13: 00:26:30 | D13: =VLOOKUP(DATEDIF(VLOOKUP(B13,Ages!A$1:D$164,4,FALSE),B$1,"y"),'WOMEN Age Grade'!A$2:L$101,3,FALSE) -> 0.012349537 | E13: =C13/G$1 -> 0.0059363799 | F13: 90 | G13: =D13/C13 -> 0.67106918 | I13: 11 | J13: Hans Thompson | K13: 00:23:53 | N13: =VLOOKUP(M10,'MEN Age Grade'!A$3:L$102,3,FALSE) -> 0.011423611 | O13: Male
A14: 12 | B14: Caroline Sandles | C14: 00:26:55 | D14: =VLOOKUP(DATEDIF(VLOOKUP(B14,Ages!A$1:D$164,4,FALSE),B$1,"y"),'WOMEN Age Grade'!A$2:L$101,3,FALSE) -> 0.012511574 | E14: =C14/G$1 -> 0.0060297192 | F14: 89 | G14: =D14/C14 -> 0.66934985 | I14: 12 | J14: Michelle Grey | K14: 00:23:57
A15: 13 | B15: Peter Clement | C15: 00:24:32 | D15: =VLOOKUP(DATEDIF(VLOOKUP(B15,Ages!A$1:D$164,4,FALSE),B$1,"y"),'MEN Age Grade'!A$2:L$101,3,FALSE) -> 0.011122685 | E15: =C15/G$1 -> 0.0054958184 | F15: 88 | G15: =(D15/C15) -> 0.65285326 | I15: 13 | J15: Laura Gilbert | K15: 00:24:10
A16: 14 | B16: Megan Chick | C16: 00:21:28 | D16: =VLOOKUP(DATEDIF(VLOOKUP(B16,Ages!A$1:D$164,4,FALSE),B$1,"y"),'WOMEN Age Grade'!A$2:L$101,3,FALSE) -> 0.0097106481 | E16: =C16/G$1 -> 0.0048088411 | F16: 87 | G16: =D16/C16 -> 0.65139752 | I16: 14 | J16: Chris Simons | K16: 00:24:19 | M16: Over 100% = World record level
A17: 15 | B17: Cris Arnold | C17: 00:24:24 | D17: =VLOOKUP(DATEDIF(VLOOKUP(B17,Ages!A$1:D$164,4,FALSE),B$1,"y"),'MEN Age Grade'!A$2:L$101,3,FALSE) -> 0.011018519 | E17: =C17/G$1 -> 0.0054659498 | F17: 86 | G17: =(D17/C17) -> 0.65027322 | I17: 15 | J17: Cris Arnold | K17: 00:24:24 | M17: Over 90% = World Class
A18: 16 | B18: Sean Morgans | C18: 00:23:38 | D18: =VLOOKUP(DATEDIF(VLOOKUP(B18,Ages!A$1:D$164,4,FALSE),B$1,"y"),'MEN Age Grade'!A$2:L$101,3,FALSE) -> 0.010648148 | E18: =C18/G$1 -> 0.0052942055 | F18: 85 | G18: =(D18/C18) -> 0.64880113 | I18: 16 | J18: Peter Clement | K18: 00:24:32 | M18: Over 80% = National Class
A19: 17 | B19: Aron Jones | C19: 00:21:01 | D19: =VLOOKUP(DATEDIF(VLOOKUP(B19,Ages!A$1:D$164,4,FALSE),B$1,"y"),'MEN Age Grade'!A$2:L$101,3,FALSE) -> 0.0094675926 | E19: =C19/G$1 -> 0.0047080346 | F19: 84 | G19: =(D19/C19) -> 0.64869151 | I19: 17 | J19: Cori Davies | K19: 00:25:11 | M19: Over 70% = County Class
A20: 18 | B20: Michelle Grey | C20: 00:23:57 | D20: =VLOOKUP(DATEDIF(VLOOKUP(B20,Ages!A$1:D$164,4,FALSE),B$1,"y"),'WOMEN Age Grade'!A$2:L$101,3,FALSE) -> 0.010636574 | E20: =C20/G$1 -> 0.0053651434 | F20: 83 | G20: =D20/C20 -> 0.63952679 | I20: 18 | J20: Sam Grunhut | K20: 00:25:13 | M20: Over 60% = local Class
A21: 19 | B21: Justin Sperrin | C21: 00:20:25 | D21: =VLOOKUP(DATEDIF(VLOOKUP(B21,Ages!A$1:D$164,4,FALSE),B$1,"y"),'MEN Age Grade'!A$2:L$101,3,FALSE) -> 0.0090625 | E21: =C21/G$1 -> 0.004573626 | F21: 82 | G21: =(D21/C21) -> 0.63918367 | I21: 19 | J21: Francis Heron | K21: 00:25:18
A22: 20 | B22: Steve McLelland | C22: 00:28:18 | D22: =VLOOKUP(DATEDIF(VLOOKUP(B22,Ages!A$1:D$164,4,FALSE),B$1,"y"),'MEN Age Grade'!A$2:L$101,3,FALSE) -> 0.012418981 | E22: =C22/G$1 -> 0.0063396057 | F22: 81 | G22: =(D22/C22) -> 0.63191991 | I22: 20 | J22: Clare Baxter | K22: 00:25:46
A23: 21 | B23: Sharon Trotman | C23: 00:27:30 | D23: =VLOOKUP(DATEDIF(VLOOKUP(B23,Ages!A$1:D$164,4,FALSE),B$1,"y"),'WOMEN Age Grade'!A$2:L$101,3,FALSE) -> 0.012048611 | E23: =C23/G$1 -> 0.0061603943 | F23: 80 | G23: =D23/C23 -> 0.63090909 | I23: 21 | J23: Julie Archer | K23: 00:26:00
A24: 22 | B24: Dan Evans | C24: 00:21:12 | D24: =VLOOKUP(DATEDIF(VLOOKUP(B24,Ages!A$1:D$164,4,FALSE),B$1,"y"),'MEN Age Grade'!A$2:L$101,3,FALSE) -> 0.0090625 | E24: =C24/G$1 -> 0.0047491039 | F24: 79 | G24: =(D24/C24) -> 0.61556604 | I24: 22 | J24: Diane Ridgeway | K24: 00:26:30
A25: 23 | B25: Manisha Rickards | C25: 00:31:43 | D25: =VLOOKUP(DATEDIF(VLOOKUP(B25,Ages!A$1:D$164,4,FALSE),B$1,"y"),'WOMEN Age Grade'!A$2:L$101,3,FALSE) -> 0.013171296 | E25: =C25/G$1 -> 0.0071049881 | F25: 78 | G25: =D25/C25 -> 0.59800315 | I25: 23 | J25: Caroline Sandles | K25: 00:26:55
A26: 24 | B26: David Doherty | C26: 00:29:57 | D26: =VLOOKUP(DATEDIF(VLOOKUP(B26,Ages!A$1:D$164,4,FALSE),B$1,"y"),'MEN Age Grade'!A$2:L$101,3,FALSE) -> 0.012418981 | E26: =C26/G$1 -> 0.0067092294 | F26: 77 | G26: =(D26/C26) -> 0.59710629 | I26: 24 | J26: Jia Ping Lee | K26: 00:27:05
A27: 25 | B27: Laura Gilbert | C27: 00:24:10 | D27: =VLOOKUP(DATEDIF(VLOOKUP(B27,Ages!A$1:D$164,4,FALSE),B$1,"y"),'WOMEN Age Grade'!A$2:L$101,3,FALSE) -> 0.0099074074 | E27: =C27/G$1 -> 0.0054136798 | F27: 76 | G27: =D27/C27 -> 0.59034483 | I27: 25 | J27: Sharon Trotman | K27: 00:27:30
A28: 26 | B28: Clare Baxter | C28: 00:25:46 | D28: =VLOOKUP(DATEDIF(VLOOKUP(B28,Ages!A$1:D$164,4,FALSE),B$1,"y"),'WOMEN Age Grade'!A$2:L$101,3,FALSE) -> 0.010520833 | E28: =C28/G$1 -> 0.0057721027 | F28: 75 | G28: =D28/C28 -> 0.58796895 | I28: 26 | J28: Christina Smith | K28: 00:27:43
A29: 27 | B29: Fay Sharpe | C29: 00:33:51 | D29: =VLOOKUP(DATEDIF(VLOOKUP(B29,Ages!A$1:D$164,4,FALSE),B$1,"y"),'WOMEN Age Grade'!A$2:L$101,3,FALSE) -> 0.013715278 | E29: =C29/G$1 -> 0.0075828853 | F29: 74 | G29: =D29/C29 -> 0.58345643 | I29: 27 | J29: Steve McLelland | K29: 00:28:18
A30: 28 | B30: Sandra rees | C30: 00:33:22 | D30: =VLOOKUP(DATEDIF(VLOOKUP(B30,Ages!A$1:D$164,4,FALSE),B$1,"y"),'WOMEN Age Grade'!A$2:L$101,3,FALSE) -> 0.013171296 | E30: =C30/G$1 -> 0.0074746117 | F30: 73 | G30: =D30/C30 -> 0.56843157 | I30: 28 | J30: Leighton Jones | K30: 00:28:58
A31: 29 | B31: Chris Simons | C31: 00:24:19 | D31: =VLOOKUP(DATEDIF(VLOOKUP(B31,Ages!A$1:D$164,4,FALSE),B$1,"y"),'MEN Age Grade'!A$2:L$101,3,FALSE) -> 0.0093287037 | E31: =C31/G$1 -> 0.005447282 | F31: 72 | G31: =(D31/C31) -> 0.55243317 | I31: 29 | J31: Mike Prasad | K31: 00:29:31
A32: 30 | B32: Lynn Holmes | C32: 00:35:34 | D32: =VLOOKUP(DATEDIF(VLOOKUP(B32,Ages!A$1:D$164,4,FALSE),B$1,"y"),'WOMEN Age Grade'!A$2:L$101,3,FALSE) -> 0.013344907 | E32: =C32/G$1 -> 0.0079674432 | F32: 71 | G32: =D32/C32 -> 0.54029991 | I32: 30 | J32: David Doherty | K32: 00:29:57
A33: 31 | B33: Caroline Morgan | C33: 00:32:11 | D33: =VLOOKUP(DATEDIF(VLOOKUP(B33,Ages!A$1:D$164,4,FALSE),B$1,"y"),'WOMEN Age Grade'!A$2:L$101,3,FALSE) -> 0.012048611 | E33: =C33/G$1 -> 0.0072095281 | F33: 70 | G33: =D33/C33 -> 0.53909891 | I33: 31 | J33: Eiri Evans-Jones | K33: 00:30:16
A34: 32 | B34: Mike Prasad | C34: 00:29:31 | D34: =VLOOKUP(DATEDIF(VLOOKUP(B34,Ages!A$1:D$164,4,FALSE),B$1,"y"),'MEN Age Grade'!A$2:L$101,3,FALSE) -> 0.010925926 | E34: =C34/G$1 -> 0.0066121565 | F34: 69 | G34: =(D34/C34) -> 0.53303219 | I34: 32 | J34: Meaghan Jenkins | K34: 00:30:40
A35: 33 | B35: Cori Davies | C35: 00:25:11 | D35: =VLOOKUP(DATEDIF(VLOOKUP(B35,Ages!A$1:D$164,4,FALSE),B$1,"y"),'MEN Age Grade'!A$2:L$101,3,FALSE) -> 0.0092592593 | E35: =C35/G$1 -> 0.0056414277 | F35: 68 | G35: =(D35/C35) -> 0.52945069 | I35: 33 | J35: Victoria Holmes | K35: 00:31:19
A36: 34 | B36: Eiri Evans-Jones | C36: 00:30:16 | D36: =VLOOKUP(DATEDIF(VLOOKUP(B36,Ages!A$1:D$164,4,FALSE),B$1,"y"),'WOMEN Age Grade'!A$2:L$101,3,FALSE) -> 0.010868056 | E36: =C36/G$1 -> 0.0067801673 | F36: 67 | G36: =D36/C36 -> 0.51707048 | I36: 34 | J36: Manisha Rickards | K36: 00:31:43
A37: 35 | B37: Jia Ping Lee | C37: 00:27:05 | D37: =VLOOKUP(DATEDIF(VLOOKUP(B37,Ages!A$1:D$164,4,FALSE),B$1,"y"),'WOMEN Age Grade'!A$2:L$101,3,FALSE) -> 0.0097106481 | E37: =C37/G$1 -> 0.006067055 | F37: 66 | G37: =D37/C37 -> 0.51630769 | I37: 35 | J37: Caroline Morgan | K37: 00:32:11
A38: 36 | B38: Sam Grunhut | C38: 00:25:13 | D38: =VLOOKUP(DATEDIF(VLOOKUP(B38,Ages!A$1:D$164,4,FALSE),B$1,"y"),'MEN Age Grade'!A$2:L$101,3,FALSE) -> 0.008900463 | E38: =C38/G$1 -> 0.0056488949 | F38: 65 | G38: =(D38/C38) -> 0.50826173 | I38: 36 | J38: Sandra rees | K38: 00:33:22
A39: 37 | B39: Jane Wallace | C39: 00:36:54 | D39: =VLOOKUP(DATEDIF(VLOOKUP(B39,Ages!A$1:D$164,4,FALSE),B$1,"y"),'WOMEN Age Grade'!A$2:L$101,3,FALSE) -> 0.012662037 | E39: =C39/G$1 -> 0.008266129 | F39: 64 | G39: =D39/C39 -> 0.49412827 | I39: 37 | J39: Gina Southam | K39: 00:33:31
A40: 38 | B40: Meaghan Jenkins | C40: 00:30:40 | D40: =VLOOKUP(DATEDIF(VLOOKUP(B40,Ages!A$1:D$164,4,FALSE),B$1,"y"),'WOMEN Age Grade'!A$2:L$101,3,FALSE) -> 0.010439815 | E40: =C40/G$1 -> 0.006869773 | F40: 63 | G40: =D40/C40 -> 0.49021739 | I40: 38 | J40: Frances Ratcliff | K40: 00:33:37
...

Sheet Race 2
B1: 46232 | D1: Singleton Pk | G1: 3.1 | H1: mile | J1: 5km results in Column C in Male/Female Age Grade tabs
A2: Pos | B2: AGE GRADE Order | C2: Time | D2: Age WR | E2: Min/Mi | F2: Pts | G2: Age Grade % | I2: Pos | J2: ACTUAL Race Order | K2: Time
A3: 1 | B3: Ashley Pascoe | C3: 00:19:17 | D3: =VLOOKUP(DATEDIF(VLOOKUP(B3,Ages!A$1:D$164,4,FALSE),B$1,"y"),'MEN Age Grade'!A$2:L$101,3,FALSE) -> 0.010474537 | E3: =C3/G$1 -> 0.0043197431 | F3: 100 | G3: =(D3/C3) -> 0.78219533 | I3: 1 | J3: Gareth Parry | K3: 00:18:57 | M3: Women | N3: =VLOOKUP("OC",'WOMEN Age Grade'!A$5:L$104,3,FALSE) -> 0.0096527778
A4: 2 | B4: Gavin Davies | C4: 00:21:07 | D4: =VLOOKUP(DATEDIF(VLOOKUP(B4,Ages!A$1:D$164,4,FALSE),B$1,"y"),'MEN Age Grade'!A$2:L$101,3,FALSE) -> 0.011215278 | E4: =C4/G$1 -> 0.0047304361 | F4: 99 | G4: =(D4/C4) -> 0.76479874 | I4: 2 | J4: Ashley Pascoe | K4: 00:19:17 | M4: Men | N4: =VLOOKUP("OC",'MEN Age Grade'!A$3:L$102,3,FALSE) -> 0.008900463
A5: 3 | B5: Hans Thompson | C5: 00:23:42 | D5: =VLOOKUP(DATEDIF(VLOOKUP(B5,Ages!A$1:D$164,4,FALSE),B$1,"y"),'MEN Age Grade'!A$2:L$101,3,FALSE) -> 0.012418981 | E5: =C5/G$1 -> 0.0053091398 | F5: 98 | G5: =(D5/C5) -> 0.75457103 | I5: 3 | J5: Justin Sperrin | K5: 00:20:34
A6: 4 | B6: Gareth Parry | C6: 00:18:57 | D6: =VLOOKUP(DATEDIF(VLOOKUP(B6,Ages!A$1:D$164,4,FALSE),B$1,"y"),'MEN Age Grade'!A$2:L$101,3,FALSE) -> 0.0099074074 | E6: =C6/G$1 -> 0.0042450717 | F6: 97 | G6: =(D6/C6) -> 0.7528584 | I6: 4 | J6: Aron Jones | K6: 00:20:35
A7: 5 | B7: Francis Heron | C7: 00:25:05 | D7: =VLOOKUP(DATEDIF(VLOOKUP(B7,Ages!A$1:D$164,4,FALSE),B$1,"y"),'MEN Age Grade'!A$2:L$101,3,FALSE) -> 0.012418981 | E7: =C7/G$1 -> 0.0056190263 | F7: 96 | G7: =(D7/C7) -> 0.71295681 | I7: 5 | J7: Paul Jenkins | K7: 00:20:40
A8: 6 | B8: Christina Smith | C8: 00:28:07 | D8: =VLOOKUP(DATEDIF(VLOOKUP(B8,Ages!A$1:D$164,4,FALSE),B$1,"y"),'WOMEN Age Grade'!A$2:L$101,3,FALSE) -> 0.013715278 | E8: =C8/G$1 -> 0.0062985364 | F8: 95 | G8: =D8/C8 -> 0.70243035 | I8: 6 | J8: Megan Chick | K8: 00:20:54
A9: 7 | B9: Fran Newman | C9: 00:26:39 | D9: =VLOOKUP(DATEDIF(VLOOKUP(B9,Ages!A$1:D$164,4,FALSE),B$1,"y"),'WOMEN Age Grade'!A$2:L$101,3,FALSE) -> 0.012997685 | E9: =C9/G$1 -> 0.0059699821 | F9: 94 | G9: =D9/C9 -> 0.70231395 | I9: 7 | J9: Gavin Davies | K9: 00:21:07
A10: 8 | B10: Paul Jenkins | C10: 00:20:40 | D10: =VLOOKUP(DATEDIF(VLOOKUP(B10,Ages!A$1:D$164,4,FALSE),B$1,"y"),'MEN Age Grade'!A$2:L$101,3,FALSE) -> 0.01005787 | E10: =C10/G$1 -> 0.0046296296 | F10: 93 | G10: =(D10/C10) -> 0.70080645 | I10: 8 | J10: James Bennett | K10: 00:21:51 | M10: 64 | N10: Age WR Tester
A11: 9 | B11: Leighton Jones | C11: 00:28:52 | D11: =VLOOKUP(DATEDIF(VLOOKUP(B11,Ages!A$1:D$164,4,FALSE),B$1,"y"),'MEN Age Grade'!A$2:L$101,3,FALSE) -> 0.01375 | E11: =C11/G$1 -> 0.0064665472 | F11: 92 | G11: =(D11/C11) -> 0.68591224 | I11: 9 | J11: Kevin Watson | K11: 00:22:18 | M11: Factor | N11: WR Time | O11: Gender
A12: 10 | B12: Rob Sandles | C12: 00:23:14 | D12: =VLOOKUP(DATEDIF(VLOOKUP(B12,Ages!A$1:D$164,4,FALSE),B$1,"y"),'MEN Age Grade'!A$2:L$101,3,FALSE) -> 0.011018519 | E12: =C12/G$1 -> 0.0052045998 | F12: 91 | G12: =(D12/C12) -> 0.68292683 | I12: 10 | J12: Rob Sandles | K12: 00:23:14 | M12: Women | N12: =VLOOKUP(M10,'WOMEN Age Grade'!A$5:L$104,3,FALSE) -> 0.013344907 | O12: Female
A13: 11 | B13: Kevin Watson | C13: 00:22:18 | D13: =VLOOKUP(DATEDIF(VLOOKUP(B13,Ages!A$1:D$164,4,FALSE),B$1,"y"),'MEN Age Grade'!A$2:L$101,3,FALSE) -> 0.01056713 | E13: =C13/G$1 -> 0.0049955197 | F13: 90 | G13: =(D13/C13) -> 0.68236173 | I13: 11 | J13: Hans Thompson | K13: 00:23:42 | M13: Men | N13: =VLOOKUP(M10,'MEN Age Grade'!A$3:L$102,3,FALSE) -> 0.011423611 | O13: Male
A14: 12 | B14: Diane Ridgeway | C14: 00:26:07 | D14: =VLOOKUP(DATEDIF(VLOOKUP(B14,Ages!A$1:D$164,4,FALSE),B$1,"y"),'WOMEN Age Grade'!A$2:L$101,3,FALSE) -> 0.012349537 | E14: =C14/G$1 -> 0.0058505078 | F14: 89 | G14: =D14/C14 -> 0.68091895 | I14: 12 | J14: Laura Gilbert | K14: 00:24:06
A15: 13 | B15: Julie Archer | C15: 00:26:13 | D15: =VLOOKUP(DATEDIF(VLOOKUP(B15,Ages!A$1:D$164,4,FALSE),B$1,"y"),'WOMEN Age Grade'!A$2:L$101,3,FALSE) -> 0.012349537 | E15: =C15/G$1 -> 0.0058729092 | F15: 88 | G15: =D15/C15 -> 0.67832168 | I15: 13 | J15: Chris Snary | K15: 00:24:06 | M15: Over 100% = World record level
A16: 14 | B16: Megan Chick | C16: 00:20:54 | D16: =VLOOKUP(DATEDIF(VLOOKUP(B16,Ages!A$1:D$164,4,FALSE),B$1,"y"),'WOMEN Age Grade'!A$2:L$101,3,FALSE) -> 0.0097106481 | E16: =C16/G$1 -> 0.0046818996 | F16: 87 | G16: =D16/C16 -> 0.66905901 | I16: 14 | J16: Peter Clement | K16: 00:24:29 | M16: Over 90% = World Class
A17: 15 | B17: Caroline Sandles | C17: 00:27:04 | D17: =VLOOKUP(DATEDIF(VLOOKUP(B17,Ages!A$1:D$164,4,FALSE),B$1,"y"),'WOMEN Age Grade'!A$2:L$101,3,FALSE) -> 0.012511574 | E17: =C17/G$1 -> 0.0060633214 | F17: 86 | G17: =D17/C17 -> 0.66564039 | I17: 15 | J17: Sam Grunhut | K17: 00:24:46 | M17: Over 80% = National Class
A18: 16 | B18: Aron Jones | C18: 00:20:35 | D18: =VLOOKUP(DATEDIF(VLOOKUP(B18,Ages!A$1:D$164,4,FALSE),B$1,"y"),'MEN Age Grade'!A$2:L$101,3,FALSE) -> 0.0094675926 | E18: =C18/G$1 -> 0.0046109618 | F18: 85 | G18: =(D18/C18) -> 0.66234818 | I18: 16 | J18: Clare Baxter | K18: 00:24:57 | M18: Over 70% = County Class
A19: 17 | B19: Peter Clement | C19: 00:24:29 | D19: =VLOOKUP(DATEDIF(VLOOKUP(B19,Ages!A$1:D$164,4,FALSE),B$1,"y"),'MEN Age Grade'!A$2:L$101,3,FALSE) -> 0.011122685 | E19: =C19/G$1 -> 0.0054846177 | F19: 84 | G19: =(D19/C19) -> 0.65418652 | I19: 17 | J19: Chris Simons | K19: 0.017361111 | M19: Over 60% = local Class
A20: 18 | B20: Justin Sperrin | C20: 00:20:34 | D20: =VLOOKUP(DATEDIF(VLOOKUP(B20,Ages!A$1:D$164,4,FALSE),B$1,"y"),'MEN Age Grade'!A$2:L$101,3,FALSE) -> 0.0090625 | E20: =C20/G$1 -> 0.0046072282 | F20: 83 | G20: =(D20/C20) -> 0.63452188 | I20: 18 | J20: Francis Heron | K20: 00:25:05
A21: 19 | B21: David Doherty | C21: 00:29:17 | D21: =VLOOKUP(DATEDIF(VLOOKUP(B21,Ages!A$1:D$164,4,FALSE),B$1,"y"),'MEN Age Grade'!A$2:L$101,3,FALSE) -> 0.012418981 | E21: =C21/G$1 -> 0.0065598865 | F21: 82 | G21: =(D21/C21) -> 0.61070006 | I21: 19 | J21: Cori Davies | K21: 00:26:00
A22: 20 | B22: Clare Baxter | C22: 00:24:57 | D22: =VLOOKUP(DATEDIF(VLOOKUP(B22,Ages!A$1:D$164,4,FALSE),B$1,"y"),'WOMEN Age Grade'!A$2:L$101,3,FALSE) -> 0.010520833 | E22: =C22/G$1 -> 0.0055891577 | F22: 81 | G22: =D22/C22 -> 0.60721443 | I22: 20 | J22: Diane Ridgeway | K22: 00:26:07
A23: 21 | B23: Steve McLelland | C23: 00:29:45 | D23: =VLOOKUP(DATEDIF(VLOOKUP(B23,Ages!A$1:D$164,4,FALSE),B$1,"y"),'MEN Age Grade'!A$2:L$101,3,FALSE) -> 0.012418981 | E23: =C23/G$1 -> 0.0066644265 | F23: 80 | G23: =(D23/C23) -> 0.60112045 | I23: 21 | J23: Julie Archer | K23: 00:26:13
A24: 22 | B24: James Bennett | C24: 00:21:51 | D24: =VLOOKUP(DATEDIF(VLOOKUP(B24,Ages!A$1:D$164,4,FALSE),B$1,"y"),'MEN Age Grade'!A$2:L$101,3,FALSE) -> 0.0090625 | E24: =C24/G$1 -> 0.0048947133 | F24: 79 | G24: =(D24/C24) -> 0.597254 | I24: 22 | J24: Fran Newman | K24: 00:26:39
A25: 23 | B25: Laura Gilbert | C25: 00:24:06 | D25: =VLOOKUP(DATEDIF(VLOOKUP(B25,Ages!A$1:D$164,4,FALSE),B$1,"y"),'WOMEN Age Grade'!A$2:L$101,3,FALSE) -> 0.0099074074 | E25: =C25/G$1 -> 0.0053987455 | F25: 78 | G25: =D25/C25 -> 0.59197787 | I25: 23 | J25: Jenny Stanford | K25: 00:26:44
A26: 24 | B26: Linda Owens | C26: 00:38:32 | D26: =VLOOKUP(DATEDIF(VLOOKUP(B26,Ages!A$1:D$164,4,FALSE),B$1,"y"),'WOMEN Age Grade'!A$2:L$101,3,FALSE) -> 0.015659722 | E26: =C26/G$1 -> 0.0086320191 | F26: 77 | G26: =D26/C26 -> 0.58520761 | I26: 24 | J26: Caroline Sandles | K26: 00:27:04
A27: 25 | B27: Ed Davies | C27: 00:27:32 | D27: =VLOOKUP(DATEDIF(VLOOKUP(B27,Ages!A$1:D$164,4,FALSE),B$1,"y"),'MEN Age Grade'!A$2:L$101,3,FALSE) -> 0.011122685 | E27: =C27/G$1 -> 0.0061678614 | F27: 76 | G27: =(D27/C27) -> 0.58171913 | I27: 25 | J27: Ed Davies | K27: 00:27:32
A28: 26 | B28: Laura Hall | C28: 00:33:27 | D28: =VLOOKUP(DATEDIF(VLOOKUP(B28,Ages!A$1:D$164,4,FALSE),B$1,"y"),'WOMEN Age Grade'!A$2:L$101,3,FALSE) -> 0.013171296 | E28: =C28/G$1 -> 0.0074932796 | F28: 75 | G28: =D28/C28 -> 0.56701545 | I28: 26 | J28: Jia Ping Lee | K28: 00:27:39
A29: 27 | B29: Jenny Stanford | C29: 00:26:44 | D29: =VLOOKUP(DATEDIF(VLOOKUP(B29,Ages!A$1:D$164,4,FALSE),B$1,"y"),'WOMEN Age Grade'!A$2:L$101,3,FALSE) -> 0.010520833 | E29: =C29/G$1 -> 0.0059886499 | F29: 74 | G29: =D29/C29 -> 0.56670823 | I29: 27 | J29: Michelle Grey | K29: 0.019467593
A30: 28 | B30: Chris Snary | C30: 00:24:06 | D30: =VLOOKUP(DATEDIF(VLOOKUP(B30,Ages!A$1:D$164,4,FALSE),B$1,"y"),'MEN Age Grade'!A$2:L$101,3,FALSE) -> 0.0093981481 | E30: =C30/G$1 -> 0.0053987455 | F30: 73 | G30: =(D30/C30) -> 0.5615491 | I30: 28 | J30: Christina Smith | K30: 00:28:07
A31: 29 | B31: Michelle Grey | C31: 0.019467593 | D31: =VLOOKUP(DATEDIF(VLOOKUP(B31,Ages!A$1:D$164,4,FALSE),B$1,"y"),'WOMEN Age Grade'!A$2:L$101,3,FALSE) -> 0.010636574 | E31: =C31/G$1 -> 0.0062798686 | F31: 72 | G31: =D31/C31 -> 0.54637337 | I31: 29 | J31: Leighton Jones | K31: 00:28:52
A32: 30 | B32: Manisha Rickards | C32: 00:34:44 | D32: =VLOOKUP(DATEDIF(VLOOKUP(B32,Ages!A$1:D$164,4,FALSE),B$1,"y"),'WOMEN Age Grade'!A$2:L$101,3,FALSE) -> 0.013171296 | E32: =C32/G$1 -> 0.0077807646 | F32: 71 | G32: =D32/C32 -> 0.54606526 | I32: 30 | J32: Kelly Bamford | K32: 00:29:09
A33: 31 | B33: Chris Simons | C33: 0.017361111 | D33: =VLOOKUP(DATEDIF(VLOOKUP(B33,Ages!A$1:D$164,4,FALSE),B$1,"y"),'MEN Age Grade'!A$2:L$101,3,FALSE) -> 0.0093287037 | E33: =C33/G$1 -> 0.0056003584 | F33: 70 | G33: =(D33/C33) -> 0.53733333 | I33: 31 | J33: David Doherty | K33: 00:29:17
A34: 32 | B34: Kelly Bamford | C34: 00:29:09 | D34: =VLOOKUP(DATEDIF(VLOOKUP(B34,Ages!A$1:D$164,4,FALSE),B$1,"y"),'WOMEN Age Grade'!A$2:L$101,3,FALSE) -> 0.010868056 | E34: =C34/G$1 -> 0.0065300179 | F34: 69 | G34: =D34/C34 -> 0.53687822 | I34: 32 | J34: Eiri Evans-Jones | K34: 00:29:27
A35: 33 | B35: Lynn Holmes | C35: 00:35:51 | D35: =VLOOKUP(DATEDIF(VLOOKUP(B35,Ages!A$1:D$164,4,FALSE),B$1,"y"),'WOMEN Age Grade'!A$2:L$101,3,FALSE) -> 0.013344907 | E35: =C35/G$1 -> 0.008030914 | F35: 68 | G35: =D35/C35 -> 0.53602975 | I35: 33 | J35: Steve McLelland | K35: 00:29:45
A36: 34 | B36: Eiri Evans-Jones | C36: 00:29:27 | D36: =VLOOKUP(DATEDIF(VLOOKUP(B36,Ages!A$1:D$164,4,FALSE),B$1,"y"),'WOMEN Age Grade'!A$2:L$101,3,FALSE) -> 0.010868056 | E36: =C36/G$1 -> 0.0065972222 | F36: 67 | G36: =D36/C36 -> 0.53140917 | I36: 34 | J36: Saran Lewis | K36: 00:30:36
A37: 35 | B37: Saran Lewis | C37: 00:30:36 | D37: =VLOOKUP(DATEDIF(VLOOKUP(B37,Ages!A$1:D$164,4,FALSE),B$1,"y"),'WOMEN Age Grade'!A$2:L$101,3,FALSE) -> 0.011111111 | E37: =C37/G$1 -> 0.0068548387 | F37: 66 | G37: =D37/C37 -> 0.52287582 | I37: 35 | J37: Debbie Gibbs | K37: 00:31:21
A38: 36 | B38: Sam Grunhut | C38: 00:24:46 | D38: =VLOOKUP(DATEDIF(VLOOKUP(B38,Ages!A$1:D$164,4,FALSE),B$1,"y"),'MEN Age Grade'!A$2:L$101,3,FALSE) -> 0.008900463 | E38: =C38/G$1 -> 0.0055480884 | F38: 65 | G38: =(D38/C38) -> 0.51749664 | I38: 36 | J38: Meaghan Jenkins | K38: 00:31:58
A39: 37 | B39: Cori Davies | C39: 00:26:00 | D39: =VLOOKUP(DATEDIF(VLOOKUP(B39,Ages!A$1:D$164,4,FALSE),B$1,"y"),'MEN Age Grade'!A$2:L$101,3,FALSE) -> 0.0092592593 | E39: =C39/G$1 -> 0.0058243728 | F39: 64 | G39: =(D39/C39) -> 0.51282051 | I39: 37 | J39: Meghann Millership | K39: 00:32:31
A40: 38 | B40: Fay Sharpe | C40: 00:38:38 | D40: =VLOOKUP(DATEDIF(VLOOKUP(B40,Ages!A$1:D$164,4,FALSE),B$1,"y"),'WOMEN Age Grade'!A$2:L$101,3,FALSE) -> 0.013715278 | E40: =C40/G$1 -> 0.0086544205 | F40: 63 | G40: =D40/C40 -> 0.51121657 | I40: 38 | J40: Laura Hall | K40: 00:33:27
...

Sheet Race 3
B1: 46260 | G1: 6.2 | H1: mile | J1: 10k results in col 8 of Age Grade Listing 'men' / 'women'
A2: Pos | B2: AGE GRADE Order | C2: Time | D2: Age WR | E2: Min/Mi | F2: Pts | G2: Age Grade % | I2: Pos | J2: ACTUAL Race Order | K2: Time
A3: 1 | B3: Ashley Pascoe | C3: 0.028645833 | D3: =VLOOKUP(DATEDIF(VLOOKUP(B3,Ages!A$1:D$164,4,FALSE),B$1,"y"),'MEN Age Grade'!A$2:L$101,8,FALSE) -> 0.021354167 | E3: =C3/G$1 -> 0.0046202957 | F3: 100 | G3: =(D3/C3) -> 0.74545455 | I3: 1 | J3: Ashley Pascoe | K3: 0.028645833 | M3: Women | N3: =VLOOKUP("OC",'WOMEN Age Grade'!A$5:L$104,8,FALSE) -> 0.019976852
A4: 2 | B4: Hans Thompson | C4: 0.036076389 | D4: =VLOOKUP(DATEDIF(VLOOKUP(B4,Ages!A$1:D$164,4,FALSE),B$1,"y"),'MEN Age Grade'!A$2:L$101,8,FALSE) -> 0.025381944 | E4: =C4/G$1 -> 0.0058187724 | F4: 99 | G4: =(D4/C4) -> 0.70356112 | I4: 2 | J4: Lee Morris | K4: 0.029108796 | M4: Men | N4: =VLOOKUP("OC",'MEN Age Grade'!A$3:L$102,8,FALSE) -> 0.018333333
A5: 3 | B5: Cris Arnold | C5: 0.033252315 | D5: =VLOOKUP(DATEDIF(VLOOKUP(B5,Ages!A$1:D$164,4,FALSE),B$1,"y"),'MEN Age Grade'!A$2:L$101,8,FALSE) -> 0.022743056 | E5: =C5/G$1 -> 0.0053632766 | F5: 98 | G5: =(D5/C5) -> 0.68395405 | I5: 3 | J5: Justin Sperrin | K5: 0.029502315
A6: 4 | B6: Rob Sandles | C6: 0.033043981 | D6: =VLOOKUP(DATEDIF(VLOOKUP(B6,Ages!A$1:D$164,4,FALSE),B$1,"y"),'MEN Age Grade'!A$2:L$101,8,FALSE) -> 0.022534722 | E6: =C6/G$1 -> 0.0053296744 | F6: 97 | G6: =(D6/C6) -> 0.68196147 | I6: 4 | J6: Aron Jones | K6: 0.029895833
A7: 5 | B7: Fran Newman | C7: 0.038449074 | D7: =VLOOKUP(DATEDIF(VLOOKUP(B7,Ages!A$1:D$164,4,FALSE),B$1,"y"),'WOMEN Age Grade'!A$2:L$101,8,FALSE) -> 0.026180556 | E7: =C7/G$1 -> 0.0062014636 | F7: 96 | G7: =(D7/C7) -> 0.68091511 | I7: 5 | J7: Paul Jenkins | K7: 0.030173611
A8: 6 | B8: Lee Morris | C8: 0.029108796 | D8: =VLOOKUP(DATEDIF(VLOOKUP(B8,Ages!A$1:D$164,4,FALSE),B$1,"y"),'MEN Age Grade'!A$2:L$101,8,FALSE) -> 0.019791667 | E8: =C8/G$1 -> 0.0046949671 | F8: 95 | G8: =(D8/C8) -> 0.67992048 | I8: 6 | J8: Megan Chick | K8: 0.030787037
A9: 7 | B9: Paul Jenkins | C9: 0.030173611 | D9: =VLOOKUP(DATEDIF(VLOOKUP(B9,Ages!A$1:D$164,4,FALSE),B$1,"y"),'MEN Age Grade'!A$2:L$101,8,FALSE) -> 0.020462963 | E9: =C9/G$1 -> 0.0048667115 | F9: 94 | G9: =(D9/C9) -> 0.67817415 | I9: 7 | J9: Kevin Watson | K9: 0.031944444
A10: 8 | B10: Kevin Watson | C10: 0.031944444 | D10: =VLOOKUP(DATEDIF(VLOOKUP(B10,Ages!A$1:D$164,4,FALSE),B$1,"y"),'MEN Age Grade'!A$2:L$101,8,FALSE) -> 0.021539352 | E10: =C10/G$1 -> 0.0051523297 | F10: 93 | G10: =(D10/C10) -> 0.67427536 | I10: 8 | J10: Mark Bamford | K10: 0.032523148 | M10: 64 | N10: Age WR Tester
A11: 9 | B11: Caroline Sandles | C11: 0.037743056 | D11: =VLOOKUP(DATEDIF(VLOOKUP(B11,Ages!A$1:D$164,4,FALSE),B$1,"y"),'WOMEN Age Grade'!A$2:L$101,8,FALSE) -> 0.025196759 | E11: =C11/G$1 -> 0.0060875896 | F11: 92 | G11: =(D11/C11) -> 0.66758663 | I11: 9 | J11: Rob Sandles | K11: 0.033043981 | M11: Factor | N11: WR Time | O11: Gender
A12: 10 | B12: Leighton Jones | C12: 0.041863426 | D12: =VLOOKUP(DATEDIF(VLOOKUP(B12,Ages!A$1:D$164,4,FALSE),B$1,"y"),'MEN Age Grade'!A$2:L$101,8,FALSE) -> 0.027893519 | E12: =C12/G$1 -> 0.0067521655 | F12: 91 | G12: =(D12/C12) -> 0.66629804 | I12: 10 | J12: James Bennett | K12: 0.033113426 | M12: Women | N12: =VLOOKUP(M10,'WOMEN Age Grade'!A$5:L$104,8,FALSE) -> 0.026886574 | O12: Female
A13: 11 | B13: Megan Chick | C13: 0.030787037 | D13: =VLOOKUP(DATEDIF(VLOOKUP(B13,Ages!A$1:D$164,4,FALSE),B$1,"y"),'WOMEN Age Grade'!A$2:L$101,8,FALSE) -> 0.020046296 | E13: =C13/G$1 -> 0.0049656511 | F13: 90 | G13: =(D13/C13) -> 0.65112782 | I13: 11 | J13: Cris Arnold | K13: 0.033252315 | M13: Men | N13: =VLOOKUP(M10,'MEN Age Grade'!A$3:L$102,8,FALSE) -> 0.023391204 | O13: Male
A14: 12 | B14: Mark Bamford | C14: 0.032523148 | D14: =VLOOKUP(DATEDIF(VLOOKUP(B14,Ages!A$1:D$164,4,FALSE),B$1,"y"),'MEN Age Grade'!A$2:L$101,8,FALSE) -> 0.020983796 | E14: =C14/G$1 -> 0.0052456691 | F14: 89 | G14: =(D14/C14) -> 0.64519573 | I14: 12 | J14: Dan Evans | K14: 0.033414352
A15: 13 | B15: Aron Jones | C15: 0.029895833 | D15: =VLOOKUP(DATEDIF(VLOOKUP(B15,Ages!A$1:D$164,4,FALSE),B$1,"y"),'MEN Age Grade'!A$2:L$101,8,FALSE) -> 0.019178241 | E15: =C15/G$1 -> 0.0048219086 | F15: 88 | G15: =(D15/C15) -> 0.64150213 | I15: 13 | J15: Chris Simons | K15: 0.033854167 | M15: Over 100% = World record level
A16: 14 | B16: Diane Ridgeway | C16: 0.039201389 | D16: =VLOOKUP(DATEDIF(VLOOKUP(B16,Ages!A$1:D$164,4,FALSE),B$1,"y"),'WOMEN Age Grade'!A$2:L$101,8,FALSE) -> 0.024884259 | E16: =C16/G$1 -> 0.0063228047 | F16: 87 | G16: =(D16/C16) -> 0.63478004 | I16: 14 | J16: Stuart Davies | K16: 0.034155093 | M16: Over 90% = World Class
A17: 15 | B17: Sean Morgans | C17: 0.034340278 | D17: =VLOOKUP(DATEDIF(VLOOKUP(B17,Ages!A$1:D$164,4,FALSE),B$1,"y"),'MEN Age Grade'!A$2:L$101,8,FALSE) -> 0.021736111 | E17: =C17/G$1 -> 0.0055387545 | F17: 86 | G17: =(D17/C17) -> 0.63296259 | I17: 15 | J17: Sean Morgans | K17: 0.034340278 | M17: Over 80% = National Class
A18: 16 | B18: Justin Sperrin | C18: 0.029502315 | D18: =VLOOKUP(DATEDIF(VLOOKUP(B18,Ages!A$1:D$164,4,FALSE),B$1,"y"),'MEN Age Grade'!A$2:L$101,8,FALSE) -> 0.018506944 | E18: =C18/G$1 -> 0.0047584379 | F18: 85 | G18: =(D18/C18) -> 0.62730483 | I18: 16 | J18: Ceri Isaac | K18: 0.035763889 | M18: Over 70% = County Class
A19: 17 | B19: Peter Clement | C19: 0.038148148 | D19: =VLOOKUP(DATEDIF(VLOOKUP(B19,Ages!A$1:D$164,4,FALSE),B$1,"y"),'MEN Age Grade'!A$2:L$101,8,FALSE) -> 0.022743056 | E19: =C19/G$1 -> 0.0061529271 | F19: 84 | G19: =(D19/C19) -> 0.59617718 | I19: 17 | J19: Hans Thompson | K19: 0.036076389 | M19: Over 60% = local Class
A20: 18 | B20: Stuart Davies | C20: 0.034155093 | D20: =VLOOKUP(DATEDIF(VLOOKUP(B20,Ages!A$1:D$164,4,FALSE),B$1,"y"),'MEN Age Grade'!A$2:L$101,8,FALSE) -> 0.020289352 | E20: =C20/G$1 -> 0.0055088859 | F20: 83 | G20: =(D20/C20) -> 0.59403592 | I20: 18 | J20: Sam Grunhut | K20: 0.036759259
A21: 19 | B21: Manisha Rickards | C21: 0.044895833 | D21: =VLOOKUP(DATEDIF(VLOOKUP(B21,Ages!A$1:D$164,4,FALSE),B$1,"y"),'WOMEN Age Grade'!A$2:L$101,8,FALSE) -> 0.026527778 | E21: =C21/G$1 -> 0.0072412634 | F21: 82 | G21: =(D21/C21) -> 0.59087394 | I21: 19 | J21: Caroline Sandles | K21: 0.037743056 | N21: =VLOOKUP(B4,Ages!A$1:J$164,10,FALSE) -> 70-74 | O21: =IF(C3<=VLOOKUP(N21,'Standards Male'!E65:J76,2,FALSE),'Standards Male'!F63,"other") -> other
A22: 20 | B22: James Davies | C22: 0.038819444 | D22: =VLOOKUP(DATEDIF(VLOOKUP(B22,Ages!A$1:D$164,4,FALSE),B$1,"y"),'MEN Age Grade'!A$2:L$101,8,FALSE) -> 0.02212963 | E22: =C22/G$1 -> 0.0062612007 | F22: 81 | G22: =(D22/C22) -> 0.57006559 | I22: 20 | J22: Peter Clement | K22: 0.038148148 | N22: =VLOOKUP(VLOOKUP(B4,Ages!A$1:J$164,10,FALSE),'Standards Male'!E65:J76,2,FALSE) -> 0.024626919
A23: 21 | B23: Sandra Rees | C23: 0.04712963 | D23: =VLOOKUP(DATEDIF(VLOOKUP(B23,Ages!A$1:D$164,4,FALSE),B$1,"y"),'WOMEN Age Grade'!A$2:L$101,8,FALSE) -> 0.026527778 | E23: =C23/G$1 -> 0.0076015532 | F23: 80 | G23: =(D23/C23) -> 0.56286837 | I23: 21 | J23: Fran Newman | K23: 0.038449074
A24: 22 | B24: James Bennett | C24: 0.033113426 | D24: =VLOOKUP(DATEDIF(VLOOKUP(B24,Ages!A$1:D$164,4,FALSE),B$1,"y"),'MEN Age Grade'!A$2:L$101,8,FALSE) -> 0.018506944 | E24: =C24/G$1 -> 0.0053408751 | F24: 79 | G24: =(D24/C24) -> 0.55889549 | I24: 22 | J24: James Davies | K24: 0.038819444 | N24: {=_xlfn.IFS(C4<='Standards Male'!F70,"Platinum",C4<='Standards Male'!G70,"Gold",C4<='Standards Male'!H70,"Silver",C4<='Standards Male'!I70,"Bronze",C4<='Standards Male'!J70,"Copper")} -> #N/A
A25: 23 | B25: Chris Simons | C25: 0.033854167 | D25: =VLOOKUP(DATEDIF(VLOOKUP(B25,Ages!A$1:D$164,4,FALSE),B$1,"y"),'MEN Age Grade'!A$2:L$101,8,FALSE) -> 0.018888889 | E25: =C25/G$1 -> 0.0054603495 | F25: 78 | G25: =(D25/C25) -> 0.55794872 | I25: 23 | J25: Jia Ping Lee | K25: 0.038900463 | N25: {=_xlfn.IFS(C4<='Standards Male'!F70,"Platinum",C4<='Standards Male'!G70,"Gold",C4<='Standards Male'!H70,"Silver",C4<='Standards Male'!I70,"Bronze",C4<='Standards Male'!J70,"Copper")} -> #N/A
A26: 24 | B26: Dan Evans | C26: 0.033414352 | D26: =VLOOKUP(DATEDIF(VLOOKUP(B26,Ages!A$1:D$164,4,FALSE),B$1,"y"),'MEN Age Grade'!A$2:L$101,8,FALSE) -> 0.018506944 | E26: =C26/G$1 -> 0.0053894116 | F26: 77 | G26: =(D26/C26) -> 0.55386214 | I26: 24 | J26: Diane Ridgeway | K26: 0.039201389 | N26: =MATCH(VLOOKUP(B4,Ages!A$1:J$164,10,FALSE),'Standards Male'!E64:E75,0) -> 9 | O26: {=DGET('Standards Male'!D63:J75,3,_xlfn.IFS(C4<='Standards Male'!F70,"Platinum",C4<='Standards Male'!G70,"Gold",C4<='Standards Male'!H70,"Silver",C4<='Standards Male'!I70,"Bronze",C4<='Standards Male'!J70,"Copper"))} -> #N/A
A27: 25 | B27: David Doherty | C27: 0.046828704 | D27: =VLOOKUP(DATEDIF(VLOOKUP(B27,Ages!A$1:D$164,4,FALSE),B$1,"y"),'MEN Age Grade'!A$2:L$101,8,FALSE) -> 0.025381944 | E27: =C27/G$1 -> 0.0075530167 | F27: 76 | G27: =(D27/C27) -> 0.54201681 | I27: 25 | J27: Jenny Stanford | K27: 0.039513889 | N27: =ROW('Standards Male'!E64) - 1 + MATCH(VLOOKUP(B4,Ages!A$1:J$164,10,FALSE),'Standards Male'!E64:E75,0) -> 72
A28: 26 | B28: Jenny Stanford | C28: 0.039513889 | D28: =VLOOKUP(DATEDIF(VLOOKUP(B28,Ages!A$1:D$164,4,FALSE),B$1,"y"),'WOMEN Age Grade'!A$2:L$101,8,FALSE) -> 0.021354167 | E28: =C28/G$1 -> 0.0063732079 | F28: 75 | G28: =(D28/C28) -> 0.54042179 | I28: 26 | J28: Louise Steer | K28: 0.040949074 | N28: =IF(I3<35,"Sen",IF(I3<40,"35-39",IF(I3<45,"40-44",IF(I3<50,"45-49",IF(I3<55,"50-54",IF(I3<60,"55-59",IF(I3<65,"60-64",IF(I3<70,"65-69",IF(I3<75,"70-74",IF(I3<80,"75-79")))))))))) -> Sen
A29: 27 | B29: Laura Hall | C29: 0.049155093 | D29: =VLOOKUP(DATEDIF(VLOOKUP(B29,Ages!A$1:D$164,4,FALSE),B$1,"y"),'WOMEN Age Grade'!A$2:L$101,8,FALSE) -> 0.026527778 | E29: =C29/G$1 -> 0.0079282407 | F29: 74 | G29: =(D29/C29) -> 0.53967506 | I29: 27 | J29: Kelly Bamford | K29: 0.041388889
A30: 28 | B30: Louise Steer | C30: 0.040949074 | D30: =VLOOKUP(DATEDIF(VLOOKUP(B30,Ages!A$1:D$164,4,FALSE),B$1,"y"),'WOMEN Age Grade'!A$2:L$101,8,FALSE) -> 0.021724537 | E30: =C30/G$1 -> 0.0066046894 | F30: 73 | G30: =(D30/C30) -> 0.53052572 | I30: 28 | J30: Leighton Jones | K30: 0.041863426
A31: 29 | B31: Kelly Bamford | C31: 0.041388889 | D31: =VLOOKUP(DATEDIF(VLOOKUP(B31,Ages!A$1:D$164,4,FALSE),B$1,"y"),'WOMEN Age Grade'!A$2:L$101,8,FALSE) -> 0.02193287 | E31: =C31/G$1 -> 0.0066756272 | F31: 72 | G31: =(D31/C31) -> 0.5299217 | I31: 29 | J31: Eiri Evans-Jones | K31: 0.042175926
A32: 30 | B32: Ceri Isaac | C32: 0.035763889 | D32: =VLOOKUP(DATEDIF(VLOOKUP(B32,Ages!A$1:D$164,4,FALSE),B$1,"y"),'MEN Age Grade'!A$2:L$101,8,FALSE) -> 0.018888889 | E32: =C32/G$1 -> 0.0057683692 | F32: 71 | G32: =(D32/C32) -> 0.52815534 | I32: 30 | J32: Manisha Rickards | K32: 0.044895833
A33: 31 | B33: Eiri Evans-Jones | C33: 0.042175926 | D33: =VLOOKUP(DATEDIF(VLOOKUP(B33,Ages!A$1:D$164,4,FALSE),B$1,"y"),'WOMEN Age Grade'!A$2:L$101,8,FALSE) -> 0.02193287 | E33: =C33/G$1 -> 0.0068025687 | F33: 70 | G33: =(D33/C33) -> 0.52003293 | I33: 31 | J33: Mike Prasad | K33: 0.046435185
A34: 32 | B34: Jia Ping Lee | C34: 0.038900463 | D34: =VLOOKUP(DATEDIF(VLOOKUP(B34,Ages!A$1:D$164,4,FALSE),B$1,"y"),'WOMEN Age Grade'!A$2:L$101,8,FALSE) -> 0.020046296 | E34: =C34/G$1 -> 0.0062742682 | F34: 69 | G34: =(D34/C34) -> 0.51532282 | I34: 32 | J34: David Doherty | K34: 0.046828704
A35: 33 | B35: Fay Sharpe | C35: 0.054803241 | D35: =VLOOKUP(DATEDIF(VLOOKUP(B35,Ages!A$1:D$164,4,FALSE),B$1,"y"),'WOMEN Age Grade'!A$2:L$101,8,FALSE) -> 0.027627315 | E35: =C35/G$1 -> 0.0088392324 | F35: 68 | G35: =(D35/C35) -> 0.50411827 | I35: 33 | J35: Sandra Rees | K35: 0.04712963
A36: 34 | B36: Sam Grunhut | C36: 0.036759259 | D36: =VLOOKUP(DATEDIF(VLOOKUP(B36,Ages!A$1:D$164,4,FALSE),B$1,"y"),'MEN Age Grade'!A$2:L$101,8,FALSE) -> 0.018333333 | E36: =C36/G$1 -> 0.0059289128 | F36: 67 | G36: =(D36/C36) -> 0.49874055 | I36: 34 | J36: Meaghan Jenkins | K36: 0.048900463
A37: 35 | B37: Mike Prasad | C37: 0.046435185 | D37: =VLOOKUP(DATEDIF(VLOOKUP(B37,Ages!A$1:D$164,4,FALSE),B$1,"y"),'MEN Age Grade'!A$2:L$101,8,FALSE) -> 0.022326389 | E37: =C37/G$1 -> 0.007489546 | F37: 66 | G37: =(D37/C37) -> 0.48080758 | I37: 35 | J37: Laura Hall | K37: 0.049155093
A38: 36 | B38: Meaghan Jenkins | C38: 0.048900463 | D38: =VLOOKUP(DATEDIF(VLOOKUP(B38,Ages!A$1:D$164,4,FALSE),B$1,"y"),'WOMEN Age Grade'!A$2:L$101,8,FALSE) -> 0.021736111 | E38: =C38/G$1 -> 0.0078871714 | F38: 65 | G38: =(D38/C38) -> 0.44449704 | I38: 36 | J38: Victoria Holmes | K38: 0.05125
A39: 37 | B39: Debbie Gibbs | C39: 0.051793981 | D39: =VLOOKUP(DATEDIF(VLOOKUP(B39,Ages!A$1:D$164,4,FALSE),B$1,"y"),'WOMEN Age Grade'!A$2:L$101,8,FALSE) -> 0.022152778 | E39: =C39/G$1 -> 0.008353868 | F39: 64 | G39: =(D39/C39) -> 0.4277095 | I39: 37 | J39: Debbie Gibbs | K39: 0.051793981
A40: 38 | B40: Victoria Holmes | C40: 0.05125 | D40: =VLOOKUP(DATEDIF(VLOOKUP(B40,Ages!A$1:D$164,4,FALSE),B$1,"y"),'WOMEN Age Grade'!A$2:L$101,8,FALSE) -> 0.020011574 | E40: =C40/G$1 -> 0.008266129 | F40: 63 | G40: =(D40/C40) -> 0.39046974 | I40: 38 | J40: Sophie Grunhut | K40: 0.054803241
...

Sheet Race 4
B1: 46295 | G1: 1.88 | H1: mile | J1: 3k results in col 13 of Age Grade Listing 'men' / 'women'
A2: Pos | B2: AGE GRADE Order | C2: Time | D2: Age WR | E2: Min/Mi | F2: Pts | G2: Age Grade % | I2: Pos | J2: ACTUAL Race Order | K2: Time
A3: 1 | B3: Katie Williams | C3: 0.0083564815 | D3: =VLOOKUP(DATEDIF(VLOOKUP(B3,Ages!A$1:D$164,4,FALSE),B$1,"y"),'WOMEN Age Grade'!A$2:N$101,13,FALSE) -> 0.0067592593 | E3: =C3/G$1 -> 0.004444937 | F3: 100 | G3: =D3/C3 -> 0.80886427 | I3: 1 | J3: Chris Pridmore | K3: 0.0071180556 | M3: Women | N3: =VLOOKUP("OC",'WOMEN Age Grade'!A$3:N$102,13,FALSE) -> 0.005625
A4: 2 | B4: Ashley Pascoe | C4: 0.0077430556 | D4: =VLOOKUP(DATEDIF(VLOOKUP(B4,Ages!A$1:D$164,4,FALSE),B$1,"y"),'MEN Age Grade'!A$2:M$101,13,FALSE) -> 0.0061574074 | E4: =C4/G$1 -> 0.0041186466 | F4: 99 | G4: =D4/C4 -> 0.79521674 | I4: 2 | J4: Gareth Parry | K4: 0.0075462963 | M4: Men | N4: =VLOOKUP("OC",'MEN Age Grade'!A$3:M$102,13,FALSE) -> 0.0050578704
A5: 3 | B5: Hans Thompson | C5: 0.0093634259 | D5: =VLOOKUP(DATEDIF(VLOOKUP(B5,Ages!A$1:D$164,4,FALSE),B$1,"y"),'MEN Age Grade'!A$2:M$101,13,FALSE) -> 0.0074074074 | E5: =C5/G$1 -> 0.0049805457 | F5: 98 | G5: =D5/C5 -> 0.79110012 | I5: 3 | J5: Ashley Pascoe | K5: 0.0077430556
A6: 4 | B6: Gareth Parry | C6: 0.0075462963 | D6: =VLOOKUP(DATEDIF(VLOOKUP(B6,Ages!A$1:D$164,4,FALSE),B$1,"y"),'MEN Age Grade'!A$2:M$101,13,FALSE) -> 0.0058449074 | E6: =C6/G$1 -> 0.0040139874 | F6: 97 | G6: =D6/C6 -> 0.77453988 | I6: 4 | J6: Justin Sperrin | K6: 0.0079282407
A7: 5 | B7: Chris Pridmore | C7: 0.0071180556 | D7: =VLOOKUP(DATEDIF(VLOOKUP(B7,Ages!A$1:D$164,4,FALSE),B$1,"y"),'MEN Age Grade'!A$2:M$101,13,FALSE) -> 0.005462963 | E7: =C7/G$1 -> 0.0037861998 | F7: 96 | G7: =D7/C7 -> 0.76747967 | I7: 5 | J7: Aron Jones | K7: 0.0080324074
A8: 6 | B8: Gavin Davies | C8: 0.0087615741 | D8: =VLOOKUP(DATEDIF(VLOOKUP(B8,Ages!A$1:D$164,4,FALSE),B$1,"y"),'MEN Age Grade'!A$2:M$101,13,FALSE) -> 0.0066898148 | E8: =C8/G$1 -> 0.0046604117 | F8: 95 | G8: =D8/C8 -> 0.76354029 | I8: 6 | J8: Dan Evans | K8: 0.0083101852
A9: 7 | B9: Francis Heron | C9: 0.0099074074 | D9: =VLOOKUP(DATEDIF(VLOOKUP(B9,Ages!A$1:D$164,4,FALSE),B$1,"y"),'MEN Age Grade'!A$2:M$101,13,FALSE) -> 0.0074074074 | E9: =C9/G$1 -> 0.0052698976 | F9: 94 | G9: =D9/C9 -> 0.74766355 | I9: 7 | J9: Katie Williams | K9: 0.0083564815
A10: 8 | B10: Rob Sandles | C10: 0.0087037037 | D10: =VLOOKUP(DATEDIF(VLOOKUP(B10,Ages!A$1:D$164,4,FALSE),B$1,"y"),'MEN Age Grade'!A$2:M$101,13,FALSE) -> 0.0064930556 | E10: =C10/G$1 -> 0.0046296296 | F10: 93 | G10: =D10/C10 -> 0.74601064 | I10: 8 | J10: Mark Bamford | K10: 0.0084143519 | M10: 42 | N10: Age WR Tester
A11: 9 | B11: Fran Newman | C11: 0.010162037 | D11: =VLOOKUP(DATEDIF(VLOOKUP(B11,Ages!A$1:D$164,4,FALSE),B$1,"y"),'WOMEN Age Grade'!A$2:N$101,13,FALSE) -> 0.0075462963 | E11: =C11/G$1 -> 0.0054053388 | F11: 92 | G11: =D11/C11 -> 0.74259681 | I11: 9 | J11: Rob Sandles | K11: 0.0087037037 | M11: Factor | N11: WR Time | O11: Gender
A12: 10 | B12: Leighton Jones | C12: 0.011215278 | D12: =VLOOKUP(DATEDIF(VLOOKUP(B12,Ages!A$1:D$164,4,FALSE),B$1,"y"),'MEN Age Grade'!A$2:M$101,13,FALSE) -> 0.0081944444 | E12: =C12/G$1 -> 0.0059655733 | F12: 91 | G12: =D12/C12 -> 0.73065015 | I12: 10 | J12: Gavin Davies | K12: 0.0087615741 | M12: Women | N12: =VLOOKUP(M10,'WOMEN Age Grade'!A$3:M$102,13,FALSE) -> 0.0063888889 | O12: Female
A13: 11 | B13: Mark Bamford | C13: 0.0084143519 | D13: =VLOOKUP(DATEDIF(VLOOKUP(B13,Ages!A$1:D$164,4,FALSE),B$1,"y"),'MEN Age Grade'!A$2:M$101,13,FALSE) -> 0.006087963 | E13: =C13/G$1 -> 0.0044757191 | F13: 90 | G13: =D13/C13 -> 0.72352132 | I13: 11 | J13: Sean Morgans | K13: 0.0089467593 | M13: Men | N13: =VLOOKUP(M10,'MEN Age Grade'!A$3:M$102,13,FALSE) -> 0.0055671296 | O13: Male
A14: 12 | B14: Diane Ridgeway | C14: 0.010011574 | D14: =VLOOKUP(DATEDIF(VLOOKUP(B14,Ages!A$1:D$164,4,FALSE),B$1,"y"),'WOMEN Age Grade'!A$2:N$101,13,FALSE) -> 0.0072222222 | E14: =C14/G$1 -> 0.0053253054 | F14: 89 | G14: =D14/C14 -> 0.72138728 | I14: 12 | J14: Stuart Davies | K14: 0.0091782407
A15: 13 | B15: Caroline Sandles | C15: 0.010127315 | D15: =VLOOKUP(DATEDIF(VLOOKUP(B15,Ages!A$1:D$164,4,FALSE),B$1,"y"),'WOMEN Age Grade'!A$2:N$101,13,FALSE) -> 0.0072222222 | E15: =C15/G$1 -> 0.0053868696 | F15: 88 | G15: =D15/C15 -> 0.71314286 | I15: 13 | J15: Chris Snary | K15: 0.0092708333 | M15: Over 100% = World record level
A16: 14 | B16: Peter Clement | C16: 0.0092824074 | D16: =VLOOKUP(DATEDIF(VLOOKUP(B16,Ages!A$1:D$164,4,FALSE),B$1,"y"),'MEN Age Grade'!A$2:M$101,13,FALSE) -> 0.0065625 | E16: =C16/G$1 -> 0.0049374507 | F16: 87 | G16: =D16/C16 -> 0.70698254 | I16: 14 | J16: Peter Clement | K16: 0.0092824074 | M16: Over 90% = World Class
A17: 15 | B17: Sean Morgans | C17: 0.0089467593 | D17: =VLOOKUP(DATEDIF(VLOOKUP(B17,Ages!A$1:D$164,4,FALSE),B$1,"y"),'MEN Age Grade'!A$2:M$101,13,FALSE) -> 0.00625 | E17: =C17/G$1 -> 0.0047589145 | F17: 86 | G17: =D17/C17 -> 0.69857697 | I17: 15 | J17: Hans Thompson | K17: 0.0093634259 | M17: Over 80% = National Class
A18: 16 | B18: Michelle Grey | C18: 0.0094791667 | D18: =VLOOKUP(DATEDIF(VLOOKUP(B18,Ages!A$1:D$164,4,FALSE),B$1,"y"),'WOMEN Age Grade'!A$2:N$101,13,FALSE) -> 0.0066203704 | E18: =C18/G$1 -> 0.0050421099 | F18: 85 | G18: =D18/C18 -> 0.6984127 | I18: 16 | J18: Laura Gilbert | K18: 0.0093981481 | M18: Over 70% = County Class
A19: 17 | B19: Julie Archer | C19: 0.010289352 | D19: =VLOOKUP(DATEDIF(VLOOKUP(B19,Ages!A$1:D$164,4,FALSE),B$1,"y"),'WOMEN Age Grade'!A$2:N$101,13,FALSE) -> 0.0071759259 | E19: =C19/G$1 -> 0.0054730595 | F19: 84 | G19: =D19/C19 -> 0.69741282 | I19: 17 | J19: Michelle Grey | K19: 0.0094791667 | M19: Over 60% = local Class
A20: 18 | B20: Aron Jones | C20: 0.0080324074 | D20: =VLOOKUP(DATEDIF(VLOOKUP(B20,Ages!A$1:D$164,4,FALSE),B$1,"y"),'MEN Age Grade'!A$2:M$101,13,FALSE) -> 0.005462963 | E20: =C20/G$1 -> 0.0042725571 | F20: 83 | G20: =D20/C20 -> 0.68011527 | I20: 18 | J20: Sam Grunhut | K20: 0.0095601852
A21: 19 | B21: Cris Arnold | C21: 0.0096643519 | D21: =VLOOKUP(DATEDIF(VLOOKUP(B21,Ages!A$1:D$164,4,FALSE),B$1,"y"),'MEN Age Grade'!A$2:M$101,13,FALSE) -> 0.0065625 | E21: =C21/G$1 -> 0.0051406127 | F21: 82 | G21: =D21/C21 -> 0.67904192 | I21: 19 | J21: Cris Arnold | K21: 0.0096643519
A22: 20 | B22: Sharon Trotman | C22: 0.01056713 | D22: =VLOOKUP(DATEDIF(VLOOKUP(B22,Ages!A$1:D$164,4,FALSE),B$1,"y"),'WOMEN Age Grade'!A$2:N$101,13,FALSE) -> 0.0071064815 | E22: =C22/G$1 -> 0.0056208136 | F22: 81 | G22: =D22/C22 -> 0.67250821 | I22: 20 | J22: Emily Thomas | K22: 0.0098726852
A23: 21 | B23: Michelle Thomas-Luisi | C23: 0.010821759 | D23: =VLOOKUP(DATEDIF(VLOOKUP(B23,Ages!A$1:D$164,4,FALSE),B$1,"y"),'WOMEN Age Grade'!A$2:N$101,13,FALSE) -> 0.0072222222 | E23: =C23/G$1 -> 0.0057562549 | F23: 80 | G23: =D23/C23 -> 0.66737968 | I23: 21 | J23: Francis Heron | K23: 0.0099074074
A24: 22 | B24: Laura Gilbert | C24: 0.0093981481 | D24: =VLOOKUP(DATEDIF(VLOOKUP(B24,Ages!A$1:D$164,4,FALSE),B$1,"y"),'WOMEN Age Grade'!A$2:N$101,13,FALSE) -> 0.0061805556 | E24: =C24/G$1 -> 0.004999015 | F24: 79 | G24: =D24/C24 -> 0.65763547 | I24: 22 | J24: Clare Baxter | K24: 0.0099537037
A25: 23 | B25: Justin Sperrin | C25: 0.0079282407 | D25: =VLOOKUP(DATEDIF(VLOOKUP(B25,Ages!A$1:D$164,4,FALSE),B$1,"y"),'MEN Age Grade'!A$2:M$101,13,FALSE) -> 0.0051967593 | E25: =C25/G$1 -> 0.0042171493 | F25: 78 | G25: =D25/C25 -> 0.65547445 | I25: 23 | J25: Diane Ridgeway | K25: 0.010011574
A26: 24 | B26: David Doherty | C26: 0.011435185 | D26: =VLOOKUP(DATEDIF(VLOOKUP(B26,Ages!A$1:D$164,4,FALSE),B$1,"y"),'MEN Age Grade'!A$2:M$101,13,FALSE) -> 0.0074074074 | E26: =C26/G$1 -> 0.0060825453 | F26: 77 | G26: =D26/C26 -> 0.64777328 | I26: 24 | J26: Caroline Sandles | K26: 0.010127315
A27: 25 | B27: Clare Baxter | C27: 0.0099537037 | D27: =VLOOKUP(DATEDIF(VLOOKUP(B27,Ages!A$1:D$164,4,FALSE),B$1,"y"),'WOMEN Age Grade'!A$2:N$101,13,FALSE) -> 0.0064467593 | E27: =C27/G$1 -> 0.0052945232 | F27: 76 | G27: =D27/C27 -> 0.64767442 | I27: 25 | J27: Fran Newman | K27: 0.010162037
A28: 26 | B28: Stuart Davies | C28: 0.0091782407 | D28: =VLOOKUP(DATEDIF(VLOOKUP(B28,Ages!A$1:D$164,4,FALSE),B$1,"y"),'MEN Age Grade'!A$2:M$101,13,FALSE) -> 0.0059027778 | E28: =C28/G$1 -> 0.0048820429 | F28: 75 | G28: =D28/C28 -> 0.64312736 | I28: 26 | J28: Ed Davies | K28: 0.010219907
A29: 27 | B29: Ed Davies | C29: 0.010219907 | D29: =VLOOKUP(DATEDIF(VLOOKUP(B29,Ages!A$1:D$164,4,FALSE),B$1,"y"),'MEN Age Grade'!A$2:M$101,13,FALSE) -> 0.0065625 | E29: =C29/G$1 -> 0.005436121 | F29: 74 | G29: =D29/C29 -> 0.64212911 | I29: 27 | J29: Julie Archer | K29: 0.010289352
A30: 28 | B30: Louise Steer | C30: 0.010335648 | D30: =VLOOKUP(DATEDIF(VLOOKUP(B30,Ages!A$1:D$164,4,FALSE),B$1,"y"),'WOMEN Age Grade'!A$2:N$101,13,FALSE) -> 0.0066203704 | E30: =C30/G$1 -> 0.0054976852 | F30: 73 | G30: =D30/C30 -> 0.64053751 | I30: 28 | J30: Louise Steer | K30: 0.010335648
A31: 29 | B31: Steve McLelland | C31: 0.011574074 | D31: =VLOOKUP(DATEDIF(VLOOKUP(B31,Ages!A$1:D$164,4,FALSE),B$1,"y"),'MEN Age Grade'!A$2:M$101,13,FALSE) -> 0.0074074074 | E31: =C31/G$1 -> 0.0061564224 | F31: 72 | G31: =D31/C31 -> 0.64 | I31: 29 | J31: Jia Ping Lee | K31: 0.010347222
A32: 30 | B32: Dan Evans | C32: 0.0083101852 | D32: =VLOOKUP(DATEDIF(VLOOKUP(B32,Ages!A$1:D$164,4,FALSE),B$1,"y"),'MEN Age Grade'!A$2:M$101,13,FALSE) -> 0.0052199074 | E32: =C32/G$1 -> 0.0044203113 | F32: 71 | G32: =D32/C32 -> 0.6281337 | I32: 30 | J32: Jenny Stanford | K32: 0.010358796
A33: 31 | B33: Jenny Stanford | C33: 0.010358796 | D33: =VLOOKUP(DATEDIF(VLOOKUP(B33,Ages!A$1:D$164,4,FALSE),B$1,"y"),'WOMEN Age Grade'!A$2:N$101,13,FALSE) -> 0.0064351852 | E33: =C33/G$1 -> 0.005509998 | F33: 70 | G33: =D33/C33 -> 0.62122905 | I33: 31 | J33: Sharon Trotman | K33: 0.01056713
A34: 32 | B34: Sandra Rees | C34: 0.012476852 | D34: =VLOOKUP(DATEDIF(VLOOKUP(B34,Ages!A$1:D$164,4,FALSE),B$1,"y"),'WOMEN Age Grade'!A$2:N$101,13,FALSE) -> 0.0076851852 | E34: =C34/G$1 -> 0.0066366233 | F34: 69 | G34: =D34/C34 -> 0.61595547 | I34: 32 | J34: Michelle Thomas-Luisi | K34: 0.010821759
A35: 33 | B35: Eiri Evans-Jones | C35: 0.010949074 | D35: =VLOOKUP(DATEDIF(VLOOKUP(B35,Ages!A$1:D$164,4,FALSE),B$1,"y"),'WOMEN Age Grade'!A$2:N$101,13,FALSE) -> 0.0067013889 | E35: =C35/G$1 -> 0.0058239756 | F35: 68 | G35: =D35/C35 -> 0.61205074 | I35: 33 | J35: Eiri Evans-Jones | K35: 0.010949074
A36: 34 | B36: Caroline Morgan | C36: 0.01162037 | D36: =VLOOKUP(DATEDIF(VLOOKUP(B36,Ages!A$1:D$164,4,FALSE),B$1,"y"),'WOMEN Age Grade'!A$2:N$101,13,FALSE) -> 0.007037037 | E36: =C36/G$1 -> 0.0061810481 | F36: 67 | G36: =D36/C36 -> 0.60557769 | I36: 34 | J36: Leighton Jones | K36: 0.011215278
A37: 35 | B37: Kelly Bamford | C37: 0.011238426 | D37: =VLOOKUP(DATEDIF(VLOOKUP(B37,Ages!A$1:D$164,4,FALSE),B$1,"y"),'WOMEN Age Grade'!A$2:N$101,13,FALSE) -> 0.0067013889 | E37: =C37/G$1 -> 0.0059778861 | F37: 66 | G37: =D37/C37 -> 0.59629248 | I37: 35 | J37: Kelly Bamford | K37: 0.011238426
A38: 36 | B38: Laura Hall | C38: 0.013020833 | D38: =VLOOKUP(DATEDIF(VLOOKUP(B38,Ages!A$1:D$164,4,FALSE),B$1,"y"),'WOMEN Age Grade'!A$2:N$101,13,FALSE) -> 0.0076851852 | E38: =C38/G$1 -> 0.0069259752 | F38: 65 | G38: =D38/C38 -> 0.59022222 | I38: 36 | J38: David Doherty | K38: 0.011435185
A39: 37 | B39: Debbie Gibbs | C39: 0.011631944 | D39: =VLOOKUP(DATEDIF(VLOOKUP(B39,Ages!A$1:D$164,4,FALSE),B$1,"y"),'WOMEN Age Grade'!A$2:N$101,13,FALSE) -> 0.0067592593 | E39: =C39/G$1 -> 0.0061872045 | F39: 64 | G39: =D39/C39 -> 0.58109453 | I39: 37 | J39: Victoria Holmes | K39: 0.01150463
A40: 38 | B40: Saran Lewis | C40: 0.011724537 | D40: =VLOOKUP(DATEDIF(VLOOKUP(B40,Ages!A$1:D$164,4,FALSE),B$1,"y"),'WOMEN Age Grade'!A$2:N$101,13,FALSE) -> 0.0067939815 | E40: =C40/G$1 -> 0.0062364559 | F40: 63 | G40: =D40/C40 -> 0.57946693 | I40: 38 | J40: Steve McLelland | K40: 0.011574074
...

Sheet Race 5
B1: 45925 | C1: Gorseinon Cycle track | G1: 1.875 | H1: mile | J1: 4mile results in Row 16 of Age Grade Listing 'men' / 'women'
A2: Pos | B2: AGE GRADE Order | C2: Time | D2: Age WR | E2: Min/Mi | F2: Pts | G2: Age Grade % | I2: Pos | J2: ACTUAL Race Order | K2: Time
A3: 1 | C3: 0.010486111 | D3: =N$3/HLOOKUP(DATEDIF(VLOOKUP(B3,Ages!A$1:D$161,4,FALSE),B$1,"y"),#REF!,16,FALSE) -> #REF! | E3: =C3/G$1 -> 0.0055925926 | F3: 100 | G3: =(D3/C3) -> #REF! | I3: 1 | J3: Chris Pridmore | K3: 0.0073148148 | M3: Women | N3: =(HLOOKUP("OC",#REF!,16,FALSE))/86400 -> #REF!
A4: 2 | C4: 0.0099652778 | D4: =N$3/HLOOKUP(DATEDIF(VLOOKUP(B4,Ages!A$1:D$161,4,FALSE),B$1,"y"),#REF!,16,FALSE) -> #REF! | E4: =C4/G$1 -> 0.0053148148 | F4: 99 | G4: =(D4/C4) -> #REF! | I4: 2 | J4: Justin Sperrin | K4: 0.007962963 | M4: Men | N4: =(HLOOKUP("OC",#REF!,16,FALSE))/86400 -> #REF!
A5: 3 | C5: 0.010636574 | D5: =N$3/HLOOKUP(DATEDIF(VLOOKUP(B5,Ages!A$1:D$161,4,FALSE),B$1,"y"),#REF!,16,FALSE) -> #REF! | E5: =C5/G$1 -> 0.0056728395 | F5: 98 | G5: =(D5/C5) -> #REF! | I5: 3 | J5: Aron Jones | K5: 0.0080208333
A6: 4 | C6: 0.008287037 | D6: =N$3/HLOOKUP(DATEDIF(VLOOKUP(B6,Ages!A$1:D$164,4,FALSE),B$1,"y"),#REF!,16,FALSE) -> #REF! | E6: =C6/G$1 -> 0.0044197531 | F6: 97 | G6: =(D6/C6) -> #REF! | I6: 4 | J6: Paul Jenkins | K6: 0.0080671296 | M6: Interesting Fact
A7: 5 | C7: 0.0083333333 | D7: =N$4/HLOOKUP(DATEDIF(VLOOKUP(B7,Ages!A$1:D$161,4,FALSE),B$1,"y"),#REF!,16,FALSE) -> #REF! | E7: =C7/G$1 -> 0.0044444444 | F7: 96 | G7: =(D7/C7) -> #REF! | I7: 5 | J7: Katie Williams | K7: 0.008287037 | M7: World record for running a mile backwards is 05:54
A8: 6 | C8: 0.0098842593 | D8: =N$3/HLOOKUP(DATEDIF(VLOOKUP(B8,Ages!A$1:D$161,4,FALSE),B$1,"y"),#REF!,16,FALSE) -> #REF! | E8: =C8/G$1 -> 0.0052716049 | F8: 95 | G8: =(D8/C8) -> #REF! | I8: 6 | J8: Gavin Davies | K8: 0.0083333333
A9: 7 | C9: 0.010034722 | D9: =N$3/HLOOKUP(DATEDIF(VLOOKUP(B9,Ages!A$1:D$161,4,FALSE),B$1,"y"),#REF!,16,FALSE) -> #REF! | E9: =C9/G$1 -> 0.0053518519 | F9: 94 | G9: =(D9/C9) -> #REF! | I9: 7 | J9: Chris Snary | K9: 0.0085069444
A10: 8 | C10: 0.0073148148 | D10: =N$4/HLOOKUP(DATEDIF(VLOOKUP(B10,Ages!A$1:D$161,4,FALSE),B$1,"y"),#REF!,16,FALSE) -> #REF! | E10: =C10/G$1 -> 0.0039012346 | F10: 93 | G10: =(D10/C10) -> #REF! | I10: 8 | J10: James Bennett | K10: 0.0085763889 | M10: 58 | N10: Age WR Tester
A11: 9 | C11: 0.010416667 | D11: =N$3/HLOOKUP(DATEDIF(VLOOKUP(B11,Ages!A$1:D$161,4,FALSE),B$1,"y"),#REF!,16,FALSE) -> #REF! | E11: =C11/G$1 -> 0.0055555556 | F11: 92 | G11: =(D11/C11) -> #REF! | I11: 9 | J11: Sean Morgans | K11: 0.0086805556 | M11: Factor | N11: WR Time | O11: Gender
A12: 10 | C12: 0.011018519 | D12: =N$4/HLOOKUP(DATEDIF(VLOOKUP(B12,Ages!A$1:D$161,4,FALSE),B$1,"y"),#REF!,16,FALSE) -> #REF! | E12: =C12/G$1 -> 0.0058765432 | F12: 91 | G12: =(D12/C12) -> #REF! | I12: 10 | J12: Stuart Davies | K12: 0.0087615741 | M12: =HLOOKUP(M10,#REF!,16,FALSE) -> #REF! | N12: =N3/M12 -> #REF! | O12: Female
A13: 11 | C13: 0.0080671296 | D13: =N$4/HLOOKUP(DATEDIF(VLOOKUP(B13,Ages!A$1:D$161,4,FALSE),B$1,"y"),#REF!,16,FALSE) -> #REF! | E13: =C13/G$1 -> 0.0043024691 | F13: 90 | G13: =(D13/C13) -> #REF! | I13: 11 | J13: Sam Grunhut | K13: 00:13:21 | M13: =HLOOKUP(M10,#REF!,16,FALSE) -> #REF! | N13: =N4/M13 -> #REF! | O13: Male
A14: 12 | C14: 0.0086805556 | D14: =N$4/HLOOKUP(DATEDIF(VLOOKUP(B14,Ages!A$1:D$161,4,FALSE),B$1,"y"),#REF!,16,FALSE) -> #REF! | E14: =C14/G$1 -> 0.0046296296 | F14: 89 | G14: =(D14/C14) -> #REF! | I14: 12 | J14: Laura Gilbert | K14: 0.0093634259
A15: 13 | C15: 0.011041667 | D15: =N$3/HLOOKUP(DATEDIF(VLOOKUP(B15,Ages!A$1:D$161,4,FALSE),B$1,"y"),#REF!,16,FALSE) -> #REF! | E15: =C15/G$1 -> 0.0058888889 | F15: 88 | G15: =(D15/C15) -> #REF! | I15: 13 | J15: Peter Clement | K15: 0.0095023148 | M15: Over 100% = World record level
A16: 14 | C16: 0.010763889 | D16: =N$3/HLOOKUP(DATEDIF(VLOOKUP(B16,Ages!A$1:D$161,4,FALSE),B$1,"y"),#REF!,16,FALSE) -> #REF! | E16: =C16/G$1 -> 0.0057407407 | F16: 87 | G16: =(D16/C16) -> #REF! | I16: 14 | J16: Andy Rees | K16: 0.0098263889 | M16: Over 90% = World Class
A17: 15 | C17: 0.0098263889 | D17: =N$4/HLOOKUP(DATEDIF(VLOOKUP(B17,Ages!A$1:D$161,4,FALSE),B$1,"y"),#REF!,16,FALSE) -> #REF! | E17: =C17/G$1 -> 0.0052407407 | F17: 86 | G17: =(D17/C17) -> #REF! | I17: 15 | J17: Diane Ridgeway | K17: 0.0098842593 | M17: Over 80% = National Class
A18: 16 | C18: 0.0080208333 | D18: =N$4/HLOOKUP(DATEDIF(VLOOKUP(B18,Ages!A$1:D$161,4,FALSE),B$1,"y"),#REF!,16,FALSE) -> #REF! | E18: =C18/G$1 -> 0.0042777778 | F18: 85 | G18: =(D18/C18) -> #REF! | I18: 16 | J18: Michelle Grey | K18: 0.0099537037 | M18: Over 70% = County Class
A19: 17 | C19: 0.0095023148 | D19: =N$4/HLOOKUP(DATEDIF(VLOOKUP(B19,Ages!A$1:D$161,4,FALSE),B$1,"y"),#REF!,16,FALSE) -> #REF! | E19: =C19/G$1 -> 0.0050679012 | F19: 84 | G19: =(D19/C19) -> #REF! | I19: 17 | J19: Sarah Barham | K19: 0.0099652778 | M19: Over 60% = local Class
A20: 18 | C20: 0.011076389 | D20: =N$3/HLOOKUP(DATEDIF(VLOOKUP(B20,Ages!A$1:D$161,4,FALSE),B$1,"y"),#REF!,16,FALSE) -> #REF! | E20: =C20/G$1 -> 0.0059074074 | F20: 83 | G20: =(D20/C20) -> #REF! | I20: 18 | J20: Julie Archer | K20: 0.010034722
A21: 19 | C21: 0.007962963 | D21: =N$4/HLOOKUP(DATEDIF(VLOOKUP(B21,Ages!A$1:D$161,4,FALSE),B$1,"y"),#REF!,16,FALSE) -> #REF! | E21: =C21/G$1 -> 0.0042469136 | F21: 82 | G21: =(D21/C21) -> #REF! | I21: 19 | J21: Ed Davies | K21: 0.010127315
A22: 20 | C22: 0.0087615741 | D22: =N$4/HLOOKUP(DATEDIF(VLOOKUP(B22,Ages!A$1:D$161,4,FALSE),B$1,"y"),#REF!,16,FALSE) -> #REF! | E22: =C22/G$1 -> 0.0046728395 | F22: 81 | G22: =(D22/C22) -> #REF! | I22: 20 | J22: Jenny Stanford | K22: 0.010243056
A23: 21 | C23: 0.010914352 | D23: =N$4/HLOOKUP(DATEDIF(VLOOKUP(B23,Ages!A$1:D$161,4,FALSE),B$1,"y"),#REF!,16,FALSE) -> #REF! | E23: =C23/G$1 -> 0.0058209877 | F23: 80 | G23: =(D23/C23) -> #REF! | I23: 21 | J23: Caroline Sandles | K23: 0.010416667
A24: 22 | C24: 0.0099537037 | D24: =N$3/HLOOKUP(DATEDIF(VLOOKUP(B24,Ages!A$1:D$161,4,FALSE),B$1,"y"),#REF!,16,FALSE) -> #REF! | E24: =C24/G$1 -> 0.005308642 | F24: 79 | G24: =(D24/C24) -> #REF! | I24: 22 | J24: Ruth Salmon | K24: 0.010462963
A25: 23 | C25: 0.0085069444 | D25: =N$4/HLOOKUP(DATEDIF(VLOOKUP(B25,Ages!A$1:D$161,4,FALSE),B$1,"y"),#REF!,16,FALSE) -> #REF! | E25: =C25/G$1 -> 0.004537037 | F25: 78 | G25: =(D25/C25) -> #REF! | I25: 23 | J25: Vicky Davies | K25: 0.010474537
A26: 24 | C26: 0.0093634259 | D26: =N$3/HLOOKUP(DATEDIF(VLOOKUP(B26,Ages!A$1:D$161,4,FALSE),B$1,"y"),#REF!,16,FALSE) -> #REF! | E26: =C26/G$1 -> 0.0049938272 | F26: 77 | G26: =(D26/C26) -> #REF! | I26: 24 | J26: Bev Jones | K26: 0.010486111
A27: 25 | C27: 0.012789352 | D27: =N$3/HLOOKUP(DATEDIF(VLOOKUP(B27,Ages!A$1:D$161,4,FALSE),B$1,"y"),#REF!,16,FALSE) -> #REF! | E27: =C27/G$1 -> 0.0068209877 | F27: 76 | G27: =(D27/C27) -> #REF! | I27: 25 | J27: Mike Prasad | K27: 0.010543981
A28: 26 | C28: 0.011527778 | D28: =N$4/HLOOKUP(DATEDIF(VLOOKUP(B28,Ages!A$1:D$161,4,FALSE),B$1,"y"),#REF!,16,FALSE) -> #REF! | E28: =C28/G$1 -> 0.0061481481 | F28: 75 | G28: =(D28/C28) -> #REF! | I28: 26 | J28: Christina Smith | K28: 0.010636574
A29: 27 | C29: 0.011238426 | D29: =N$4/HLOOKUP(DATEDIF(VLOOKUP(B29,Ages!A$1:D$161,4,FALSE),B$1,"y"),#REF!,16,FALSE) -> #REF! | E29: =C29/G$1 -> 0.0059938272 | F29: 74 | G29: =(D29/C29) -> #REF! | I29: 27 | J29: Sharon Trotman | K29: 0.010763889
A30: 28 | C30: 0.010127315 | D30: =N$4/HLOOKUP(DATEDIF(VLOOKUP(B30,Ages!A$1:D$161,4,FALSE),B$1,"y"),#REF!,16,FALSE) -> #REF! | E30: =C30/G$1 -> 0.0054012346 | F30: 73 | G30: =(D30/C30) -> #REF! | I30: 28 | J30: Steve McLelland | K30: 0.010914352
A31: 29 | C31: 0.010462963 | D31: =N$3/HLOOKUP(DATEDIF(VLOOKUP(B31,Ages!A$1:D$161,4,FALSE),B$1,"y"),#REF!,16,FALSE) -> #REF! | E31: =C31/G$1 -> 0.0055802469 | F31: 72 | G31: =(D31/C31) -> #REF! | I31: 29 | J31: Eiri Evans-Jones | K31: 0.010925926
A32: 30 | C32: 0.010243056 | D32: =N$3/HLOOKUP(DATEDIF(VLOOKUP(B32,Ages!A$1:D$161,4,FALSE),B$1,"y"),#REF!,16,FALSE) -> #REF! | E32: =C32/G$1 -> 0.005462963 | F32: 71 | G32: =(D32/C32) -> #REF! | I32: 30 | J32: Leighton Jones | K32: 0.011018519
A33: 31 | C33: 0.0085763889 | D33: =N$4/HLOOKUP(DATEDIF(VLOOKUP(B33,Ages!A$1:D$161,4,FALSE),B$1,"y"),#REF!,16,FALSE) -> #REF! | E33: =C33/G$1 -> 0.0045740741 | F33: 70 | G33: =(D33/C33) -> #REF! | I33: 31 | J33: Michelle Thomas-Luisi | K33: 0.011041667
A34: 32 | C34: 0.010925926 | D34: =N$3/HLOOKUP(DATEDIF(VLOOKUP(B34,Ages!A$1:D$161,4,FALSE),B$1,"y"),#REF!,16,FALSE) -> #REF! | E34: =C34/G$1 -> 0.0058271605 | F34: 69 | G34: =(D34/C34) -> #REF! | I34: 32 | J34: Caroline Morgan | K34: 0.011076389
A35: 33 | C35: 0.010543981 | D35: =N$4/HLOOKUP(DATEDIF(VLOOKUP(B35,Ages!A$1:D$161,4,FALSE),B$1,"y"),#REF!,16,FALSE) -> #REF! | E35: =C35/G$1 -> 0.0056234568 | F35: 68 | G35: =(D35/C35) -> #REF! | I35: 33 | J35: David Doherty | K35: 0.011238426
A36: 34 | C36: 0.011273148 | D36: =N$3/HLOOKUP(DATEDIF(VLOOKUP(B36,Ages!A$1:D$161,4,FALSE),B$1,"y"),#REF!,16,FALSE) -> #REF! | E36: =C36/G$1 -> 0.0060123457 | F36: 67 | G36: =(D36/C36) -> #REF! | I36: 34 | J36: Debbie Gibbs | K36: 0.011273148
A37: 35 | C37: 0.011574074 | D37: =N$3/HLOOKUP(DATEDIF(VLOOKUP(B37,Ages!A$1:D$161,4,FALSE),B$1,"y"),#REF!,16,FALSE) -> #REF! | E37: =C37/G$1 -> 0.0061728395 | F37: 66 | G37: =(D37/C37) -> #REF! | I37: 35 | J37: Jody Ralph | K37: 0.01130787
A38: 36 | C38: 0.01181713 | D38: =N$3/HLOOKUP(DATEDIF(VLOOKUP(B38,Ages!A$1:D$161,4,FALSE),B$1,"y"),#REF!,16,FALSE) -> #REF! | E38: =C38/G$1 -> 0.0063024691 | F38: 65 | G38: =(D38/C38) -> #REF! | I38: 36 | J38: Jia Ping Lee | K38: 0.011342593
A39: 37 | C39: 0.010474537 | D39: =N$3/HLOOKUP(DATEDIF(VLOOKUP(B39,Ages!A$1:D$161,4,FALSE),B$1,"y"),#REF!,16,FALSE) -> #REF! | E39: =C39/G$1 -> 0.0055864198 | F39: 64 | G39: =(D39/C39) -> #REF! | I39: 37 | J39: Meaghan Jenkins | K39: 0.011354167
A40: 38 | C40: 0.011585648 | D40: =N$4/HLOOKUP(DATEDIF(VLOOKUP(B40,Ages!A$1:D$161,4,FALSE),B$1,"y"),#REF!,16,FALSE) -> #REF! | E40: =C40/G$1 -> 0.0061790123 | F40: 63 | G40: =(D40/C40) -> #REF! | I40: 38 | J40: Terry Jones | K40: 0.011527778
...

Sheet Race 6
B1: 45987 | G1: 1 | H1: mile | J1: 1mile results in Row 14 of Age Grade Listing 'men' / 'women'
A2: Pos | B2: AGE GRADE Order | C2: Time | D2: Age WR | E2: Min/Mi | F2: Pts | G2: Age Grade % | I2: Pos | J2: ACTUAL Race Order | K2: Time
