Workbook
Name Event: #REF!
Name mile: [1]Men!$D$14
Name mile: [1]Men!$D$14
Name mile: [1]Men!$D$14
Name mile: #REF!
Name World_Standard_Times: [2]DropDownLists!$H$2:$H$13

Sheet RULES
A1: The GP for 2025-2026 season has had a facelift
A2: It was noted that divisions were getting large, and only 20% of the numbers in each division could realistically compete for a top 3 place.
A3: We have reduced numbers in each division and increased divisions to 10.Thus giving more people a chance to push for a top 3 place
A5: Runners have been grouped, based on average points scored from the past 10 GP’s, therefor:-
A6: Group | B6: Avg Points
A7: 1 | B7: 96-100
A8: 2 | B8: 92-95
A9: 3 | B9: 89-91
A10: 4 | B10: 85-88
A11: 5 | B11: 80-84
A12: 6 | B12: 75-79
A13: 7 | B13: 70-74
A14: 8 | B14: 65-69
A15: 9 | B15: 60-64
A16: 10 | B16: < 60
A17: These were based on the first fixture of this season and the 2nd – 10th fixtures of last season.
A18: Some people’s avg points will have been affected because of things like injury, low turn out in GP, following training plans etc.
A19: Some have been placed in divisions where we think they will thrive, even though their avg is different to the division they are in.
A21: Please let me know if you think you are in the wrong division and I’ll do my best to explain or accommodate you.
A23: For every race we will also have a spot prize. This will be given to the Xth placed person in the race.
A24: The number will be drawn/generated once the race has started or numbers in the race are know to the officials.
A26: Below are race rules regarding the Grand Prix
A27: · Best 5 out of 8 races count
A28: · Only the top 3 in each division win a prize
A29: · You must complete at least 4 out of 8 races to qualify for a top 3 prize.
A30: · All runners are responsible for checking their own results and informing the author before the next race.
A31: · You have to be a paid up member to score any points.
... A34: o If 1. above equal then a joint trophy

Sheet Race 1
A1: 01/07/2026 Ynystawe | G1: 3.1 | H1: Mile | I1: 46204
A2: Pos | B2: Group Order | C2: Time | D2: Points | E2: Div | G2: Pos | H2: Name | I2: Time | J2: Points | K2: Min per Mile | L2: Cat | M2: Standard | O2: Pos | P2: Ladies Only | Q2: Time
A3: 1 | B3: Gareth Parry | C3: =VLOOKUP($B3,$H$2:$J$46,2,FALSE) -> 0.013541667 | D3: =VLOOKUP($B3,$H$2:$J$46,3,FALSE) -> 100 | E3: 1 | G3: 1 | H3: Gareth Parry | I3: 0.013541667 | J3: 100 | K3: =I3/G$1 -> 0.0043682796 | L3: =VLOOKUP(H3,Ages!A$1:J$166,10,FALSE) -> 45-49 | M3: =IF(I3<=VLOOKUP(L3,'Standards Male'!E$49:J$60,2,FALSE),'Standards Male'!F$48,IF(I3<=VLOOKUP(L3,'Standards Male'!E$49:J$60,3,FALSE),'Standards Male'!G$48,IF(I3<=VLOOKUP(L3,'Standards Male'!E$49:J$60,4,FALSE),'Standards Male'!H$48,IF(I3<=VLOOKUP(L3,'Standards Male'!E$49:J$60,5,FALSE),'Standards Male'!I$48,IF(I3<=VLOOKUP(L3,'Standards Male'!E$49:J$60,6,FALSE),'Standards Male'!J$48,'Standards Male'!J$48))))) -> Gold | O3: 1 | P3: Megan Chick | Q3: 00:21:28
A4: 2 | B4: Justin Sperrin | C4: =VLOOKUP($B4,$H$2:$J$46,2,FALSE) -> 0.014178241 | D4: =VLOOKUP($B4,$H$2:$J$46,3,FALSE) -> 99 | E4: 1 | G4: 2 | H4: Justin Sperrin | I4: 0.014178241 | J4: 99 | K4: =I4/G$1 -> 0.004573626 | L4: =VLOOKUP(H4,Ages!A$1:J$166,10,FALSE) -> 0-34 | M4: =IF(I4<=VLOOKUP(L4,'Standards Male'!E$49:J$60,2,FALSE),'Standards Male'!F$48,IF(I4<=VLOOKUP(L4,'Standards Male'!E$49:J$60,3,FALSE),'Standards Male'!G$48,IF(I4<=VLOOKUP(L4,'Standards Male'!E$49:J$60,4,FALSE),'Standards Male'!H$48,IF(I4<=VLOOKUP(L4,'Standards Male'!E$49:J$60,5,FALSE),'Standards Male'!I$48,IF(I4<=VLOOKUP(L4,'Standards Male'!E$49:J$60,6,FALSE),'Standards Male'!J$48,'Standards Male'!J$48))))) -> Bronze | O4: 2 | P4: Michelle Grey | Q4: 00:23:57
A5: 3 | B5: Lee Morris | C5: =VLOOKUP($B5,$H$2:$J$46,2,FALSE) -> 0.014166667 | D5: =VLOOKUP($B5,$H$2:$J$46,3,FALSE) -> 98 | E5: 1 | G5: 3 | H5: Lee Morris | I5: 0.014166667 | J5: 98 | K5: =I5/G$1 -> 0.0045698925 | L5: =VLOOKUP(H5,Ages!A$1:J$166,10,FALSE) -> 40-44 | M5: =IF(I5<=VLOOKUP(L5,'Standards Male'!E$49:J$60,2,FALSE),'Standards Male'!F$48,IF(I5<=VLOOKUP(L5,'Standards Male'!E$49:J$60,3,FALSE),'Standards Male'!G$48,IF(I5<=VLOOKUP(L5,'Standards Male'!E$49:J$60,4,FALSE),'Standards Male'!H$48,IF(I5<=VLOOKUP(L5,'Standards Male'!E$49:J$60,5,FALSE),'Standards Male'!I$48,IF(I5<=VLOOKUP(L5,'Standards Male'!E$49:J$60,6,FALSE),'Standards Male'!J$48,'Standards Male'!J$48))))) -> Silver | O5: 3 | P5: Laura Gilbert | Q5: 00:24:10
A6: 4 | B6: Paul Jenkins | C6: =VLOOKUP($B6,$H$2:$J$46,2,FALSE) -> 0.014421296 | D6: =VLOOKUP($B6,$H$2:$J$46,3,FALSE) -> 97 | E6: 1 | G6: 4 | H6: Paul Jenkins | I6: 0.014421296 | J6: 97 | K6: =I6/G$1 -> 0.0046520311 | L6: =VLOOKUP(H6,Ages!A$1:J$166,10,FALSE) -> 45-49 | M6: =IF(I6<=VLOOKUP(L6,'Standards Male'!E$49:J$60,2,FALSE),'Standards Male'!F$48,IF(I6<=VLOOKUP(L6,'Standards Male'!E$49:J$60,3,FALSE),'Standards Male'!G$48,IF(I6<=VLOOKUP(L6,'Standards Male'!E$49:J$60,4,FALSE),'Standards Male'!H$48,IF(I6<=VLOOKUP(L6,'Standards Male'!E$49:J$60,5,FALSE),'Standards Male'!I$48,IF(I6<=VLOOKUP(L6,'Standards Male'!E$49:J$60,6,FALSE),'Standards Male'!J$48,'Standards Male'!J$48))))) -> Silver | O6: 4 | P6: Clare Baxter | Q6: 00:25:46
A7: 5 | B7: Aron Jones | C7: =VLOOKUP($B7,$H$2:$J$46,2,FALSE) -> 0.014594907 | D7: =VLOOKUP($B7,$H$2:$J$46,3,FALSE) -> 96 | E7: 1 | G7: 5 | H7: Aron Jones | I7: 0.014594907 | J7: 96 | K7: =I7/G$1 -> 0.0047080346 | L7: =VLOOKUP(H7,Ages!A$1:J$166,10,FALSE) -> 40-44 | M7: =IF(I7<=VLOOKUP(L7,'Standards Male'!E$49:J$60,2,FALSE),'Standards Male'!F$48,IF(I7<=VLOOKUP(L7,'Standards Male'!E$49:J$60,3,FALSE),'Standards Male'!G$48,IF(I7<=VLOOKUP(L7,'Standards Male'!E$49:J$60,4,FALSE),'Standards Male'!H$48,IF(I7<=VLOOKUP(L7,'Standards Male'!E$49:J$60,5,FALSE),'Standards Male'!I$48,IF(I7<=VLOOKUP(L7,'Standards Male'!E$49:J$60,6,FALSE),'Standards Male'!J$48,'Standards Male'!J$48))))) -> Bronze | O7: 5 | P7: Julie Archer | Q7: 00:26:00
A8: 6 | B8: Dan Evans | C8: =VLOOKUP($B8,$H$2:$J$46,2,FALSE) -> 0.014722222 | D8: =VLOOKUP($B8,$H$2:$J$46,3,FALSE) -> 95 | E8: 1 | G8: 6 | H8: Dan Evans | I8: 0.014722222 | J8: 95 | K8: =I8/G$1 -> 0.0047491039 | L8: =VLOOKUP(H8,Ages!A$1:J$166,10,FALSE) -> 35-39 | M8: =IF(I8<=VLOOKUP(L8,'Standards Male'!E$49:J$60,2,FALSE),'Standards Male'!F$48,IF(I8<=VLOOKUP(L8,'Standards Male'!E$49:J$60,3,FALSE),'Standards Male'!G$48,IF(I8<=VLOOKUP(L8,'Standards Male'!E$49:J$60,4,FALSE),'Standards Male'!H$48,IF(I8<=VLOOKUP(L8,'Standards Male'!E$49:J$60,5,FALSE),'Standards Male'!I$48,IF(I8<=VLOOKUP(L8,'Standards Male'!E$49:J$60,6,FALSE),'Standards Male'!J$48,'Standards Male'!J$48))))) -> Bronze | O8: 6 | P8: Diane Ridgeway | Q8: 00:26:30
A9: 1 | B9: Gavin Davies | C9: =VLOOKUP($B9,$H$2:$J$46,2,FALSE) -> 0.014768519 | D9: =VLOOKUP($B9,$H$2:$J$46,3,FALSE) -> 94 | E9: 2 | G9: 7 | H9: Gavin Davies | I9: 0.014768519 | J9: 94 | K9: =I9/G$1 -> 0.0047640382 | L9: =VLOOKUP(H9,Ages!A$1:J$166,10,FALSE) -> 60-64 | M9: =IF(I9<=VLOOKUP(L9,'Standards Male'!E$49:J$60,2,FALSE),'Standards Male'!F$48,IF(I9<=VLOOKUP(L9,'Standards Male'!E$49:J$60,3,FALSE),'Standards Male'!G$48,IF(I9<=VLOOKUP(L9,'Standards Male'!E$49:J$60,4,FALSE),'Standards Male'!H$48,IF(I9<=VLOOKUP(L9,'Standards Male'!E$49:J$60,5,FALSE),'Standards Male'!I$48,IF(I9<=VLOOKUP(L9,'Standards Male'!E$49:J$60,6,FALSE),'Standards Male'!J$48,'Standards Male'!J$48))))) -> Gold | O9: 7 | P9: Caroline Sandles | Q9: 00:26:55
A10: 2 | B10: Megan Chick | C10: =VLOOKUP($B10,$H$2:$J$46,2,FALSE) -> 0.014907407 | D10: =VLOOKUP($B10,$H$2:$J$46,3,FALSE) -> 93 | E10: 2 | G10: 8 | H10: Megan Chick | I10: 0.014907407 | J10: 93 | K10: =I10/G$1 -> 0.0048088411 | L10: =VLOOKUP(H10,Ages!A$1:J$166,10,FALSE) -> 0-34 | M10: =IF(I10<=VLOOKUP(L10,'Standards Male'!E$49:J$60,2,FALSE),'Standards Male'!F$48,IF(I10<=VLOOKUP(L10,'Standards Male'!E$49:J$60,3,FALSE),'Standards Male'!G$48,IF(I10<=VLOOKUP(L10,'Standards Male'!E$49:J$60,4,FALSE),'Standards Male'!H$48,IF(I10<=VLOOKUP(L10,'Standards Male'!E$49:J$60,5,FALSE),'Standards Male'!I$48,IF(I10<=VLOOKUP(L10,'Standards Male'!E$49:J$60,6,FALSE),'Standards Male'!J$48,'Standards Male'!J$48))))) -> Copper | O10: 8 | P10: Jia Ping Lee | Q10: 00:27:05
A11: 3 | B11: Chris Snary | C11: =VLOOKUP($B11,$H$2:$J$46,2,FALSE) -> 0.025659722 | D11: =VLOOKUP($B11,$H$2:$J$46,3,FALSE) -> 59 | E11: 2 | G11: 9 | H11: Rob Sandles | I11: 0.016180556 | J11: 92 | K11: =I11/G$1 -> 0.0052195341 | L11: =VLOOKUP(H11,Ages!A$1:J$166,10,FALSE) -> 60-64 | M11: =IF(I11<=VLOOKUP(L11,'Standards Male'!E$49:J$60,2,FALSE),'Standards Male'!F$48,IF(I11<=VLOOKUP(L11,'Standards Male'!E$49:J$60,3,FALSE),'Standards Male'!G$48,IF(I11<=VLOOKUP(L11,'Standards Male'!E$49:J$60,4,FALSE),'Standards Male'!H$48,IF(I11<=VLOOKUP(L11,'Standards Male'!E$49:J$60,5,FALSE),'Standards Male'!I$48,IF(I11<=VLOOKUP(L11,'Standards Male'!E$49:J$60,6,FALSE),'Standards Male'!J$48,'Standards Male'!J$48))))) -> Silver | O11: 9 | P11: Sharon Trotman | Q11: 00:27:30
A12: 1 | B12: Rob Sandles | C12: =VLOOKUP($B12,$H$2:$J$46,2,FALSE) -> 0.016180556 | D12: =VLOOKUP($B12,$H$2:$J$46,3,FALSE) -> 92 | E12: 3 | G12: 10 | H12: Sean Morgans | I12: 0.016412037 | J12: 91 | K12: =I12/G$1 -> 0.0052942055 | L12: =VLOOKUP(H12,Ages!A$1:J$166,10,FALSE) -> 55-59 | M12: =IF(I12<=VLOOKUP(L12,'Standards Male'!E$49:J$60,2,FALSE),'Standards Male'!F$48,IF(I12<=VLOOKUP(L12,'Standards Male'!E$49:J$60,3,FALSE),'Standards Male'!G$48,IF(I12<=VLOOKUP(L12,'Standards Male'!E$49:J$60,4,FALSE),'Standards Male'!H$48,IF(I12<=VLOOKUP(L12,'Standards Male'!E$49:J$60,5,FALSE),'Standards Male'!I$48,IF(I12<=VLOOKUP(L12,'Standards Male'!E$49:J$60,6,FALSE),'Standards Male'!J$48,'Standards Male'!J$48))))) -> Bronze | O12: 10 | P12: Christina Smith | Q12: 00:27:43
A13: 2 | B13: Sean Morgans | C13: =VLOOKUP($B13,$H$2:$J$46,2,FALSE) -> 0.016412037 | D13: =VLOOKUP($B13,$H$2:$J$46,3,FALSE) -> 91 | E13: 3 | G13: 11 | H13: Hans Thompson | I13: 0.016585648 | J13: 90 | K13: =I13/G$1 -> 0.0053502091 | L13: =VLOOKUP(H13,Ages!A$1:J$166,10,FALSE) -> 70-74 | M13: =IF(I13<=VLOOKUP(L13,'Standards Male'!E$49:J$60,2,FALSE),'Standards Male'!F$48,IF(I13<=VLOOKUP(L13,'Standards Male'!E$49:J$60,3,FALSE),'Standards Male'!G$48,IF(I13<=VLOOKUP(L13,'Standards Male'!E$49:J$60,4,FALSE),'Standards Male'!H$48,IF(I13<=VLOOKUP(L13,'Standards Male'!E$49:J$60,5,FALSE),'Standards Male'!I$48,IF(I13<=VLOOKUP(L13,'Standards Male'!E$49:J$60,6,FALSE),'Standards Male'!J$48,'Standards Male'!J$48))))) -> Gold | O13: 11 | P13: Eiri Evans-Jones | Q13: 00:30:16
A14: 3 | B14: Hans Thompson | C14: =VLOOKUP($B14,$H$2:$J$46,2,FALSE) -> 0.016585648 | D14: =VLOOKUP($B14,$H$2:$J$46,3,FALSE) -> 90 | E14: 3 | G14: 12 | H14: Michelle Grey | I14: 0.016631944 | J14: 89 | K14: =I14/G$1 -> 0.0053651434 | L14: =VLOOKUP(H14,Ages!A$1:J$166,10,FALSE) -> 45-49 | M14: =IF(I14<=VLOOKUP(L14,'Standards Male'!E$49:J$60,2,FALSE),'Standards Male'!F$48,IF(I14<=VLOOKUP(L14,'Standards Male'!E$49:J$60,3,FALSE),'Standards Male'!G$48,IF(I14<=VLOOKUP(L14,'Standards Male'!E$49:J$60,4,FALSE),'Standards Male'!H$48,IF(I14<=VLOOKUP(L14,'Standards Male'!E$49:J$60,5,FALSE),'Standards Male'!I$48,IF(I14<=VLOOKUP(L14,'Standards Male'!E$49:J$60,6,FALSE),'Standards Male'!J$48,'Standards Male'!J$48))))) -> Copper | O14: 12 | P14: Meaghan Jenkins | Q14: 00:30:40
... A23: 5 | B23: Clare Baxter | C23: =VLOOKUP($B23,$H$2:$J$46,2,FALSE) -> 0.017893519 | D23: =VLOOKUP($B23,$H$2:$J$46,3,FALSE) -> 81 | E23: 4 | G23: 21 | H23: Julie Archer | I23: 0.018055556 | J23: 80 | K23: =I23/G$1 -> 0.0058243728 | L23: =VLOOKUP(H23,Ages!A$1:J$166,10,FALSE) -> 55-59 | M23: =IF(I23<=VLOOKUP(L23,'Standards Male'!E$49:J$60,2,FALSE),'Standards Male'!F$48,IF(I23<=VLOOKUP(L23,'Standards Male'!E$49:J$60,3,FALSE),'Standards Male'!G$48,IF(I23<=VLOOKUP(L23,'Standards Male'!E$49:J$60,4,FALSE),'Standards Male'!H$48,IF(I23<=VLOOKUP(L23,'Standards Male'!E$49:J$60,5,FALSE),'Standards Male'!I$48,IF(I23<=VLOOKUP(L23,'Standards Male'!E$49:J$60,6,FALSE),'Standards Male'!J$48,'Standards Male'!J$48))))) -> Copper | O23: 21 | P23: Jane Wallace | Q23: 00:36:54
A24: 6 | B24: Diane Ridgeway | C24: =VLOOKUP($B24,$H$2:$J$46,2,FALSE) -> 0.018402778 | D24: =VLOOKUP($B24,$H$2:$J$46,3,FALSE) -> 79 | E24: 4 | G24: 22 | H24: Diane Ridgeway | I24: 0.018402778 | J24: 79 | K24: =I24/G$1 -> 0.0059363799 | L24: =VLOOKUP(H24,Ages!A$1:J$166,10,FALSE) -> 55-59 | M24: =IF(I24<=VLOOKUP(L24,'Standards Male'!E$49:J$60,2,FALSE),'Standards Male'!F$48,IF(I24<=VLOOKUP(L24,'Standards Male'!E$49:J$60,3,FALSE),'Standards Male'!G$48,IF(I24<=VLOOKUP(L24,'Standards Male'!E$49:J$60,4,FALSE),'Standards Male'!H$48,IF(I24<=VLOOKUP(L24,'Standards Male'!E$49:J$60,5,FALSE),'Standards Male'!I$48,IF(I24<=VLOOKUP(L24,'Standards Male'!E$49:J$60,6,FALSE),'Standards Male'!J$48,'Standards Male'!J$48))))) -> Copper
A25: 1 | B25: Julie Archer | C25: =VLOOKUP($B25,$H$2:$J$46,2,FALSE) -> 0.018055556 | D25: =VLOOKUP($B25,$H$2:$J$46,3,FALSE) -> 80 | E25: 5 | G25: 23 | H25: Caroline Sandles | I25: 0.01869213 | J25: 78 | K25: =I25/G$1 -> 0.0060297192 | L25: =VLOOKUP(H25,Ages!A$1:J$166,10,FALSE) -> 55-59 | M25: =IF(I25<=VLOOKUP(L25,'Standards Male'!E$49:J$60,2,FALSE),'Standards Male'!F$48,IF(I25<=VLOOKUP(L25,'Standards Male'!E$49:J$60,3,FALSE),'Standards Male'!G$48,IF(I25<=VLOOKUP(L25,'Standards Male'!E$49:J$60,4,FALSE),'Standards Male'!H$48,IF(I25<=VLOOKUP(L25,'Standards Male'!E$49:J$60,5,FALSE),'Standards Male'!I$48,IF(I25<=VLOOKUP(L25,'Standards Male'!E$49:J$60,6,FALSE),'Standards Male'!J$48,'Standards Male'!J$48))))) -> Copper | O25: Marshals
A26: 2 | B26: Caroline Sandles | C26: =VLOOKUP($B26,$H$2:$J$46,2,FALSE) -> 0.01869213 | D26: =VLOOKUP($B26,$H$2:$J$46,3,FALSE) -> 78 | E26: 5 | G26: 24 | H26: Jia Ping Lee | I26: 0.01880787 | J26: 77 | K26: =I26/G$1 -> 0.006067055 | L26: =VLOOKUP(H26,Ages!A$1:J$166,10,FALSE) -> 0-34 | M26: =IF(I26<=VLOOKUP(L26,'Standards Male'!E$49:J$60,2,FALSE),'Standards Male'!F$48,IF(I26<=VLOOKUP(L26,'Standards Male'!E$49:J$60,3,FALSE),'Standards Male'!G$48,IF(I26<=VLOOKUP(L26,'Standards Male'!E$49:J$60,4,FALSE),'Standards Male'!H$48,IF(I26<=VLOOKUP(L26,'Standards Male'!E$49:J$60,5,FALSE),'Standards Male'!I$48,IF(I26<=VLOOKUP(L26,'Standards Male'!E$49:J$60,6,FALSE),'Standards Male'!J$48,'Standards Male'!J$48))))) -> Copper | O26: Katie Williams (Organiser)
A27: 3 | B27: Sharon Trotman | C27: =VLOOKUP($B27,$H$2:$J$46,2,FALSE) -> 0.019097222 | D27: =VLOOKUP($B27,$H$2:$J$46,3,FALSE) -> 76 | E27: 5 | G27: 25 | H27: Sharon Trotman | I27: 0.019097222 | J27: 76 | K27: =I27/G$1 -> 0.0061603943 | L27: =VLOOKUP(H27,Ages!A$1:J$166,10,FALSE) -> 55-59 | M27: =IF(I27<=VLOOKUP(L27,'Standards Male'!E$49:J$60,2,FALSE),'Standards Male'!F$48,IF(I27<=VLOOKUP(L27,'Standards Male'!E$49:J$60,3,FALSE),'Standards Male'!G$48,IF(I27<=VLOOKUP(L27,'Standards Male'!E$49:J$60,4,FALSE),'Standards Male'!H$48,IF(I27<=VLOOKUP(L27,'Standards Male'!E$49:J$60,5,FALSE),'Standards Male'!I$48,IF(I27<=VLOOKUP(L27,'Standards Male'!E$49:J$60,6,FALSE),'Standards Male'!J$48,'Standards Male'!J$48))))) -> Copper | O27: Nathan Williams (Organiser)
A28: 1 | B28: Jia Ping Lee | C28: =VLOOKUP($B28,$H$2:$J$46,2,FALSE) -> 0.01880787 | D28: =VLOOKUP($B28,$H$2:$J$46,3,FALSE) -> 77 | E28: 6 | G28: 26 | H28: Christina Smith | I28: 0.019247685 | J28: 75 | K28: =I28/G$1 -> 0.0062089307 | L28: =VLOOKUP(H28,Ages!A$1:J$166,10,FALSE) -> 65-69 | M28: =IF(I28<=VLOOKUP(L28,'Standards Male'!E$49:J$60,2,FALSE),'Standards Male'!F$48,IF(I28<=VLOOKUP(L28,'Standards Male'!E$49:J$60,3,FALSE),'Standards Male'!G$48,IF(I28<=VLOOKUP(L28,'Standards Male'!E$49:J$60,4,FALSE),'Standards Male'!H$48,IF(I28<=VLOOKUP(L28,'Standards Male'!E$49:J$60,5,FALSE),'Standards Male'!I$48,IF(I28<=VLOOKUP(L28,'Standards Male'!E$49:J$60,6,FALSE),'Standards Male'!J$48,'Standards Male'!J$48))))) -> Bronze | O28: Karen Dusgate
A29: 2 | B29: Christina Smith | C29: =VLOOKUP($B29,$H$2:$J$46,2,FALSE) -> 0.019247685 | D29: =VLOOKUP($B29,$H$2:$J$46,3,FALSE) -> 75 | E29: 6 | G29: 27 | H29: Steve McLelland | I29: 0.019652778 | J29: 74 | K29: =I29/G$1 -> 0.0063396057 | L29: =VLOOKUP(H29,Ages!A$1:J$166,10,FALSE) -> 70-74 | M29: =IF(I29<=VLOOKUP(L29,'Standards Male'!E$49:J$60,2,FALSE),'Standards Male'!F$48,IF(I29<=VLOOKUP(L29,'Standards Male'!E$49:J$60,3,FALSE),'Standards Male'!G$48,IF(I29<=VLOOKUP(L29,'Standards Male'!E$49:J$60,4,FALSE),'Standards Male'!H$48,IF(I29<=VLOOKUP(L29,'Standards Male'!E$49:J$60,5,FALSE),'Standards Male'!I$48,IF(I29<=VLOOKUP(L29,'Standards Male'!E$49:J$60,6,FALSE),'Standards Male'!J$48,'Standards Male'!J$48))))) -> Bronze | O29: Mark Jenkins
A30: 3 | B30: Steve McLelland | C30: =VLOOKUP($B30,$H$2:$J$46,2,FALSE) -> 0.019652778 | D30: =VLOOKUP($B30,$H$2:$J$46,3,FALSE) -> 74 | E30: 6 | G30: 28 | H30: Leighton Jones | I30: 0.020115741 | J30: 73 | K30: =I30/G$1 -> 0.0064889486 | L30: =VLOOKUP(H30,Ages!A$1:J$166,10,FALSE) -> 75-79 | M30: =IF(I30<=VLOOKUP(L30,'Standards Male'!E$49:J$60,2,FALSE),'Standards Male'!F$48,IF(I30<=VLOOKUP(L30,'Standards Male'!E$49:J$60,3,FALSE),'Standards Male'!G$48,IF(I30<=VLOOKUP(L30,'Standards Male'!E$49:J$60,4,FALSE),'Standards Male'!H$48,IF(I30<=VLOOKUP(L30,'Standards Male'!E$49:J$60,5,FALSE),'Standards Male'!I$48,IF(I30<=VLOOKUP(L30,'Standards Male'!E$49:J$60,6,FALSE),'Standards Male'!J$48,'Standards Male'!J$48))))) -> Bronze | O30: Victoria Barber
A31: 4 | B31: Leighton Jones | C31: =VLOOKUP($B31,$H$2:$J$46,2,FALSE) -> 0.020115741 | D31: =VLOOKUP($B31,$H$2:$J$46,3,FALSE) -> 73 | E31: 6 | G31: 29 | H31: Mike Prasad | I31: 0.020497685 | J31: 72 | K31: =I31/G$1 -> 0.0066121565 | L31: =VLOOKUP(H31,Ages!A$1:J$166,10,FALSE) -> 55-59 | M31: =IF(I31<=VLOOKUP(L31,'Standards Male'!E$49:J$60,2,FALSE),'Standards Male'!F$48,IF(I31<=VLOOKUP(L31,'Standards Male'!E$49:J$60,3,FALSE),'Standards Male'!G$48,IF(I31<=VLOOKUP(L31,'Standards Male'!E$49:J$60,4,FALSE),'Standards Male'!H$48,IF(I31<=VLOOKUP(L31,'Standards Male'!E$49:J$60,5,FALSE),'Standards Male'!I$48,IF(I31<=VLOOKUP(L31,'Standards Male'!E$49:J$60,6,FALSE),'Standards Male'!J$48,'Standards Male'!J$48))))) -> Copper | O31: Alan Pritchard
A32: 5 | B32: Mike Prasad | C32: =VLOOKUP($B32,$H$2:$J$46,2,FALSE) -> 0.020497685 | D32: =VLOOKUP($B32,$H$2:$J$46,3,FALSE) -> 72 | E32: 6 | G32: 30 | H32: David Doherty | I32: 0.020798611 | J32: 71 | K32: =I32/G$1 -> 0.0067092294 | L32: =VLOOKUP(H32,Ages!A$1:J$166,10,FALSE) -> 70-74 | M32: =IF(I32<=VLOOKUP(L32,'Standards Male'!E$49:J$60,2,FALSE),'Standards Male'!F$48,IF(I32<=VLOOKUP(L32,'Standards Male'!E$49:J$60,3,FALSE),'Standards Male'!G$48,IF(I32<=VLOOKUP(L32,'Standards Male'!E$49:J$60,4,FALSE),'Standards Male'!H$48,IF(I32<=VLOOKUP(L32,'Standards Male'!E$49:J$60,5,FALSE),'Standards Male'!I$48,IF(I32<=VLOOKUP(L32,'Standards Male'!E$49:J$60,6,FALSE),'Standards Male'!J$48,'Standards Male'!J$48))))) -> Bronze | O32: Alice Sullivan
A33: 6 | B33: David Doherty | C33: =VLOOKUP($B33,$H$2:$J$46,2,FALSE) -> 0.020798611 | D33: =VLOOKUP($B33,$H$2:$J$46,3,FALSE) -> 71 | E33: 6 | G33: 31 | H33: Eiri Evans-Jones | I33: 0.021018519 | J33: 70 | K33: =I33/G$1 -> 0.0067801673 | L33: =VLOOKUP(H33,Ages!A$1:J$166,10,FALSE) -> 45-49 | M33: =IF(I33<=VLOOKUP(L33,'Standards Male'!E$49:J$60,2,FALSE),'Standards Male'!F$48,IF(I33<=VLOOKUP(L33,'Standards Male'!E$49:J$60,3,FALSE),'Standards Male'!G$48,IF(I33<=VLOOKUP(L33,'Standards Male'!E$49:J$60,4,FALSE),'Standards Male'!H$48,IF(I33<=VLOOKUP(L33,'Standards Male'!E$49:J$60,5,FALSE),'Standards Male'!I$48,IF(I33<=VLOOKUP(L33,'Standards Male'!E$49:J$60,6,FALSE),'Standards Male'!J$48,'Standards Male'!J$48))))) -> Copper | O33: Nicola Rowe
A34: 1 | B34: Eiri Evans-Jones | C34: =VLOOKUP($B34,$H$2:$J$46,2,FALSE) -> 0.021018519 | D34: =VLOOKUP($B34,$H$2:$J$46,3,FALSE) -> 70 | E34: 7 | G34: 32 | H34: Meaghan Jenkins | I34: 0.021296296 | J34: 69 | K34: =I34/G$1 -> 0.006869773 | L34: =VLOOKUP(H34,Ages!A$1:J$166,10,FALSE) -> 0-34 | M34: =IF(I34<=VLOOKUP(L34,'Standards Male'!E$49:J$60,2,FALSE),'Standards Male'!F$48,IF(I34<=VLOOKUP(L34,'Standards Male'!E$49:J$60,3,FALSE),'Standards Male'!G$48,IF(I34<=VLOOKUP(L34,'Standards Male'!E$49:J$60,4,FALSE),'Standards Male'!H$48,IF(I34<=VLOOKUP(L34,'Standards Male'!E$49:J$60,5,FALSE),'Standards Male'!I$48,IF(I34<=VLOOKUP(L34,'Standards Male'!E$49:J$60,6,FALSE),'Standards Male'!J$48,'Standards Male'!J$48))))) -> Copper | O34: Paula Stockley
A35: 2 | B35: Meaghan Jenkins | C35: =VLOOKUP($B35,$H$2:$J$46,2,FALSE) -> 0.021296296 | D35: =VLOOKUP($B35,$H$2:$J$46,3,FALSE) -> 69 | E35: 7 | G35: 33 | H35: Victoria Holmes | I35: 0.021747685 | J35: 68 | K35: =I35/G$1 -> 0.0070153823 | L35: =VLOOKUP(H35,Ages!A$1:J$166,10,FALSE) -> 0-34 | M35: =IF(I35<=VLOOKUP(L35,'Standards Male'!E$49:J$60,2,FALSE),'Standards Male'!F$48,IF(I35<=VLOOKUP(L35,'Standards Male'!E$49:J$60,3,FALSE),'Standards Male'!G$48,IF(I35<=VLOOKUP(L35,'Standards Male'!E$49:J$60,4,FALSE),'Standards Male'!H$48,IF(I35<=VLOOKUP(L35,'Standards Male'!E$49:J$60,5,FALSE),'Standards Male'!I$48,IF(I35<=VLOOKUP(L35,'Standards Male'!E$49:J$60,6,FALSE),'Standards Male'!J$48,'Standards Male'!J$48))))) -> Copper | O35: Meinir Jones
A36: 1 | B36: Victoria Holmes | C36: =VLOOKUP($B36,$H$2:$J$46,2,FALSE) -> 0.021747685 | D36: =VLOOKUP($B36,$H$2:$J$46,3,FALSE) -> 68 | E36: 8 | G36: 34 | H36: Manisha Rickards | I36: 0.022025463 | J36: 67 | K36: =I36/G$1 -> 0.0071049881 | L36: =VLOOKUP(H36,Ages!A$1:J$166,10,FALSE) -> 60-64 | M36: =IF(I36<=VLOOKUP(L36,'Standards Male'!E$49:J$60,2,FALSE),'Standards Male'!F$48,IF(I36<=VLOOKUP(L36,'Standards Male'!E$49:J$60,3,FALSE),'Standards Male'!G$48,IF(I36<=VLOOKUP(L36,'Standards Male'!E$49:J$60,4,FALSE),'Standards Male'!H$48,IF(I36<=VLOOKUP(L36,'Standards Male'!E$49:J$60,5,FALSE),'Standards Male'!I$48,IF(I36<=VLOOKUP(L36,'Standards Male'!E$49:J$60,6,FALSE),'Standards Male'!J$48,'Standards Male'!J$48))))) -> Copper | O36: Chris Hurdidge
... A38: 3 | B38: Caroline Morgan | C38: =VLOOKUP($B38,$H$2:$J$46,2,FALSE) -> 0.022349537 | D38: =VLOOKUP($B38,$H$2:$J$46,3,FALSE) -> 66 | E38: 8 | G38: 36 | H38: Sandra rees | I38: 0.023171296 | J38: 65 | K38: =I38/G$1 -> 0.0074746117 | L38: =VLOOKUP(H38,Ages!A$1:J$166,10,FALSE) -> 60-64 | M38: =IF(I38<=VLOOKUP(L38,'Standards Male'!E$49:J$60,2,FALSE),'Standards Male'!F$48,IF(I38<=VLOOKUP(L38,'Standards Male'!E$49:J$60,3,FALSE),'Standards Male'!G$48,IF(I38<=VLOOKUP(L38,'Standards Male'!E$49:J$60,4,FALSE),'Standards Male'!H$48,IF(I38<=VLOOKUP(L38,'Standards Male'!E$49:J$60,5,FALSE),'Standards Male'!I$48,IF(I38<=VLOOKUP(L38,'Standards Male'!E$49:J$60,6,FALSE),'Standards Male'!J$48,'Standards Male'!J$48))))) -> Copper | O38: Chris Snary (tail Runner)
A39: 4 | B39: Sandra rees | C39: =VLOOKUP($B39,$H$2:$J$46,2,FALSE) -> 0.023171296 | D39: =VLOOKUP($B39,$H$2:$J$46,3,FALSE) -> 65 | E39: 8 | G39: 37 | H39: Gina Southam | I39: 0.023275463 | J39: 64 | K39: =I39/G$1 -> 0.0075082139 | L39: 0-34 | M39: =IF(I39<=VLOOKUP(L39,'Standards Male'!E$49:J$60,2,FALSE),'Standards Male'!F$48,IF(I39<=VLOOKUP(L39,'Standards Male'!E$49:J$60,3,FALSE),'Standards Male'!G$48,IF(I39<=VLOOKUP(L39,'Standards Male'!E$49:J$60,4,FALSE),'Standards Male'!H$48,IF(I39<=VLOOKUP(L39,'Standards Male'!E$49:J$60,5,FALSE),'Standards Male'!I$48,IF(I39<=VLOOKUP(L39,'Standards Male'!E$49:J$60,6,FALSE),'Standards Male'!J$48,'Standards Male'!J$48))))) -> Copper
A40: 1 | B40: Gina Southam | C40: =VLOOKUP($B40,$H$2:$J$46,2,FALSE) -> 0.023275463 | D40: =VLOOKUP($B40,$H$2:$J$46,3,FALSE) -> 64 | E40: 9 | G40: 38 | H40: Frances Ratcliff | I40: 0.023344907 | J40: 63 | K40: =I40/G$1 -> 0.0075306153 | L40: =VLOOKUP(H40,Ages!A$1:J$166,10,FALSE) -> 40-44 | M40: =IF(I40<=VLOOKUP(L40,'Standards Male'!E$49:J$60,2,FALSE),'Standards Male'!F$48,IF(I40<=VLOOKUP(L40,'Standards Male'!E$49:J$60,3,FALSE),'Standards Male'!G$48,IF(I40<=VLOOKUP(L40,'Standards Male'!E$49:J$60,4,FALSE),'Standards Male'!H$48,IF(I40<=VLOOKUP(L40,'Standards Male'!E$49:J$60,5,FALSE),'Standards Male'!I$48,IF(I40<=VLOOKUP(L40,'Standards Male'!E$49:J$60,6,FALSE),'Standards Male'!J$48,'Standards Male'!J$48))))) -> Copper
A41: 2 | B41: Frances Ratcliff | C41: =VLOOKUP($B41,$H$2:$J$46,2,FALSE) -> 0.023344907 | D41: =VLOOKUP($B41,$H$2:$J$46,3,FALSE) -> 63 | E41: 9 | G41: 39 | H41: Fay Sharpe | I41: 0.023506944 | J41: 62 | K41: =I41/G$1 -> 0.0075828853 | L41: =VLOOKUP(H41,Ages!A$1:J$166,10,FALSE) -> 65-69 | M41: =IF(I41<=VLOOKUP(L41,'Standards Male'!E$49:J$60,2,FALSE),'Standards Male'!F$48,IF(I41<=VLOOKUP(L41,'Standards Male'!E$49:J$60,3,FALSE),'Standards Male'!G$48,IF(I41<=VLOOKUP(L41,'Standards Male'!E$49:J$60,4,FALSE),'Standards Male'!H$48,IF(I41<=VLOOKUP(L41,'Standards Male'!E$49:J$60,5,FALSE),'Standards Male'!I$48,IF(I41<=VLOOKUP(L41,'Standards Male'!E$49:J$60,6,FALSE),'Standards Male'!J$48,'Standards Male'!J$48))))) -> Copper
A42: 3 | B42: Lynn Holmes | C42: =VLOOKUP($B42,$H$2:$J$46,2,FALSE) -> 0.024699074 | D42: =VLOOKUP($B42,$H$2:$J$46,3,FALSE) -> 61 | E42: 9 | G42: 40 | H42: Lynn Holmes | I42: 0.024699074 | J42: 61 | K42: =I42/G$1 -> 0.0079674432 | L42: =VLOOKUP(H42,Ages!A$1:J$166,10,FALSE) -> 60-64 | M42: =IF(I42<=VLOOKUP(L42,'Standards Male'!E$49:J$60,2,FALSE),'Standards Male'!F$48,IF(I42<=VLOOKUP(L42,'Standards Male'!E$49:J$60,3,FALSE),'Standards Male'!G$48,IF(I42<=VLOOKUP(L42,'Standards Male'!E$49:J$60,4,FALSE),'Standards Male'!H$48,IF(I42<=VLOOKUP(L42,'Standards Male'!E$49:J$60,5,FALSE),'Standards Male'!I$48,IF(I42<=VLOOKUP(L42,'Standards Male'!E$49:J$60,6,FALSE),'Standards Male'!J$48,'Standards Male'!J$48))))) -> Copper
A43: 1 | B43: Fay Sharpe | C43: =VLOOKUP($B43,$H$2:$J$46,2,FALSE) -> 0.023506944 | D43: =VLOOKUP($B43,$H$2:$J$46,3,FALSE) -> 62 | E43: 10 | G43: 41 | H43: Jane Wallace | I43: 0.025625 | J43: 60 | K43: =I43/G$1 -> 0.008266129 | L43: =VLOOKUP(H43,Ages!A$1:J$166,10,FALSE) -> 60-64 | M43: =IF(I43<=VLOOKUP(L43,'Standards Male'!E$49:J$60,2,FALSE),'Standards Male'!F$48,IF(I43<=VLOOKUP(L43,'Standards Male'!E$49:J$60,3,FALSE),'Standards Male'!G$48,IF(I43<=VLOOKUP(L43,'Standards Male'!E$49:J$60,4,FALSE),'Standards Male'!H$48,IF(I43<=VLOOKUP(L43,'Standards Male'!E$49:J$60,5,FALSE),'Standards Male'!I$48,IF(I43<=VLOOKUP(L43,'Standards Male'!E$49:J$60,6,FALSE),'Standards Male'!J$48,'Standards Male'!J$48))))) -> Copper
A44: 2 | B44: Jane Wallace | C44: =VLOOKUP($B44,$H$2:$J$46,2,FALSE) -> 0.025625 | D44: =VLOOKUP($B44,$H$2:$J$46,3,FALSE) -> 60 | E44: 10 | G44: 42 | H44: Chris Snary | I44: 0.025659722 | J44: 59 | K44: =I44/G$1 -> 0.0082773297 | L44: =VLOOKUP(H44,Ages!A$1:J$166,10,FALSE) -> 35-39 | M44: =IF(I44<=VLOOKUP(L44,'Standards Male'!E$49:J$60,2,FALSE),'Standards Male'!F$48,IF(I44<=VLOOKUP(L44,'Standards Male'!E$49:J$60,3,FALSE),'Standards Male'!G$48,IF(I44<=VLOOKUP(L44,'Standards Male'!E$49:J$60,4,FALSE),'Standards Male'!H$48,IF(I44<=VLOOKUP(L44,'Standards Male'!E$49:J$60,5,FALSE),'Standards Male'!I$48,IF(I44<=VLOOKUP(L44,'Standards Male'!E$49:J$60,6,FALSE),'Standards Male'!J$48,'Standards Male'!J$48))))) -> Copper

Sheet Race 2
A1: Singleton Pk - 29/07/2026 | G1: 3.1 | H1: Mile
A2: Pos | B2: Group Order | C2: Time | D2: Points | E2: Div | G2: Pos | H2: Name | I2: Time | J2: Points | K2: Min/Mile | L2: Cat | M2: Standard | O2: Pos | P2: Ladies Only | Q2: Time
A3: 1 | B3: Gareth Parry | C3: =VLOOKUP($B3,$H$2:$J$66,2,FALSE) -> 0.013159722 | D3: =VLOOKUP($B3,$H$2:$J$66,3,FALSE) -> 100 | E3: 1 | G3: 1 | H3: Gareth Parry | I3: 0.013159722 | J3: 100 | K3: =I3/G$1 -> 0.0042450717 | L3: =VLOOKUP(H3,Ages!A$1:J$166,10,FALSE) -> 45-49 | M3: =IF(I3<=VLOOKUP(L3,'Standards Male'!E$49:J$60,2,FALSE),'Standards Male'!F$48,IF(I3<=VLOOKUP(L3,'Standards Male'!E$49:J$60,3,FALSE),'Standards Male'!G$48,IF(I3<=VLOOKUP(L3,'Standards Male'!E$49:J$60,4,FALSE),'Standards Male'!H$48,IF(I3<=VLOOKUP(L3,'Standards Male'!E$49:J$60,5,FALSE),'Standards Male'!I$48,IF(I3<=VLOOKUP(L3,'Standards Male'!E$49:J$60,6,FALSE),'Standards Male'!J$48,'Standards Male'!J$48))))) -> Gold | O3: 1 | P3: Megan Chick | Q3: 0.014513889
A4: 2 | B4: Ashley Pascoe | C4: =VLOOKUP($B4,$H$2:$J$66,2,FALSE) -> 0.013391204 | D4: =VLOOKUP($B4,$H$2:$J$66,3,FALSE) -> 99 | E4: 1 | G4: 2 | H4: Ashley Pascoe | I4: 0.013391204 | J4: 99 | K4: =I4/G$1 -> 0.0043197431 | L4: =VLOOKUP(H4,Ages!A$1:J$166,10,FALSE) -> 50-54 | M4: =IF(I4<=VLOOKUP(L4,'Standards Male'!E$49:J$60,2,FALSE),'Standards Male'!F$48,IF(I4<=VLOOKUP(L4,'Standards Male'!E$49:J$60,3,FALSE),'Standards Male'!G$48,IF(I4<=VLOOKUP(L4,'Standards Male'!E$49:J$60,4,FALSE),'Standards Male'!H$48,IF(I4<=VLOOKUP(L4,'Standards Male'!E$49:J$60,5,FALSE),'Standards Male'!I$48,IF(I4<=VLOOKUP(L4,'Standards Male'!E$49:J$60,6,FALSE),'Standards Male'!J$48,'Standards Male'!J$48))))) -> Gold | O4: 2 | P4: Laura Gilbert | Q4: 0.016736111
A5: 3 | B5: Justin Sperrin | C5: =VLOOKUP($B5,$H$2:$J$66,2,FALSE) -> 0.014282407 | D5: =VLOOKUP($B5,$H$2:$J$66,3,FALSE) -> 98 | E5: 1 | G5: 3 | H5: Justin Sperrin | I5: 0.014282407 | J5: 98 | K5: =I5/G$1 -> 0.0046072282 | L5: =VLOOKUP(H5,Ages!A$1:J$166,10,FALSE) -> 0-34 | M5: =IF(I5<=VLOOKUP(L5,'Standards Male'!E$49:J$60,2,FALSE),'Standards Male'!F$48,IF(I5<=VLOOKUP(L5,'Standards Male'!E$49:J$60,3,FALSE),'Standards Male'!G$48,IF(I5<=VLOOKUP(L5,'Standards Male'!E$49:J$60,4,FALSE),'Standards Male'!H$48,IF(I5<=VLOOKUP(L5,'Standards Male'!E$49:J$60,5,FALSE),'Standards Male'!I$48,IF(I5<=VLOOKUP(L5,'Standards Male'!E$49:J$60,6,FALSE),'Standards Male'!J$48,'Standards Male'!J$48))))) -> Bronze | O5: 3 | P5: Clare Baxter | Q5: 0.017326389
A6: 4 | B6: Aron Jones | C6: =VLOOKUP($B6,$H$2:$J$66,2,FALSE) -> 0.014293981 | D6: =VLOOKUP($B6,$H$2:$J$66,3,FALSE) -> 97 | E6: 1 | G6: 4 | H6: Aron Jones | I6: 0.014293981 | J6: 97 | K6: =I6/G$1 -> 0.0046109618 | L6: =VLOOKUP(H6,Ages!A$1:J$166,10,FALSE) -> 40-44 | M6: =IF(I6<=VLOOKUP(L6,'Standards Male'!E$49:J$60,2,FALSE),'Standards Male'!F$48,IF(I6<=VLOOKUP(L6,'Standards Male'!E$49:J$60,3,FALSE),'Standards Male'!G$48,IF(I6<=VLOOKUP(L6,'Standards Male'!E$49:J$60,4,FALSE),'Standards Male'!H$48,IF(I6<=VLOOKUP(L6,'Standards Male'!E$49:J$60,5,FALSE),'Standards Male'!I$48,IF(I6<=VLOOKUP(L6,'Standards Male'!E$49:J$60,6,FALSE),'Standards Male'!J$48,'Standards Male'!J$48))))) -> Bronze | O6: 4 | P6: Diane Ridgeway | Q6: 0.018136574
A7: 5 | B7: Paul Jenkins | C7: =VLOOKUP($B7,$H$2:$J$66,2,FALSE) -> 0.014351852 | D7: =VLOOKUP($B7,$H$2:$J$66,3,FALSE) -> 96 | E7: 1 | G7: 5 | H7: Paul Jenkins | I7: 0.014351852 | J7: 96 | K7: =I7/G$1 -> 0.0046296296 | L7: =VLOOKUP(H7,Ages!A$1:J$166,10,FALSE) -> 45-49 | M7: =IF(I7<=VLOOKUP(L7,'Standards Male'!E$49:J$60,2,FALSE),'Standards Male'!F$48,IF(I7<=VLOOKUP(L7,'Standards Male'!E$49:J$60,3,FALSE),'Standards Male'!G$48,IF(I7<=VLOOKUP(L7,'Standards Male'!E$49:J$60,4,FALSE),'Standards Male'!H$48,IF(I7<=VLOOKUP(L7,'Standards Male'!E$49:J$60,5,FALSE),'Standards Male'!I$48,IF(I7<=VLOOKUP(L7,'Standards Male'!E$49:J$60,6,FALSE),'Standards Male'!J$48,'Standards Male'!J$48))))) -> Silver | O7: 5 | P7: Julie Archer | Q7: 0.018206019
A8: 6 | B8: Megan Chick | C8: =VLOOKUP($B8,$H$2:$J$66,2,FALSE) -> 0.014513889 | D8: =VLOOKUP($B8,$H$2:$J$66,3,FALSE) -> 95 | E8: 2 | G8: 6 | H8: Megan Chick | I8: 0.014513889 | J8: 95 | K8: =I8/G$1 -> 0.0046818996 | L8: =VLOOKUP(H8,Ages!A$1:J$166,10,FALSE) -> 0-34 | M8: =IF(I8<=VLOOKUP(L8,'Standards Male'!E$49:J$60,2,FALSE),'Standards Male'!F$48,IF(I8<=VLOOKUP(L8,'Standards Male'!E$49:J$60,3,FALSE),'Standards Male'!G$48,IF(I8<=VLOOKUP(L8,'Standards Male'!E$49:J$60,4,FALSE),'Standards Male'!H$48,IF(I8<=VLOOKUP(L8,'Standards Male'!E$49:J$60,5,FALSE),'Standards Male'!I$48,IF(I8<=VLOOKUP(L8,'Standards Male'!E$49:J$60,6,FALSE),'Standards Male'!J$48,'Standards Male'!J$48))))) -> Bronze | O8: 6 | P8: Fran Newman | Q8: 0.018506944
A9: 7 | B9: Gavin Davies | C9: =VLOOKUP($B9,$H$2:$J$66,2,FALSE) -> 0.014664352 | D9: =VLOOKUP($B9,$H$2:$J$66,3,FALSE) -> 94 | E9: 2 | G9: 7 | H9: Gavin Davies | I9: 0.014664352 | J9: 94 | K9: =I9/G$1 -> 0.0047304361 | L9: =VLOOKUP(H9,Ages!A$1:J$166,10,FALSE) -> 60-64 | M9: =IF(I9<=VLOOKUP(L9,'Standards Male'!E$49:J$60,2,FALSE),'Standards Male'!F$48,IF(I9<=VLOOKUP(L9,'Standards Male'!E$49:J$60,3,FALSE),'Standards Male'!G$48,IF(I9<=VLOOKUP(L9,'Standards Male'!E$49:J$60,4,FALSE),'Standards Male'!H$48,IF(I9<=VLOOKUP(L9,'Standards Male'!E$49:J$60,5,FALSE),'Standards Male'!I$48,IF(I9<=VLOOKUP(L9,'Standards Male'!E$49:J$60,6,FALSE),'Standards Male'!J$48,'Standards Male'!J$48))))) -> Gold | O9: 7 | P9: Jenny Stanford | Q9: 0.018564815
A10: 8 | B10: James Bennett | C10: =VLOOKUP($B10,$H$2:$J$66,2,FALSE) -> 0.015173611 | D10: =VLOOKUP($B10,$H$2:$J$66,3,FALSE) -> 93 | E10: 2 | G10: 8 | H10: James Bennett | I10: 0.015173611 | J10: 93 | K10: =I10/G$1 -> 0.0048947133 | L10: =VLOOKUP(H10,Ages!A$1:J$166,10,FALSE) -> 35-39 | M10: =IF(I10<=VLOOKUP(L10,'Standards Male'!E$49:J$60,2,FALSE),'Standards Male'!F$48,IF(I10<=VLOOKUP(L10,'Standards Male'!E$49:J$60,3,FALSE),'Standards Male'!G$48,IF(I10<=VLOOKUP(L10,'Standards Male'!E$49:J$60,4,FALSE),'Standards Male'!H$48,IF(I10<=VLOOKUP(L10,'Standards Male'!E$49:J$60,5,FALSE),'Standards Male'!I$48,IF(I10<=VLOOKUP(L10,'Standards Male'!E$49:J$60,6,FALSE),'Standards Male'!J$48,'Standards Male'!J$48))))) -> Bronze | O10: 8 | P10: Caroline Sandles | Q10: 0.018796296
A11: 9 | B11: Kevin Watson | C11: =VLOOKUP($B11,$H$2:$J$66,2,FALSE) -> 0.015486111 | D11: =VLOOKUP($B11,$H$2:$J$66,3,FALSE) -> 92 | E11: 2 | G11: 9 | H11: Kevin Watson | I11: 0.015486111 | J11: 92 | K11: =I11/G$1 -> 0.0049955197 | L11: =VLOOKUP(H11,Ages!A$1:J$166,10,FALSE) -> 50-54 | M11: =IF(I11<=VLOOKUP(L11,'Standards Male'!E$49:J$60,2,FALSE),'Standards Male'!F$48,IF(I11<=VLOOKUP(L11,'Standards Male'!E$49:J$60,3,FALSE),'Standards Male'!G$48,IF(I11<=VLOOKUP(L11,'Standards Male'!E$49:J$60,4,FALSE),'Standards Male'!H$48,IF(I11<=VLOOKUP(L11,'Standards Male'!E$49:J$60,5,FALSE),'Standards Male'!I$48,IF(I11<=VLOOKUP(L11,'Standards Male'!E$49:J$60,6,FALSE),'Standards Male'!J$48,'Standards Male'!J$48))))) -> Silver | O11: 9 | P11: Jia Ping Lee | Q11: 0.019201389
A12: 10 | B12: Chris Snary | C12: =VLOOKUP($B12,$H$2:$J$66,2,FALSE) -> 0.016736111 | D12: =VLOOKUP($B12,$H$2:$J$66,3,FALSE) -> 88 | E12: 2 | G12: 10 | H12: Rob Sandles | I12: 0.016134259 | J12: 91 | K12: =I12/G$1 -> 0.0052045998 | L12: =VLOOKUP(H12,Ages!A$1:J$166,10,FALSE) -> 60-64 | M12: =IF(I12<=VLOOKUP(L12,'Standards Male'!E$49:J$60,2,FALSE),'Standards Male'!F$48,IF(I12<=VLOOKUP(L12,'Standards Male'!E$49:J$60,3,FALSE),'Standards Male'!G$48,IF(I12<=VLOOKUP(L12,'Standards Male'!E$49:J$60,4,FALSE),'Standards Male'!H$48,IF(I12<=VLOOKUP(L12,'Standards Male'!E$49:J$60,5,FALSE),'Standards Male'!I$48,IF(I12<=VLOOKUP(L12,'Standards Male'!E$49:J$60,6,FALSE),'Standards Male'!J$48,'Standards Male'!J$48))))) -> Silver | O12: 10 | P12: Michelle Grey | Q12: 0.019467593
A13: 11 | B13: Rob Sandles | C13: =VLOOKUP($B13,$H$2:$J$66,2,FALSE) -> 0.016134259 | D13: =VLOOKUP($B13,$H$2:$J$66,3,FALSE) -> 91 | E13: 3 | G13: 11 | H13: Hans Thompson | I13: 0.016458333 | J13: 90 | K13: =I13/G$1 -> 0.0053091398 | L13: =VLOOKUP(H13,Ages!A$1:J$166,10,FALSE) -> 70-74 | M13: =IF(I13<=VLOOKUP(L13,'Standards Male'!E$49:J$60,2,FALSE),'Standards Male'!F$48,IF(I13<=VLOOKUP(L13,'Standards Male'!E$49:J$60,3,FALSE),'Standards Male'!G$48,IF(I13<=VLOOKUP(L13,'Standards Male'!E$49:J$60,4,FALSE),'Standards Male'!H$48,IF(I13<=VLOOKUP(L13,'Standards Male'!E$49:J$60,5,FALSE),'Standards Male'!I$48,IF(I13<=VLOOKUP(L13,'Standards Male'!E$49:J$60,6,FALSE),'Standards Male'!J$48,'Standards Male'!J$48))))) -> Gold | O13: 11 | P13: Christina Smith | Q13: 0.019525463
A14: 12 | B14: Hans Thompson | C14: =VLOOKUP($B14,$H$2:$J$66,2,FALSE) -> 0.016458333 | D14: =VLOOKUP($B14,$H$2:$J$66,3,FALSE) -> 90 | E14: 3 | G14: 12 | H14: Laura Gilbert | I14: 0.016736111 | J14: 89 | K14: =I14/G$1 -> 0.0053987455 | L14: =VLOOKUP(H14,Ages!A$1:J$166,10,FALSE) -> 35-39 | M14: =IF(I14<=VLOOKUP(L14,'Standards Male'!E$49:J$60,2,FALSE),'Standards Male'!F$48,IF(I14<=VLOOKUP(L14,'Standards Male'!E$49:J$60,3,FALSE),'Standards Male'!G$48,IF(I14<=VLOOKUP(L14,'Standards Male'!E$49:J$60,4,FALSE),'Standards Male'!H$48,IF(I14<=VLOOKUP(L14,'Standards Male'!E$49:J$60,5,FALSE),'Standards Male'!I$48,IF(I14<=VLOOKUP(L14,'Standards Male'!E$49:J$60,6,FALSE),'Standards Male'!J$48,'Standards Male'!J$48))))) -> Copper | O14: 12 | P14: Kelly Bamford | Q14: 0.020243056
... A29: 27 | B29: Jia Ping Lee | C29: =VLOOKUP($B29,$H$2:$J$66,2,FALSE) -> 0.019201389 | D29: =VLOOKUP($B29,$H$2:$J$66,3,FALSE) -> 75 | E29: 6 | G29: 27 | H29: Michelle Grey | I29: 0.019467593 | J29: 74 | K29: =I29/G$1 -> 0.0062798686 | L29: =VLOOKUP(H29,Ages!A$1:J$166,10,FALSE) -> 45-49 | M29: =IF(I29<=VLOOKUP(L29,'Standards Male'!E$49:J$60,2,FALSE),'Standards Male'!F$48,IF(I29<=VLOOKUP(L29,'Standards Male'!E$49:J$60,3,FALSE),'Standards Male'!G$48,IF(I29<=VLOOKUP(L29,'Standards Male'!E$49:J$60,4,FALSE),'Standards Male'!H$48,IF(I29<=VLOOKUP(L29,'Standards Male'!E$49:J$60,5,FALSE),'Standards Male'!I$48,IF(I29<=VLOOKUP(L29,'Standards Male'!E$49:J$60,6,FALSE),'Standards Male'!J$48,'Standards Male'!J$48))))) -> Copper | O29: 27 | P29: Fay Sharpe | Q29: 0.026828704
A30: 28 | B30: Christina Smith | C30: =VLOOKUP($B30,$H$2:$J$66,2,FALSE) -> 0.019525463 | D30: =VLOOKUP($B30,$H$2:$J$66,3,FALSE) -> 73 | E30: 6 | G30: 28 | H30: Christina Smith | I30: 0.019525463 | J30: 73 | K30: =I30/G$1 -> 0.0062985364 | L30: =VLOOKUP(H30,Ages!A$1:J$166,10,FALSE) -> 65-69 | M30: =IF(I30<=VLOOKUP(L30,'Standards Male'!E$49:J$60,2,FALSE),'Standards Male'!F$48,IF(I30<=VLOOKUP(L30,'Standards Male'!E$49:J$60,3,FALSE),'Standards Male'!G$48,IF(I30<=VLOOKUP(L30,'Standards Male'!E$49:J$60,4,FALSE),'Standards Male'!H$48,IF(I30<=VLOOKUP(L30,'Standards Male'!E$49:J$60,5,FALSE),'Standards Male'!I$48,IF(I30<=VLOOKUP(L30,'Standards Male'!E$49:J$60,6,FALSE),'Standards Male'!J$48,'Standards Male'!J$48))))) -> Bronze
A31: 29 | B31: Leighton Jones | C31: =VLOOKUP($B31,$H$2:$J$66,2,FALSE) -> 0.020046296 | D31: =VLOOKUP($B31,$H$2:$J$66,3,FALSE) -> 72 | E31: 6 | G31: 29 | H31: Leighton Jones | I31: 0.020046296 | J31: 72 | K31: =I31/G$1 -> 0.0064665472 | L31: =VLOOKUP(H31,Ages!A$1:J$166,10,FALSE) -> 75-79 | M31: =IF(I31<=VLOOKUP(L31,'Standards Male'!E$49:J$60,2,FALSE),'Standards Male'!F$48,IF(I31<=VLOOKUP(L31,'Standards Male'!E$49:J$60,3,FALSE),'Standards Male'!G$48,IF(I31<=VLOOKUP(L31,'Standards Male'!E$49:J$60,4,FALSE),'Standards Male'!H$48,IF(I31<=VLOOKUP(L31,'Standards Male'!E$49:J$60,5,FALSE),'Standards Male'!I$48,IF(I31<=VLOOKUP(L31,'Standards Male'!E$49:J$60,6,FALSE),'Standards Male'!J$48,'Standards Male'!J$48))))) -> Bronze | O31: Marshals
A32: 30 | B32: David Doherty | C32: =VLOOKUP($B32,$H$2:$J$66,2,FALSE) -> 0.020335648 | D32: =VLOOKUP($B32,$H$2:$J$66,3,FALSE) -> 70 | E32: 6 | G32: 30 | H32: Kelly Bamford | I32: 0.020243056 | J32: 71 | K32: =I32/G$1 -> 0.0065300179 | L32: =VLOOKUP(H32,Ages!A$1:J$166,10,FALSE) -> 45-49 | M32: =IF(I32<=VLOOKUP(L32,'Standards Male'!E$49:J$60,2,FALSE),'Standards Male'!F$48,IF(I32<=VLOOKUP(L32,'Standards Male'!E$49:J$60,3,FALSE),'Standards Male'!G$48,IF(I32<=VLOOKUP(L32,'Standards Male'!E$49:J$60,4,FALSE),'Standards Male'!H$48,IF(I32<=VLOOKUP(L32,'Standards Male'!E$49:J$60,5,FALSE),'Standards Male'!I$48,IF(I32<=VLOOKUP(L32,'Standards Male'!E$49:J$60,6,FALSE),'Standards Male'!J$48,'Standards Male'!J$48))))) -> Copper | O32: Lee Morris (Organiser)
A33: 31 | B33: Steve McLelland | C33: =VLOOKUP($B33,$H$2:$J$66,2,FALSE) -> 0.020659722 | D33: =VLOOKUP($B33,$H$2:$J$66,3,FALSE) -> 68 | E33: 6 | G33: 31 | H33: David Doherty | I33: 0.020335648 | J33: 70 | K33: =I33/G$1 -> 0.0065598865 | L33: =VLOOKUP(H33,Ages!A$1:J$166,10,FALSE) -> 70-74 | M33: =IF(I33<=VLOOKUP(L33,'Standards Male'!E$49:J$60,2,FALSE),'Standards Male'!F$48,IF(I33<=VLOOKUP(L33,'Standards Male'!E$49:J$60,3,FALSE),'Standards Male'!G$48,IF(I33<=VLOOKUP(L33,'Standards Male'!E$49:J$60,4,FALSE),'Standards Male'!H$48,IF(I33<=VLOOKUP(L33,'Standards Male'!E$49:J$60,5,FALSE),'Standards Male'!I$48,IF(I33<=VLOOKUP(L33,'Standards Male'!E$49:J$60,6,FALSE),'Standards Male'!J$48,'Standards Male'!J$48))))) -> Bronze | O33: Mark Jenkins (Organiser)
A34: 32 | B34: Kelly Bamford | C34: =VLOOKUP($B34,$H$2:$J$66,2,FALSE) -> 0.020243056 | D34: =VLOOKUP($B34,$H$2:$J$66,3,FALSE) -> 71 | E34: 7 | G34: 32 | H34: Eiri Evans-Jones | I34: 0.020451389 | J34: 69 | K34: =I34/G$1 -> 0.0065972222 | L34: =VLOOKUP(H34,Ages!A$1:J$166,10,FALSE) -> 45-49 | M34: =IF(I34<=VLOOKUP(L34,'Standards Male'!E$49:J$60,2,FALSE),'Standards Male'!F$48,IF(I34<=VLOOKUP(L34,'Standards Male'!E$49:J$60,3,FALSE),'Standards Male'!G$48,IF(I34<=VLOOKUP(L34,'Standards Male'!E$49:J$60,4,FALSE),'Standards Male'!H$48,IF(I34<=VLOOKUP(L34,'Standards Male'!E$49:J$60,5,FALSE),'Standards Male'!I$48,IF(I34<=VLOOKUP(L34,'Standards Male'!E$49:J$60,6,FALSE),'Standards Male'!J$48,'Standards Male'!J$48))))) -> Copper | O34: Karen Dusgate
A35: 33 | B35: Eiri Evans-Jones | C35: =VLOOKUP($B35,$H$2:$J$66,2,FALSE) -> 0.020451389 | D35: =VLOOKUP($B35,$H$2:$J$66,3,FALSE) -> 69 | E35: 7 | G35: 33 | H35: Steve McLelland | I35: 0.020659722 | J35: 68 | K35: =I35/G$1 -> 0.0066644265 | L35: =VLOOKUP(H35,Ages!A$1:J$166,10,FALSE) -> 70-74 | M35: =IF(I35<=VLOOKUP(L35,'Standards Male'!E$49:J$60,2,FALSE),'Standards Male'!F$48,IF(I35<=VLOOKUP(L35,'Standards Male'!E$49:J$60,3,FALSE),'Standards Male'!G$48,IF(I35<=VLOOKUP(L35,'Standards Male'!E$49:J$60,4,FALSE),'Standards Male'!H$48,IF(I35<=VLOOKUP(L35,'Standards Male'!E$49:J$60,5,FALSE),'Standards Male'!I$48,IF(I35<=VLOOKUP(L35,'Standards Male'!E$49:J$60,6,FALSE),'Standards Male'!J$48,'Standards Male'!J$48))))) -> Bronze | O35: Ian Bamford
A36: 34 | B36: Saran Lewis | C36: =VLOOKUP($B36,$H$2:$J$66,2,FALSE) -> 0.02125 | D36: =VLOOKUP($B36,$H$2:$J$66,3,FALSE) -> 67 | E36: 7 | G36: 34 | H36: Saran Lewis | I36: 0.02125 | J36: 67 | K36: =I36/G$1 -> 0.0068548387 | L36: =VLOOKUP(H36,Ages!A$1:J$166,10,FALSE) -> 45-49 | M36: =IF(I36<=VLOOKUP(L36,'Standards Male'!E$49:J$60,2,FALSE),'Standards Male'!F$48,IF(I36<=VLOOKUP(L36,'Standards Male'!E$49:J$60,3,FALSE),'Standards Male'!G$48,IF(I36<=VLOOKUP(L36,'Standards Male'!E$49:J$60,4,FALSE),'Standards Male'!H$48,IF(I36<=VLOOKUP(L36,'Standards Male'!E$49:J$60,5,FALSE),'Standards Male'!I$48,IF(I36<=VLOOKUP(L36,'Standards Male'!E$49:J$60,6,FALSE),'Standards Male'!J$48,'Standards Male'!J$48))))) -> Copper | O36: Victoria Barber
A37: 35 | B37: Debbie Gibbs | C37: =VLOOKUP($B37,$H$2:$J$66,2,FALSE) -> 0.021770833 | D37: =VLOOKUP($B37,$H$2:$J$66,3,FALSE) -> 66 | E37: 7 | G37: 35 | H37: Debbie Gibbs | I37: 0.021770833 | J37: 66 | K37: =I37/G$1 -> 0.0070228495 | L37: =VLOOKUP(H37,Ages!A$1:J$166,10,FALSE) -> 45-49 | M37: =IF(I37<=VLOOKUP(L37,'Standards Male'!E$49:J$60,2,FALSE),'Standards Male'!F$48,IF(I37<=VLOOKUP(L37,'Standards Male'!E$49:J$60,3,FALSE),'Standards Male'!G$48,IF(I37<=VLOOKUP(L37,'Standards Male'!E$49:J$60,4,FALSE),'Standards Male'!H$48,IF(I37<=VLOOKUP(L37,'Standards Male'!E$49:J$60,5,FALSE),'Standards Male'!I$48,IF(I37<=VLOOKUP(L37,'Standards Male'!E$49:J$60,6,FALSE),'Standards Male'!J$48,'Standards Male'!J$48))))) -> Copper | O37: Alan Pritchard
A38: 36 | B38: Meaghan Jenkins | C38: =VLOOKUP($B38,$H$2:$J$66,2,FALSE) -> 0.022199074 | D38: =VLOOKUP($B38,$H$2:$J$66,3,FALSE) -> 65 | E38: 7 | G38: 36 | H38: Meaghan Jenkins | I38: 0.022199074 | J38: 65 | K38: =I38/G$1 -> 0.0071609916 | L38: =VLOOKUP(H38,Ages!A$1:J$166,10,FALSE) -> 0-34 | M38: =IF(I38<=VLOOKUP(L38,'Standards Male'!E$49:J$60,2,FALSE),'Standards Male'!F$48,IF(I38<=VLOOKUP(L38,'Standards Male'!E$49:J$60,3,FALSE),'Standards Male'!G$48,IF(I38<=VLOOKUP(L38,'Standards Male'!E$49:J$60,4,FALSE),'Standards Male'!H$48,IF(I38<=VLOOKUP(L38,'Standards Male'!E$49:J$60,5,FALSE),'Standards Male'!I$48,IF(I38<=VLOOKUP(L38,'Standards Male'!E$49:J$60,6,FALSE),'Standards Male'!J$48,'Standards Male'!J$48))))) -> Copper | O38: Alice Sullivan
A39: 37 | B39: Meghann Millership | C39: =VLOOKUP($B39,$H$2:$J$66,2,FALSE) -> 0.022581019 | D39: =VLOOKUP($B39,$H$2:$J$66,3,FALSE) -> 64 | E39: 8 | G39: 37 | H39: Meghann Millership | I39: 0.022581019 | J39: 64 | K39: =I39/G$1 -> 0.0072841995 | L39: 0-34 | M39: =IF(I39<=VLOOKUP(L39,'Standards Male'!E$49:J$60,2,FALSE),'Standards Male'!F$48,IF(I39<=VLOOKUP(L39,'Standards Male'!E$49:J$60,3,FALSE),'Standards Male'!G$48,IF(I39<=VLOOKUP(L39,'Standards Male'!E$49:J$60,4,FALSE),'Standards Male'!H$48,IF(I39<=VLOOKUP(L39,'Standards Male'!E$49:J$60,5,FALSE),'Standards Male'!I$48,IF(I39<=VLOOKUP(L39,'Standards Male'!E$49:J$60,6,FALSE),'Standards Male'!J$48,'Standards Male'!J$48))))) -> Copper | O39: Nicola Rowe
A40: 38 | B40: Victoria Holmes | C40: =VLOOKUP($B40,$H$2:$J$66,2,FALSE) -> 0.023634259 | D40: =VLOOKUP($B40,$H$2:$J$66,3,FALSE) -> 62 | E40: 8 | G40: 38 | H40: Laura Hall | I40: 0.023229167 | J40: 63 | K40: =I40/G$1 -> 0.0074932796 | L40: =VLOOKUP(H40,Ages!A$1:J$166,10,FALSE) -> 60-64 | M40: =IF(I40<=VLOOKUP(L40,'Standards Male'!E$49:J$60,2,FALSE),'Standards Male'!F$48,IF(I40<=VLOOKUP(L40,'Standards Male'!E$49:J$60,3,FALSE),'Standards Male'!G$48,IF(I40<=VLOOKUP(L40,'Standards Male'!E$49:J$60,4,FALSE),'Standards Male'!H$48,IF(I40<=VLOOKUP(L40,'Standards Male'!E$49:J$60,5,FALSE),'Standards Male'!I$48,IF(I40<=VLOOKUP(L40,'Standards Male'!E$49:J$60,6,FALSE),'Standards Male'!J$48,'Standards Male'!J$48))))) -> Copper | O40: Paula Stockley
A41: 39 | B41: Manisha Rickards | C41: =VLOOKUP($B41,$H$2:$J$66,2,FALSE) -> 0.02412037 | D41: =VLOOKUP($B41,$H$2:$J$66,3,FALSE) -> 61 | E41: 8 | G41: 39 | H41: Victoria Holmes | I41: 0.023634259 | J41: 62 | K41: =I41/G$1 -> 0.0076239546 | L41: =VLOOKUP(H41,Ages!A$1:J$166,10,FALSE) -> 0-34 | M41: =IF(I41<=VLOOKUP(L41,'Standards Male'!E$49:J$60,2,FALSE),'Standards Male'!F$48,IF(I41<=VLOOKUP(L41,'Standards Male'!E$49:J$60,3,FALSE),'Standards Male'!G$48,IF(I41<=VLOOKUP(L41,'Standards Male'!E$49:J$60,4,FALSE),'Standards Male'!H$48,IF(I41<=VLOOKUP(L41,'Standards Male'!E$49:J$60,5,FALSE),'Standards Male'!I$48,IF(I41<=VLOOKUP(L41,'Standards Male'!E$49:J$60,6,FALSE),'Standards Male'!J$48,'Standards Male'!J$48))))) -> Copper | O41: Nicola Julian
A42: 40 | B42: Laura Hall | C42: =VLOOKUP($B42,$H$2:$J$66,2,FALSE) -> 0.023229167 | D42: =VLOOKUP($B42,$H$2:$J$66,3,FALSE) -> 63 | E42: 9 | G42: 40 | H42: Manisha Rickards | I42: 0.02412037 | J42: 61 | K42: =I42/G$1 -> 0.0077807646 | L42: =VLOOKUP(H42,Ages!A$1:J$166,10,FALSE) -> 60-64 | M42: =IF(I42<=VLOOKUP(L42,'Standards Male'!E$49:J$60,2,FALSE),'Standards Male'!F$48,IF(I42<=VLOOKUP(L42,'Standards Male'!E$49:J$60,3,FALSE),'Standards Male'!G$48,IF(I42<=VLOOKUP(L42,'Standards Male'!E$49:J$60,4,FALSE),'Standards Male'!H$48,IF(I42<=VLOOKUP(L42,'Standards Male'!E$49:J$60,5,FALSE),'Standards Male'!I$48,IF(I42<=VLOOKUP(L42,'Standards Male'!E$49:J$60,6,FALSE),'Standards Male'!J$48,'Standards Male'!J$48))))) -> Copper | O42: Chris Hurdidge
A43: 41 | B43: Caroline Jones I | C43: =VLOOKUP($B43,$H$2:$J$66,2,FALSE) -> 0.024768519 | D43: =VLOOKUP($B43,$H$2:$J$66,3,FALSE) -> 60 | E43: 9 | G43: 41 | H43: Caroline Jones I | I43: 0.024768519 | J43: 60 | K43: =I43/G$1 -> 0.0079898447 | L43: =VLOOKUP(H43,Ages!A$1:J$166,10,FALSE) -> 50-54 | M43: =IF(I43<=VLOOKUP(L43,'Standards Male'!E$49:J$60,2,FALSE),'Standards Male'!F$48,IF(I43<=VLOOKUP(L43,'Standards Male'!E$49:J$60,3,FALSE),'Standards Male'!G$48,IF(I43<=VLOOKUP(L43,'Standards Male'!E$49:J$60,4,FALSE),'Standards Male'!H$48,IF(I43<=VLOOKUP(L43,'Standards Male'!E$49:J$60,5,FALSE),'Standards Male'!I$48,IF(I43<=VLOOKUP(L43,'Standards Male'!E$49:J$60,6,FALSE),'Standards Male'!J$48,'Standards Male'!J$48))))) -> Copper | O43: Julie Davies
A44: 42 | B44: Lynn Holmes | C44: =VLOOKUP($B44,$H$2:$J$66,2,FALSE) -> 0.024895833 | D44: =VLOOKUP($B44,$H$2:$J$66,3,FALSE) -> 59 | E44: 9 | G44: 42 | H44: Lynn Holmes | I44: 0.024895833 | J44: 59 | K44: =I44/G$1 -> 0.008030914 | L44: =VLOOKUP(H44,Ages!A$1:J$166,10,FALSE) -> 60-64 | M44: =IF(I44<=VLOOKUP(L44,'Standards Male'!E$49:J$60,2,FALSE),'Standards Male'!F$48,IF(I44<=VLOOKUP(L44,'Standards Male'!E$49:J$60,3,FALSE),'Standards Male'!G$48,IF(I44<=VLOOKUP(L44,'Standards Male'!E$49:J$60,4,FALSE),'Standards Male'!H$48,IF(I44<=VLOOKUP(L44,'Standards Male'!E$49:J$60,5,FALSE),'Standards Male'!I$48,IF(I44<=VLOOKUP(L44,'Standards Male'!E$49:J$60,6,FALSE),'Standards Male'!J$48,'Standards Male'!J$48))))) -> Copper | O44: Nathan Williams
A45: 43 | B45: Jane Wallace | C45: =VLOOKUP($B45,$H$2:$J$66,2,FALSE) -> 0.025335648 | D45: =VLOOKUP($B45,$H$2:$J$66,3,FALSE) -> 58 | E45: 10 | G45: 43 | H45: Jane Wallace | I45: 0.025335648 | J45: 58 | K45: =I45/G$1 -> 0.0081727897 | L45: =VLOOKUP(H45,Ages!A$1:J$166,10,FALSE) -> 60-64 | M45: =IF(I45<=VLOOKUP(L45,'Standards Male'!E$49:J$60,2,FALSE),'Standards Male'!F$48,IF(I45<=VLOOKUP(L45,'Standards Male'!E$49:J$60,3,FALSE),'Standards Male'!G$48,IF(I45<=VLOOKUP(L45,'Standards Male'!E$49:J$60,4,FALSE),'Standards Male'!H$48,IF(I45<=VLOOKUP(L45,'Standards Male'!E$49:J$60,5,FALSE),'Standards Male'!I$48,IF(I45<=VLOOKUP(L45,'Standards Male'!E$49:J$60,6,FALSE),'Standards Male'!J$48,'Standards Male'!J$48))))) -> Copper | O45: Fay Sharpe
A46: 44 | B46: Clare Daniel | C46: =VLOOKUP($B46,$H$2:$J$66,2,FALSE) -> 0.025393519 | D46: =VLOOKUP($B46,$H$2:$J$66,3,FALSE) -> 57 | E46: 10 | G46: 44 | H46: Clare Daniel | I46: 0.025393519 | J46: 57 | K46: =I46/G$1 -> 0.0081914576 | L46: =VLOOKUP(H46,Ages!A$1:J$166,10,FALSE) -> 35-39 | M46: =IF(I46<=VLOOKUP(L46,'Standards Male'!E$49:J$60,2,FALSE),'Standards Male'!F$48,IF(I46<=VLOOKUP(L46,'Standards Male'!E$49:J$60,3,FALSE),'Standards Male'!G$48,IF(I46<=VLOOKUP(L46,'Standards Male'!E$49:J$60,4,FALSE),'Standards Male'!H$48,IF(I46<=VLOOKUP(L46,'Standards Male'!E$49:J$60,5,FALSE),'Standards Male'!I$48,IF(I46<=VLOOKUP(L46,'Standards Male'!E$49:J$60,6,FALSE),'Standards Male'!J$48,'Standards Male'!J$48))))) -> Copper | O46: Helen Jenkins
A47: 45 | B47: Sophie Grunhut | C47: =VLOOKUP($B47,$H$2:$J$66,2,FALSE) -> 0.025439815 | D47: =VLOOKUP($B47,$H$2:$J$66,3,FALSE) -> 56 | E47: 10 | G47: 45 | H47: Sophie Grunhut | I47: 0.025439815 | J47: 56 | K47: =I47/G$1 -> 0.0082063919 | L47: =VLOOKUP(H47,Ages!A$1:J$166,10,FALSE) -> 0-34 | M47: =IF(I47<=VLOOKUP(L47,'Standards Male'!E$49:J$60,2,FALSE),'Standards Male'!F$48,IF(I47<=VLOOKUP(L47,'Standards Male'!E$49:J$60,3,FALSE),'Standards Male'!G$48,IF(I47<=VLOOKUP(L47,'Standards Male'!E$49:J$60,4,FALSE),'Standards Male'!H$48,IF(I47<=VLOOKUP(L47,'Standards Male'!E$49:J$60,5,FALSE),'Standards Male'!I$48,IF(I47<=VLOOKUP(L47,'Standards Male'!E$49:J$60,6,FALSE),'Standards Male'!J$48,'Standards Male'!J$48))))) -> Copper
A48: 46 | B48: Linda Owens | C48: =VLOOKUP($B48,$H$2:$J$66,2,FALSE) -> 0.026759259 | D48: =VLOOKUP($B48,$H$2:$J$66,3,FALSE) -> 55 | E48: 10 | G48: 46 | H48: Linda Owens | I48: 0.026759259 | J48: 55 | K48: =I48/G$1 -> 0.0086320191 | L48: =VLOOKUP(H48,Ages!A$1:J$166,10,FALSE) -> 75-79 | M48: =IF(I48<=VLOOKUP(L48,'Standards Male'!E$49:J$60,2,FALSE),'Standards Male'!F$48,IF(I48<=VLOOKUP(L48,'Standards Male'!E$49:J$60,3,FALSE),'Standards Male'!G$48,IF(I48<=VLOOKUP(L48,'Standards Male'!E$49:J$60,4,FALSE),'Standards Male'!H$48,IF(I48<=VLOOKUP(L48,'Standards Male'!E$49:J$60,5,FALSE),'Standards Male'!I$48,IF(I48<=VLOOKUP(L48,'Standards Male'!E$49:J$60,6,FALSE),'Standards Male'!J$48,'Standards Male'!J$48))))) -> Copper
A49: 47 | B49: Fay Sharpe | C49: =VLOOKUP($B49,$H$2:$J$66,2,FALSE) -> 0.026828704 | D49: =VLOOKUP($B49,$H$2:$J$66,3,FALSE) -> 54 | E49: 10 | G49: 47 | H49: Fay Sharpe | I49: 0.026828704 | J49: 54 | K49: =I49/G$1 -> 0.0086544205 | L49: =VLOOKUP(H49,Ages!A$1:J$166,10,FALSE) -> 65-69 | M49: =IF(I49<=VLOOKUP(L49,'Standards Male'!E$49:J$60,2,FALSE),'Standards Male'!F$48,IF(I49<=VLOOKUP(L49,'Standards Male'!E$49:J$60,3,FALSE),'Standards Male'!G$48,IF(I49<=VLOOKUP(L49,'Standards Male'!E$49:J$60,4,FALSE),'Standards Male'!H$48,IF(I49<=VLOOKUP(L49,'Standards Male'!E$49:J$60,5,FALSE),'Standards Male'!I$48,IF(I49<=VLOOKUP(L49,'Standards Male'!E$49:J$60,6,FALSE),'Standards Male'!J$48,'Standards Male'!J$48))))) -> Copper

Sheet Race 3
A1: Llanelli-Tumble Path | G1: 6.2 | H1: Mile | I1: 45896
A2: Pos | B2: Group Order | C2: Time | D2: Points | E2: Div | G2: Pos | H2: Race Order | I2: Time | J2: Points | K2: Min/Mile | L2: Cat | M2: Standard | O2: Pos | P2: Ladies Only | Q2: Time
A3: 1 | B3: Ashley Pascoe | C3: =VLOOKUP($B3,$H$2:$J$45,2,FALSE) -> 0.028645833 | D3: =VLOOKUP($B3,$H$2:$J$34,3,FALSE) -> 100 | E3: 1 | G3: 1 | H3: Ashley Pascoe | I3: 0.028645833 | J3: 100 | K3: =I3/G$1 -> 0.0046202957 | L3: =VLOOKUP(H3,Ages!A$1:J$166,10,FALSE) -> 50-54 | M3: =IF(I3<=VLOOKUP(L3,'Standards Male'!E$92:J$103,2,FALSE),'Standards Male'!F$91,IF(I3<=VLOOKUP(L3,'Standards Male'!E$92:J$103,3,FALSE),'Standards Male'!G$91,IF(I3<=VLOOKUP(L3,'Standards Male'!E$92:J$103,4,FALSE),'Standards Male'!H$91,IF(I3<=VLOOKUP(L3,'Standards Male'!E$92:J$103,5,FALSE),'Standards Male'!I$91,IF(I3<=VLOOKUP(L3,'Standards Male'!E$92:J$103,6,FALSE),'Standards Male'!J$91,'Standards Male'!J$91))))) -> Silver | O3: 1 | P3: Megan Chick | Q3: 0.030787037
A4: 2 | B4: Lee Morris | C4: =VLOOKUP($B4,$H$2:$J$45,2,FALSE) -> 0.029108796 | D4: =VLOOKUP($B4,$H$2:$J$34,3,FALSE) -> 99 | E4: 1 | G4: 2 | H4: Lee Morris | I4: 0.029108796 | J4: 99 | K4: =I4/G$1 -> 0.0046949671 | L4: =VLOOKUP(H4,Ages!A$1:J$166,10,FALSE) -> 40-44 | M4: =IF(I4<=VLOOKUP(L4,'Standards Male'!E$92:J$103,2,FALSE),'Standards Male'!F$91,IF(I4<=VLOOKUP(L4,'Standards Male'!E$92:J$103,3,FALSE),'Standards Male'!G$91,IF(I4<=VLOOKUP(L4,'Standards Male'!E$92:J$103,4,FALSE),'Standards Male'!H$91,IF(I4<=VLOOKUP(L4,'Standards Male'!E$92:J$103,5,FALSE),'Standards Male'!I$91,IF(I4<=VLOOKUP(L4,'Standards Male'!E$92:J$103,6,FALSE),'Standards Male'!J$91,'Standards Male'!J$91))))) -> Bronze | O4: 2 | P4: Caroline Sandles | Q4: 0.037743056
A5: 3 | B5: Justin Sperrin | C5: =VLOOKUP($B5,$H$2:$J$45,2,FALSE) -> 0.029502315 | D5: =VLOOKUP($B5,$H$2:$J$43,3,FALSE) -> 98 | E5: 1 | G5: 3 | H5: Justin Sperrin | I5: 0.029502315 | J5: 98 | K5: =I5/G$1 -> 0.0047584379 | L5: =VLOOKUP(H5,Ages!A$1:J$166,10,FALSE) -> 0-34 | M5: =IF(I5<=VLOOKUP(L5,'Standards Male'!E$92:J$103,2,FALSE),'Standards Male'!F$91,IF(I5<=VLOOKUP(L5,'Standards Male'!E$92:J$103,3,FALSE),'Standards Male'!G$91,IF(I5<=VLOOKUP(L5,'Standards Male'!E$92:J$103,4,FALSE),'Standards Male'!H$91,IF(I5<=VLOOKUP(L5,'Standards Male'!E$92:J$103,5,FALSE),'Standards Male'!I$91,IF(I5<=VLOOKUP(L5,'Standards Male'!E$92:J$103,6,FALSE),'Standards Male'!J$91,'Standards Male'!J$91))))) -> Bronze | O5: 3 | P5: Fran Newman | Q5: 0.038449074
A6: 4 | B6: Aron Jones | C6: =VLOOKUP($B6,$H$2:$J$45,2,FALSE) -> 0.029895833 | D6: =VLOOKUP($B6,$H$2:$J$43,3,FALSE) -> 97 | E6: 1 | G6: 4 | H6: Aron Jones | I6: 0.029895833 | J6: 97 | K6: =I6/G$1 -> 0.0048219086 | L6: =VLOOKUP(H6,Ages!A$1:J$166,10,FALSE) -> 40-44 | M6: =IF(I6<=VLOOKUP(L6,'Standards Male'!E$92:J$103,2,FALSE),'Standards Male'!F$91,IF(I6<=VLOOKUP(L6,'Standards Male'!E$92:J$103,3,FALSE),'Standards Male'!G$91,IF(I6<=VLOOKUP(L6,'Standards Male'!E$92:J$103,4,FALSE),'Standards Male'!H$91,IF(I6<=VLOOKUP(L6,'Standards Male'!E$92:J$103,5,FALSE),'Standards Male'!I$91,IF(I6<=VLOOKUP(L6,'Standards Male'!E$92:J$103,6,FALSE),'Standards Male'!J$91,'Standards Male'!J$91))))) -> Bronze | O6: 4 | P6: Jia Ping Lee | Q6: 0.038900463
A7: 5 | B7: Paul Jenkins | C7: =VLOOKUP($B7,$H$2:$J$45,2,FALSE) -> 0.030173611 | D7: =VLOOKUP($B7,$H$2:$J$43,3,FALSE) -> 96 | E7: 1 | G7: 5 | H7: Paul Jenkins | I7: 0.030173611 | J7: 96 | K7: =I7/G$1 -> 0.0048667115 | L7: =VLOOKUP(H7,Ages!A$1:J$166,10,FALSE) -> 45-49 | M7: =IF(I7<=VLOOKUP(L7,'Standards Male'!E$92:J$103,2,FALSE),'Standards Male'!F$91,IF(I7<=VLOOKUP(L7,'Standards Male'!E$92:J$103,3,FALSE),'Standards Male'!G$91,IF(I7<=VLOOKUP(L7,'Standards Male'!E$92:J$103,4,FALSE),'Standards Male'!H$91,IF(I7<=VLOOKUP(L7,'Standards Male'!E$92:J$103,5,FALSE),'Standards Male'!I$91,IF(I7<=VLOOKUP(L7,'Standards Male'!E$92:J$103,6,FALSE),'Standards Male'!J$91,'Standards Male'!J$91))))) -> Silver | O7: 5 | P7: Diane Ridgeway | Q7: 0.039201389
A8: 6 | B8: Dan Evans | C8: =VLOOKUP($B8,$H$2:$J$45,2,FALSE) -> 0.033414352 | D8: =VLOOKUP($B8,$H$2:$J$43,3,FALSE) -> 89 | E8: 1 | G8: 6 | H8: Megan Chick | I8: 0.030787037 | J8: 95 | K8: =I8/G$1 -> 0.0049656511 | L8: =VLOOKUP(H8,Ages!A$1:J$166,10,FALSE) -> 0-34 | M8: =IF(I8<=VLOOKUP(L8,'Standards Male'!E$92:J$103,2,FALSE),'Standards Male'!F$91,IF(I8<=VLOOKUP(L8,'Standards Male'!E$92:J$103,3,FALSE),'Standards Male'!G$91,IF(I8<=VLOOKUP(L8,'Standards Male'!E$92:J$103,4,FALSE),'Standards Male'!H$91,IF(I8<=VLOOKUP(L8,'Standards Male'!E$92:J$103,5,FALSE),'Standards Male'!I$91,IF(I8<=VLOOKUP(L8,'Standards Male'!E$92:J$103,6,FALSE),'Standards Male'!J$91,'Standards Male'!J$91))))) -> Copper | O8: 6 | P8: Jenny Stanford | Q8: 0.039513889
A9: 1 | B9: Megan Chick | C9: =VLOOKUP($B9,$H$2:$J$45,2,FALSE) -> 0.030787037 | D9: =VLOOKUP($B9,$H$2:$J$43,3,FALSE) -> 95 | E9: 2 | G9: 7 | H9: Kevin Watson | I9: 0.031944444 | J9: 94 | K9: =I9/G$1 -> 0.0051523297 | L9: =VLOOKUP(H9,Ages!A$1:J$166,10,FALSE) -> 50-54 | M9: =IF(I9<=VLOOKUP(L9,'Standards Male'!E$92:J$103,2,FALSE),'Standards Male'!F$91,IF(I9<=VLOOKUP(L9,'Standards Male'!E$92:J$103,3,FALSE),'Standards Male'!G$91,IF(I9<=VLOOKUP(L9,'Standards Male'!E$92:J$103,4,FALSE),'Standards Male'!H$91,IF(I9<=VLOOKUP(L9,'Standards Male'!E$92:J$103,5,FALSE),'Standards Male'!I$91,IF(I9<=VLOOKUP(L9,'Standards Male'!E$92:J$103,6,FALSE),'Standards Male'!J$91,'Standards Male'!J$91))))) -> Bronze | O9: 7 | P9: Louise Steer | Q9: 0.040949074
A10: 2 | B10: Kevin Watson | C10: =VLOOKUP($B10,$H$2:$J$45,2,FALSE) -> 0.031944444 | D10: =VLOOKUP($B10,$H$2:$J$43,3,FALSE) -> 94 | E10: 2 | G10: 8 | H10: Mark Bamford | I10: 0.032523148 | J10: 93 | K10: =I10/G$1 -> 0.0052456691 | L10: =VLOOKUP(H10,Ages!A$1:J$166,10,FALSE) -> 50-54 | M10: =IF(I10<=VLOOKUP(L10,'Standards Male'!E$92:J$103,2,FALSE),'Standards Male'!F$91,IF(I10<=VLOOKUP(L10,'Standards Male'!E$92:J$103,3,FALSE),'Standards Male'!G$91,IF(I10<=VLOOKUP(L10,'Standards Male'!E$92:J$103,4,FALSE),'Standards Male'!H$91,IF(I10<=VLOOKUP(L10,'Standards Male'!E$92:J$103,5,FALSE),'Standards Male'!I$91,IF(I10<=VLOOKUP(L10,'Standards Male'!E$92:J$103,6,FALSE),'Standards Male'!J$91,'Standards Male'!J$91))))) -> Bronze | O10: 8 | P10: Kelly Bamford | Q10: 0.041388889
A11: 3 | B11: Mark Bamford | C11: =VLOOKUP($B11,$H$2:$J$45,2,FALSE) -> 0.032523148 | D11: =VLOOKUP($B11,$H$2:$J$43,3,FALSE) -> 93 | E11: 2 | G11: 9 | H11: Rob Sandles | I11: 0.033043981 | J11: 92 | K11: =I11/G$1 -> 0.0053296744 | L11: =VLOOKUP(H11,Ages!A$1:J$166,10,FALSE) -> 60-64 | M11: =IF(I11<=VLOOKUP(L11,'Standards Male'!E$92:J$103,2,FALSE),'Standards Male'!F$91,IF(I11<=VLOOKUP(L11,'Standards Male'!E$92:J$103,3,FALSE),'Standards Male'!G$91,IF(I11<=VLOOKUP(L11,'Standards Male'!E$92:J$103,4,FALSE),'Standards Male'!H$91,IF(I11<=VLOOKUP(L11,'Standards Male'!E$92:J$103,5,FALSE),'Standards Male'!I$91,IF(I11<=VLOOKUP(L11,'Standards Male'!E$92:J$103,6,FALSE),'Standards Male'!J$91,'Standards Male'!J$91))))) -> Silver | O11: 9 | P11: Eiri Evans-Jones | Q11: 0.042175926
A12: 4 | B12: Rob Sandles | C12: =VLOOKUP($B12,$H$2:$J$45,2,FALSE) -> 0.033043981 | D12: =VLOOKUP($B12,$H$2:$J$43,3,FALSE) -> 92 | E12: 2 | G12: 10 | H12: James Bennett | I12: 0.033113426 | J12: 91 | K12: =I12/G$1 -> 0.0053408751 | L12: =VLOOKUP(H12,Ages!A$1:J$166,10,FALSE) -> 35-39 | M12: =IF(I12<=VLOOKUP(L12,'Standards Male'!E$92:J$103,2,FALSE),'Standards Male'!F$91,IF(I12<=VLOOKUP(L12,'Standards Male'!E$92:J$103,3,FALSE),'Standards Male'!G$91,IF(I12<=VLOOKUP(L12,'Standards Male'!E$92:J$103,4,FALSE),'Standards Male'!H$91,IF(I12<=VLOOKUP(L12,'Standards Male'!E$92:J$103,5,FALSE),'Standards Male'!I$91,IF(I12<=VLOOKUP(L12,'Standards Male'!E$92:J$103,6,FALSE),'Standards Male'!J$91,'Standards Male'!J$91))))) -> Copper | O12: 10 | P12: Manisha Rickards | Q12: 0.044895833
A13: 5 | B13: James Bennett | C13: =VLOOKUP($B13,$H$2:$J$45,2,FALSE) -> 0.033113426 | D13: =VLOOKUP($B13,$H$2:$J$43,3,FALSE) -> 91 | E13: 2 | G13: 11 | H13: Cris Arnold | I13: 0.033252315 | J13: 90 | K13: =I13/G$1 -> 0.0053632766 | L13: =VLOOKUP(H13,Ages!A$1:J$166,10,FALSE) -> 60-64 | M13: =IF(I13<=VLOOKUP(L13,'Standards Male'!E$92:J$103,2,FALSE),'Standards Male'!F$91,IF(I13<=VLOOKUP(L13,'Standards Male'!E$92:J$103,3,FALSE),'Standards Male'!G$91,IF(I13<=VLOOKUP(L13,'Standards Male'!E$92:J$103,4,FALSE),'Standards Male'!H$91,IF(I13<=VLOOKUP(L13,'Standards Male'!E$92:J$103,5,FALSE),'Standards Male'!I$91,IF(I13<=VLOOKUP(L13,'Standards Male'!E$92:J$103,6,FALSE),'Standards Male'!J$91,'Standards Male'!J$91))))) -> Silver | O13: 11 | P13: Sandra Rees | Q13: 0.04712963
A14: 6 | B14: Chris Snary | C14: =VLOOKUP($B14,$H$2:$J$45,2,FALSE) -> 0.054803241 | D14: =VLOOKUP($B14,$H$2:$J$43,3,FALSE) -> 60 | E14: 2 | G14: 12 | H14: Dan Evans | I14: 0.033414352 | J14: 89 | K14: =I14/G$1 -> 0.0053894116 | L14: =VLOOKUP(H14,Ages!A$1:J$166,10,FALSE) -> 35-39 | M14: =IF(I14<=VLOOKUP(L14,'Standards Female'!E$92:J$103,2,FALSE),'Standards Female'!F$91,IF(I14<=VLOOKUP(L14,'Standards Female'!E$92:J$103,3,FALSE),'Standards Female'!G$91,IF(I14<=VLOOKUP(L14,'Standards Female'!E$92:J$103,4,FALSE),'Standards Female'!H$91,IF(I14<=VLOOKUP(L14,'Standards Female'!E$92:J$103,5,FALSE),'Standards Female'!I$91,IF(I14<=VLOOKUP(L14,'Standards Female'!E$92:J$103,6,FALSE),'Standards Female'!J$91,'Standards Female'!J$91))))) -> Bronze | O14: 12 | P14: Meaghan Jenkins | Q14: 0.048900463
A15: 1 | B15: Cris Arnold | C15: =VLOOKUP($B15,$H$2:$J$45,2,FALSE) -> 0.033252315 | D15: =VLOOKUP($B15,$H$2:$J$43,3,FALSE) -> 90 | E15: 3 | G15: 13 | H15: Chris Simons | I15: 0.033854167 | J15: 88 | K15: =I15/G$1 -> 0.0054603495 | L15: =VLOOKUP(H15,Ages!A$1:J$166,10,FALSE) -> 35-39 | M15: =IF(I15<=VLOOKUP(L15,'Standards Female'!E$92:J$103,2,FALSE),'Standards Female'!F$91,IF(I15<=VLOOKUP(L15,'Standards Female'!E$92:J$103,3,FALSE),'Standards Female'!G$91,IF(I15<=VLOOKUP(L15,'Standards Female'!E$92:J$103,4,FALSE),'Standards Female'!H$91,IF(I15<=VLOOKUP(L15,'Standards Female'!E$92:J$103,5,FALSE),'Standards Female'!I$91,IF(I15<=VLOOKUP(L15,'Standards Female'!E$92:J$103,6,FALSE),'Standards Female'!J$91,'Standards Female'!J$91))))) -> Bronze | O15: 13 | P15: Laura Hall | Q15: 0.049155093
A16: 2 | B16: Chris Simons | C16: =VLOOKUP($B16,$H$2:$J$45,2,FALSE) -> 0.033854167 | D16: =VLOOKUP($B16,$H$2:$J$43,3,FALSE) -> 88 | E16: 3 | G16: 14 | H16: Stuart Davies | I16: 0.034155093 | J16: 87 | K16: =I16/G$1 -> 0.0055088859 | L16: =VLOOKUP(H16,Ages!A$1:J$166,10,FALSE) -> 45-49 | M16: =IF(I16<=VLOOKUP(L16,'Standards Male'!E$92:J$103,2,FALSE),'Standards Male'!F$91,IF(I16<=VLOOKUP(L16,'Standards Male'!E$92:J$103,3,FALSE),'Standards Male'!G$91,IF(I16<=VLOOKUP(L16,'Standards Male'!E$92:J$103,4,FALSE),'Standards Male'!H$91,IF(I16<=VLOOKUP(L16,'Standards Male'!E$92:J$103,5,FALSE),'Standards Male'!I$91,IF(I16<=VLOOKUP(L16,'Standards Male'!E$92:J$103,6,FALSE),'Standards Male'!J$91,'Standards Male'!J$91))))) -> Copper | O16: 14 | P16: Victoria Holmes | Q16: 0.05125
A17: 3 | B17: Stuart Davies | C17: =VLOOKUP($B17,$H$2:$J$45,2,FALSE) -> 0.034155093 | D17: =VLOOKUP($B17,$H$2:$J$43,3,FALSE) -> 87 | E17: 3 | G17: 15 | H17: Sean Morgans | I17: 0.034340278 | J17: 86 | K17: =I17/G$1 -> 0.0055387545 | L17: =VLOOKUP(H17,Ages!A$1:J$166,10,FALSE) -> 55-59 | M17: =IF(I17<=VLOOKUP(L17,'Standards Male'!E$92:J$103,2,FALSE),'Standards Male'!F$91,IF(I17<=VLOOKUP(L17,'Standards Male'!E$92:J$103,3,FALSE),'Standards Male'!G$91,IF(I17<=VLOOKUP(L17,'Standards Male'!E$92:J$103,4,FALSE),'Standards Male'!H$91,IF(I17<=VLOOKUP(L17,'Standards Male'!E$92:J$103,5,FALSE),'Standards Male'!I$91,IF(I17<=VLOOKUP(L17,'Standards Male'!E$92:J$103,6,FALSE),'Standards Male'!J$91,'Standards Male'!J$91))))) -> Bronze | O17: 15 | P17: Debbie Gibbs | Q17: 0.051793981
A18: 4 | B18: Sean Morgans | C18: =VLOOKUP($B18,$H$2:$J$45,2,FALSE) -> 0.034340278 | D18: =VLOOKUP($B18,$H$2:$J$43,3,FALSE) -> 86 | E18: 3 | G18: 16 | H18: Ceri Isaac | I18: 0.035763889 | J18: 85 | K18: =I18/G$1 -> 0.0057683692 | L18: =VLOOKUP(H18,Ages!A$1:J$166,10,FALSE) -> 35-39 | M18: =IF(I18<=VLOOKUP(L18,'Standards Male'!E$92:J$103,2,FALSE),'Standards Male'!F$91,IF(I18<=VLOOKUP(L18,'Standards Male'!E$92:J$103,3,FALSE),'Standards Male'!G$91,IF(I18<=VLOOKUP(L18,'Standards Male'!E$92:J$103,4,FALSE),'Standards Male'!H$91,IF(I18<=VLOOKUP(L18,'Standards Male'!E$92:J$103,5,FALSE),'Standards Male'!I$91,IF(I18<=VLOOKUP(L18,'Standards Male'!E$92:J$103,6,FALSE),'Standards Male'!J$91,'Standards Male'!J$91))))) -> Copper | O18: 16 | P18: Sophie Grunhut | Q18: 0.054803241
A19: 5 | B19: Ceri Isaac | C19: =VLOOKUP($B19,$H$2:$J$45,2,FALSE) -> 0.035763889 | D19: =VLOOKUP($B19,$H$2:$J$43,3,FALSE) -> 85 | E19: 3 | G19: 17 | H19: Hans Thompson | I19: 0.036076389 | J19: 84 | K19: =I19/G$1 -> 0.0058187724 | L19: =VLOOKUP(H19,Ages!A$1:J$166,10,FALSE) -> 70-74 | M19: =IF(I19<=VLOOKUP(L19,'Standards Male'!E$92:J$103,2,FALSE),'Standards Male'!F$91,IF(I19<=VLOOKUP(L19,'Standards Male'!E$92:J$103,3,FALSE),'Standards Male'!G$91,IF(I19<=VLOOKUP(L19,'Standards Male'!E$92:J$103,4,FALSE),'Standards Male'!H$91,IF(I19<=VLOOKUP(L19,'Standards Male'!E$92:J$103,5,FALSE),'Standards Male'!I$91,IF(I19<=VLOOKUP(L19,'Standards Male'!E$92:J$103,6,FALSE),'Standards Male'!J$91,'Standards Male'!J$91))))) -> Silver | O19: 17 | P19: Fay Sharpe | Q19: 0.054803241
A20: 6 | B20: Hans Thompson | C20: =VLOOKUP($B20,$H$2:$J$45,2,FALSE) -> 0.036076389 | D20: =VLOOKUP($B20,$H$2:$J$43,3,FALSE) -> 84 | E20: 3 | G20: 18 | H20: Sam Grunhut | I20: 0.036759259 | J20: 83 | K20: =I20/G$1 -> 0.0059289128 | L20: =VLOOKUP(H20,Ages!A$1:J$166,10,FALSE) -> 0-34 | M20: =IF(I20<=VLOOKUP(L20,'Standards Female'!E$92:J$103,2,FALSE),'Standards Female'!F$91,IF(I20<=VLOOKUP(L20,'Standards Female'!E$92:J$103,3,FALSE),'Standards Female'!G$91,IF(I20<=VLOOKUP(L20,'Standards Female'!E$92:J$103,4,FALSE),'Standards Female'!H$91,IF(I20<=VLOOKUP(L20,'Standards Female'!E$92:J$103,5,FALSE),'Standards Female'!I$91,IF(I20<=VLOOKUP(L20,'Standards Female'!E$92:J$103,6,FALSE),'Standards Female'!J$91,'Standards Female'!J$91))))) -> Copper | O20: 18 | P20: Paula Stockley | Q20: 0.069166667
A21: 1 | B21: Sam Grunhut | C21: =VLOOKUP($B21,$H$2:$J$45,2,FALSE) -> 0.036759259 | D21: =VLOOKUP($B21,$H$2:$J$43,3,FALSE) -> 83 | E21: 4 | G21: 19 | H21: Caroline Sandles | I21: 0.037743056 | J21: 82 | K21: =I21/G$1 -> 0.0060875896 | L21: =VLOOKUP(H21,Ages!A$1:J$166,10,FALSE) -> 55-59 | M21: =IF(I21<=VLOOKUP(L21,'Standards Male'!E$92:J$103,2,FALSE),'Standards Male'!F$91,IF(I21<=VLOOKUP(L21,'Standards Male'!E$92:J$103,3,FALSE),'Standards Male'!G$91,IF(I21<=VLOOKUP(L21,'Standards Male'!E$92:J$103,4,FALSE),'Standards Male'!H$91,IF(I21<=VLOOKUP(L21,'Standards Male'!E$92:J$103,5,FALSE),'Standards Male'!I$91,IF(I21<=VLOOKUP(L21,'Standards Male'!E$92:J$103,6,FALSE),'Standards Male'!J$91,'Standards Male'!J$91))))) -> Copper
A22: 2 | B22: Peter Clement | C22: =VLOOKUP($B22,$H$2:$J$45,2,FALSE) -> 0.038148148 | D22: =VLOOKUP($B22,$H$2:$J$43,3,FALSE) -> 81 | E22: 4 | G22: 20 | H22: Peter Clement | I22: 0.038148148 | J22: 81 | K22: =I22/G$1 -> 0.0061529271 | L22: =VLOOKUP(H22,Ages!A$1:J$166,10,FALSE) -> 60-64 | M22: =IF(I22<=VLOOKUP(L22,'Standards Male'!E$92:J$103,2,FALSE),'Standards Male'!F$91,IF(I22<=VLOOKUP(L22,'Standards Male'!E$92:J$103,3,FALSE),'Standards Male'!G$91,IF(I22<=VLOOKUP(L22,'Standards Male'!E$92:J$103,4,FALSE),'Standards Male'!H$91,IF(I22<=VLOOKUP(L22,'Standards Male'!E$92:J$103,5,FALSE),'Standards Male'!I$91,IF(I22<=VLOOKUP(L22,'Standards Male'!E$92:J$103,6,FALSE),'Standards Male'!J$91,'Standards Male'!J$91))))) -> Copper | O22: Marshals
A23: 3 | B23: Diane Ridgeway | C23: =VLOOKUP($B23,$H$2:$J$45,2,FALSE) -> 0.039201389 | D23: =VLOOKUP($B23,$H$2:$J$43,3,FALSE) -> 77 | E23: 4 | G23: 21 | H23: Fran Newman | I23: 0.038449074 | J23: 80 | K23: =I23/G$1 -> 0.0062014636 | L23: =VLOOKUP(H23,Ages!A$1:J$166,10,FALSE) -> 60-64 | M23: =IF(I23<=VLOOKUP(L23,'Standards Female'!E$92:J$103,2,FALSE),'Standards Female'!F$91,IF(I23<=VLOOKUP(L23,'Standards Female'!E$92:J$103,3,FALSE),'Standards Female'!G$91,IF(I23<=VLOOKUP(L23,'Standards Female'!E$92:J$103,4,FALSE),'Standards Female'!H$91,IF(I23<=VLOOKUP(L23,'Standards Female'!E$92:J$103,5,FALSE),'Standards Female'!I$91,IF(I23<=VLOOKUP(L23,'Standards Female'!E$92:J$103,6,FALSE),'Standards Female'!J$91,'Standards Female'!J$91))))) -> Bronze | O23: Kevin & Anna (organiser)
A24: 1 | B24: Caroline Sandles | C24: =VLOOKUP($B24,$H$2:$J$45,2,FALSE) -> 0.037743056 | D24: =VLOOKUP($B24,$H$2:$J$43,3,FALSE) -> 82 | E24: 5 | G24: 22 | H24: James Davies | I24: 0.038819444 | J24: 79 | K24: =I24/G$1 -> 0.0062612007 | L24: =VLOOKUP(H24,Ages!A$1:J$166,10,FALSE) -> 55-59 | M24: =IF(I24<=VLOOKUP(L24,'Standards Male'!E$92:J$103,2,FALSE),'Standards Male'!F$91,IF(I24<=VLOOKUP(L24,'Standards Male'!E$92:J$103,3,FALSE),'Standards Male'!G$91,IF(I24<=VLOOKUP(L24,'Standards Male'!E$92:J$103,4,FALSE),'Standards Male'!H$91,IF(I24<=VLOOKUP(L24,'Standards Male'!E$92:J$103,5,FALSE),'Standards Male'!I$91,IF(I24<=VLOOKUP(L24,'Standards Male'!E$92:J$103,6,FALSE),'Standards Male'!J$91,'Standards Male'!J$91))))) -> Copper | O24: Julie Davies
A25: 2 | B25: Fran Newman | C25: =VLOOKUP($B25,$H$2:$J$45,2,FALSE) -> 0.038449074 | D25: =VLOOKUP($B25,$H$2:$J$43,3,FALSE) -> 80 | E25: 5 | G25: 23 | H25: Jia Ping Lee | I25: 0.038900463 | J25: 78 | K25: =I25/G$1 -> 0.0062742682 | L25: =VLOOKUP(H25,Ages!A$1:J$166,10,FALSE) -> 0-34 | M25: =IF(I25<=VLOOKUP(L25,'Standards Female'!E$92:J$103,2,FALSE),'Standards Female'!F$91,IF(I25<=VLOOKUP(L25,'Standards Female'!E$92:J$103,3,FALSE),'Standards Female'!G$91,IF(I25<=VLOOKUP(L25,'Standards Female'!E$92:J$103,4,FALSE),'Standards Female'!H$91,IF(I25<=VLOOKUP(L25,'Standards Female'!E$92:J$103,5,FALSE),'Standards Female'!I$91,IF(I25<=VLOOKUP(L25,'Standards Female'!E$92:J$103,6,FALSE),'Standards Female'!J$91,'Standards Female'!J$91))))) -> Copper | O25: Alice
A26: 3 | B26: James Davies | C26: =VLOOKUP($B26,$H$2:$J$45,2,FALSE) -> 0.038819444 | D26: =VLOOKUP($B26,$H$2:$J$43,3,FALSE) -> 79 | E26: 5 | G26: 24 | H26: Diane Ridgeway | I26: 0.039201389 | J26: 77 | K26: =I26/G$1 -> 0.0063228047 | L26: =VLOOKUP(H26,Ages!A$1:J$166,10,FALSE) -> 55-59 | M26: =IF(I26<=VLOOKUP(L26,'Standards Female'!E$92:J$103,2,FALSE),'Standards Female'!F$91,IF(I26<=VLOOKUP(L26,'Standards Female'!E$92:J$103,3,FALSE),'Standards Female'!G$91,IF(I26<=VLOOKUP(L26,'Standards Female'!E$92:J$103,4,FALSE),'Standards Female'!H$91,IF(I26<=VLOOKUP(L26,'Standards Female'!E$92:J$103,5,FALSE),'Standards Female'!I$91,IF(I26<=VLOOKUP(L26,'Standards Female'!E$92:J$103,6,FALSE),'Standards Female'!J$91,'Standards Female'!J$91))))) -> Bronze | O26: Christina Smith
A27: 4 | B27: Jenny Stanford | C27: =VLOOKUP($B27,$H$2:$J$45,2,FALSE) -> 0.039513889 | D27: =VLOOKUP($B27,$H$2:$J$43,3,FALSE) -> 76 | E27: 5 | G27: 25 | H27: Jenny Stanford | I27: 0.039513889 | J27: 76 | K27: =I27/G$1 -> 0.0063732079 | L27: =VLOOKUP(H27,Ages!A$1:J$166,10,FALSE) -> 40-44 | M27: =IF(I27<=VLOOKUP(L27,'Standards Female'!E$92:J$103,2,FALSE),'Standards Female'!F$91,IF(I27<=VLOOKUP(L27,'Standards Female'!E$92:J$103,3,FALSE),'Standards Female'!G$91,IF(I27<=VLOOKUP(L27,'Standards Female'!E$92:J$103,4,FALSE),'Standards Female'!H$91,IF(I27<=VLOOKUP(L27,'Standards Female'!E$92:J$103,5,FALSE),'Standards Female'!I$91,IF(I27<=VLOOKUP(L27,'Standards Female'!E$92:J$103,6,FALSE),'Standards Female'!J$91,'Standards Female'!J$91))))) -> Copper | O27: Linda Rees
A28: 1 | B28: Jia Ping Lee | C28: =VLOOKUP($B28,$H$2:$J$45,2,FALSE) -> 0.038900463 | D28: =VLOOKUP($B28,$H$2:$J$43,3,FALSE) -> 78 | E28: 6 | G28: 26 | H28: Louise Steer | I28: 0.040949074 | J28: 75 | K28: =I28/G$1 -> 0.0066046894 | L28: =VLOOKUP(H28,Ages!A$1:J$166,10,FALSE) -> 45-49 | M28: =IF(I28<=VLOOKUP(L28,'Standards Male'!E$92:J$103,2,FALSE),'Standards Male'!F$91,IF(I28<=VLOOKUP(L28,'Standards Male'!E$92:J$103,3,FALSE),'Standards Male'!G$91,IF(I28<=VLOOKUP(L28,'Standards Male'!E$92:J$103,4,FALSE),'Standards Male'!H$91,IF(I28<=VLOOKUP(L28,'Standards Male'!E$92:J$103,5,FALSE),'Standards Male'!I$91,IF(I28<=VLOOKUP(L28,'Standards Male'!E$92:J$103,6,FALSE),'Standards Male'!J$91,'Standards Male'!J$91))))) -> Copper | O28: Christine Hurdidge
A29: 2 | B29: Leighton Jones | C29: =VLOOKUP($B29,$H$2:$J$45,2,FALSE) -> 0.041863426 | D29: =VLOOKUP($B29,$H$2:$J$43,3,FALSE) -> 73 | E29: 6 | G29: 27 | H29: Kelly Bamford | I29: 0.041388889 | J29: 74 | K29: =I29/G$1 -> 0.0066756272 | L29: =VLOOKUP(H29,Ages!A$1:J$166,10,FALSE) -> 45-49 | M29: =IF(I29<=VLOOKUP(L29,'Standards Male'!E$92:J$103,2,FALSE),'Standards Male'!F$91,IF(I29<=VLOOKUP(L29,'Standards Male'!E$92:J$103,3,FALSE),'Standards Male'!G$91,IF(I29<=VLOOKUP(L29,'Standards Male'!E$92:J$103,4,FALSE),'Standards Male'!H$91,IF(I29<=VLOOKUP(L29,'Standards Male'!E$92:J$103,5,FALSE),'Standards Male'!I$91,IF(I29<=VLOOKUP(L29,'Standards Male'!E$92:J$103,6,FALSE),'Standards Male'!J$91,'Standards Male'!J$91))))) -> Copper | O29: Linda Owens
A30: 3 | B30: Mike Prasad | C30: =VLOOKUP($B30,$H$2:$J$45,2,FALSE) -> 0.046435185 | D30: =VLOOKUP($B30,$H$2:$J$43,3,FALSE) -> 70 | E30: 6 | G30: 28 | H30: Leighton Jones | I30: 0.041863426 | J30: 73 | K30: =I30/G$1 -> 0.0067521655 | L30: =VLOOKUP(H30,Ages!A$1:J$166,10,FALSE) -> 75-79 | M30: =IF(I30<=VLOOKUP(L30,'Standards Male'!E$92:J$103,2,FALSE),'Standards Male'!F$91,IF(I30<=VLOOKUP(L30,'Standards Male'!E$92:J$103,3,FALSE),'Standards Male'!G$91,IF(I30<=VLOOKUP(L30,'Standards Male'!E$92:J$103,4,FALSE),'Standards Male'!H$91,IF(I30<=VLOOKUP(L30,'Standards Male'!E$92:J$103,5,FALSE),'Standards Male'!I$91,IF(I30<=VLOOKUP(L30,'Standards Male'!E$92:J$103,6,FALSE),'Standards Male'!J$91,'Standards Male'!J$91))))) -> Bronze | O30: Mark Jenkins
A31: 4 | B31: David Doherty | C31: =VLOOKUP($B31,$H$2:$J$45,2,FALSE) -> 0.046828704 | D31: =VLOOKUP($B31,$H$2:$J$43,3,FALSE) -> 69 | E31: 6 | G31: 29 | H31: Eiri Evans-Jones | I31: 0.042175926 | J31: 72 | K31: =I31/G$1 -> 0.0068025687 | L31: =VLOOKUP(H31,Ages!A$1:J$166,10,FALSE) -> 45-49 | M31: =IF(I31<=VLOOKUP(L31,'Standards Female'!E$92:J$103,2,FALSE),'Standards Female'!F$91,IF(I31<=VLOOKUP(L31,'Standards Female'!E$92:J$103,3,FALSE),'Standards Female'!G$91,IF(I31<=VLOOKUP(L31,'Standards Female'!E$92:J$103,4,FALSE),'Standards Female'!H$91,IF(I31<=VLOOKUP(L31,'Standards Female'!E$92:J$103,5,FALSE),'Standards Female'!I$91,IF(I31<=VLOOKUP(L31,'Standards Female'!E$92:J$103,6,FALSE),'Standards Female'!J$91,'Standards Female'!J$91))))) -> Copper | O31: Nic Rowe
A32: 1 | B32: Louise Steer | C32: =VLOOKUP($B32,$H$2:$J$45,2,FALSE) -> 0.040949074 | D32: =VLOOKUP($B32,$H$2:$J$43,3,FALSE) -> 75 | E32: 7 | G32: 30 | H32: Manisha Rickards | I32: 0.044895833 | J32: 71 | K32: =I32/G$1 -> 0.0072412634 | L32: =VLOOKUP(H32,Ages!A$1:J$166,10,FALSE) -> 60-64 | M32: =IF(I32<=VLOOKUP(L32,'Standards Female'!E$92:J$103,2,FALSE),'Standards Female'!F$91,IF(I32<=VLOOKUP(L32,'Standards Female'!E$92:J$103,3,FALSE),'Standards Female'!G$91,IF(I32<=VLOOKUP(L32,'Standards Female'!E$92:J$103,4,FALSE),'Standards Female'!H$91,IF(I32<=VLOOKUP(L32,'Standards Female'!E$92:J$103,5,FALSE),'Standards Female'!I$91,IF(I32<=VLOOKUP(L32,'Standards Female'!E$92:J$103,6,FALSE),'Standards Female'!J$91,'Standards Female'!J$91))))) -> Copper | O32: Paul Rees
A33: 2 | B33: Kelly Bamford | C33: =VLOOKUP($B33,$H$2:$J$45,2,FALSE) -> 0.041388889 | D33: =VLOOKUP($B33,$H$2:$J$43,3,FALSE) -> 74 | E33: 7 | G33: 31 | H33: Mike Prasad | I33: 0.046435185 | J33: 70 | K33: =I33/G$1 -> 0.007489546 | L33: =VLOOKUP(H33,Ages!A$1:J$166,10,FALSE) -> 55-59 | M33: =IF(I33<=VLOOKUP(L33,'Standards Female'!E$92:J$103,2,FALSE),'Standards Female'!F$91,IF(I33<=VLOOKUP(L33,'Standards Female'!E$92:J$103,3,FALSE),'Standards Female'!G$91,IF(I33<=VLOOKUP(L33,'Standards Female'!E$92:J$103,4,FALSE),'Standards Female'!H$91,IF(I33<=VLOOKUP(L33,'Standards Female'!E$92:J$103,5,FALSE),'Standards Female'!I$91,IF(I33<=VLOOKUP(L33,'Standards Female'!E$92:J$103,6,FALSE),'Standards Female'!J$91,'Standards Female'!J$91))))) -> Copper | O33: Helen Jenkins
A34: 3 | B34: Eiri Evans-Jones | C34: =VLOOKUP($B34,$H$2:$J$45,2,FALSE) -> 0.042175926 | D34: =VLOOKUP($B34,$H$2:$J$43,3,FALSE) -> 72 | E34: 7 | G34: 32 | H34: David Doherty | I34: 0.046828704 | J34: 69 | K34: =I34/G$1 -> 0.0075530167 | L34: =VLOOKUP(H34,Ages!A$1:J$166,10,FALSE) -> 70-74 | M34: =IF(I34<=VLOOKUP(L34,'Standards Female'!E$92:J$103,2,FALSE),'Standards Female'!F$91,IF(I34<=VLOOKUP(L34,'Standards Female'!E$92:J$103,3,FALSE),'Standards Female'!G$91,IF(I34<=VLOOKUP(L34,'Standards Female'!E$92:J$103,4,FALSE),'Standards Female'!H$91,IF(I34<=VLOOKUP(L34,'Standards Female'!E$92:J$103,5,FALSE),'Standards Female'!I$91,IF(I34<=VLOOKUP(L34,'Standards Female'!E$92:J$103,6,FALSE),'Standards Female'!J$91,'Standards Female'!J$91))))) -> Bronze | O34: Arabella
A35: 4 | B35: Meaghan Jenkins | C35: =VLOOKUP($B35,$H$2:$J$45,2,FALSE) -> 0.048900463 | D35: =VLOOKUP($B35,$H$2:$J$43,3,FALSE) -> 67 | E35: 7 | G35: 33 | H35: Sandra Rees | I35: 0.04712963 | J35: 68 | K35: =I35/G$1 -> 0.0076015532 | L35: =VLOOKUP(H35,Ages!A$1:J$166,10,FALSE) -> 60-64 | M35: =IF(I35<=VLOOKUP(L35,'Standards Female'!E$92:J$103,2,FALSE),'Standards Female'!F$91,IF(I35<=VLOOKUP(L35,'Standards Female'!E$92:J$103,3,FALSE),'Standards Female'!G$91,IF(I35<=VLOOKUP(L35,'Standards Female'!E$92:J$103,4,FALSE),'Standards Female'!H$91,IF(I35<=VLOOKUP(L35,'Standards Female'!E$92:J$103,5,FALSE),'Standards Female'!I$91,IF(I35<=VLOOKUP(L35,'Standards Female'!E$92:J$103,6,FALSE),'Standards Female'!J$91,'Standards Female'!J$91))))) -> Copper | O35: Chris Snary (tail Runner)
A36: 5 | B36: Debbie Gibbs | C36: =VLOOKUP($B36,$H$2:$J$45,2,FALSE) -> 0.051793981 | D36: =VLOOKUP($B36,$H$2:$J$43,3,FALSE) -> 64 | E36: 7 | G36: 34 | H36: Meaghan Jenkins | I36: 0.048900463 | J36: 67 | K36: =I36/G$1 -> 0.0078871714 | L36: =VLOOKUP(H36,Ages!A$1:J$166,10,FALSE) -> 0-34 | M36: =IF(I36<=VLOOKUP(L36,'Standards Female'!E$92:J$103,2,FALSE),'Standards Female'!F$91,IF(I36<=VLOOKUP(L36,'Standards Female'!E$92:J$103,3,FALSE),'Standards Female'!G$91,IF(I36<=VLOOKUP(L36,'Standards Female'!E$92:J$103,4,FALSE),'Standards Female'!H$91,IF(I36<=VLOOKUP(L36,'Standards Female'!E$92:J$103,5,FALSE),'Standards Female'!I$91,IF(I36<=VLOOKUP(L36,'Standards Female'!E$92:J$103,6,FALSE),'Standards Female'!J$91,'Standards Female'!J$91))))) -> Copper
A37: 1 | B37: Manisha Rickards | C37: =VLOOKUP($B37,$H$2:$J$45,2,FALSE) -> 0.044895833 | D37: =VLOOKUP($B37,$H$2:$J$43,3,FALSE) -> 71 | E37: 8 | G37: 35 | H37: Laura Hall | I37: 0.049155093 | J37: 66 | K37: =I37/G$1 -> 0.0079282407 | L37: =VLOOKUP(H37,Ages!A$1:J$166,10,FALSE) -> 60-64 | M37: =IF(I37<=VLOOKUP(L37,'Standards Female'!E$92:J$103,2,FALSE),'Standards Female'!F$91,IF(I37<=VLOOKUP(L37,'Standards Female'!E$92:J$103,3,FALSE),'Standards Female'!G$91,IF(I37<=VLOOKUP(L37,'Standards Female'!E$92:J$103,4,FALSE),'Standards Female'!H$91,IF(I37<=VLOOKUP(L37,'Standards Female'!E$92:J$103,5,FALSE),'Standards Female'!I$91,IF(I37<=VLOOKUP(L37,'Standards Female'!E$92:J$103,6,FALSE),'Standards Female'!J$91,'Standards Female'!J$91))))) -> Copper
A38: 2 | B38: Sandra Rees | C38: =VLOOKUP($B38,$H$2:$J$45,2,FALSE) -> 0.04712963 | D38: =VLOOKUP($B38,$H$2:$J$43,3,FALSE) -> 68 | E38: 8 | G38: 36 | H38: Victoria Holmes | I38: 0.05125 | J38: 65 | K38: =I38/G$1 -> 0.008266129 | L38: =VLOOKUP(H38,Ages!A$1:J$166,10,FALSE) -> 0-34 | M38: =IF(I38<=VLOOKUP(L38,'Standards Male'!E$92:J$103,2,FALSE),'Standards Male'!F$91,IF(I38<=VLOOKUP(L38,'Standards Male'!E$92:J$103,3,FALSE),'Standards Male'!G$91,IF(I38<=VLOOKUP(L38,'Standards Male'!E$92:J$103,4,FALSE),'Standards Male'!H$91,IF(I38<=VLOOKUP(L38,'Standards Male'!E$92:J$103,5,FALSE),'Standards Male'!I$91,IF(I38<=VLOOKUP(L38,'Standards Male'!E$92:J$103,6,FALSE),'Standards Male'!J$91,'Standards Male'!J$91))))) -> Copper
A39: 3 | B39: Victoria Holmes | C39: =VLOOKUP($B39,$H$2:$J$45,2,FALSE) -> 0.05125 | D39: =VLOOKUP($B39,$H$2:$J$43,3,FALSE) -> 65 | E39: 8 | G39: 37 | H39: Debbie Gibbs | I39: 0.051793981 | J39: 64 | K39: =I39/G$1 -> 0.008353868 | L39: =VLOOKUP(H39,Ages!A$1:J$166,10,FALSE) -> 45-49 | M39: =IF(I39<=VLOOKUP(L39,'Standards Female'!E$92:J$103,2,FALSE),'Standards Female'!F$91,IF(I39<=VLOOKUP(L39,'Standards Female'!E$92:J$103,3,FALSE),'Standards Female'!G$91,IF(I39<=VLOOKUP(L39,'Standards Female'!E$92:J$103,4,FALSE),'Standards Female'!H$91,IF(I39<=VLOOKUP(L39,'Standards Female'!E$92:J$103,5,FALSE),'Standards Female'!I$91,IF(I39<=VLOOKUP(L39,'Standards Female'!E$92:J$103,6,FALSE),'Standards Female'!J$91,'Standards Female'!J$91))))) -> Copper
A40: 1 | B40: Laura Hall | C40: =VLOOKUP($B40,$H$2:$J$45,2,FALSE) -> 0.049155093 | D40: =VLOOKUP($B40,$H$2:$J$43,3,FALSE) -> 66 | E40: 9 | G40: 38 | H40: Chris Snary | I40: 0.054803241 | J40: 60 | K40: =I40/G$1 -> 0.0088392324 | L40: =VLOOKUP(H40,Ages!A$1:J$166,10,FALSE) -> 35-39 | M40: =IF(I40<=VLOOKUP(L40,'Standards Female'!E$92:J$103,2,FALSE),'Standards Female'!F$91,IF(I40<=VLOOKUP(L40,'Standards Female'!E$92:J$103,3,FALSE),'Standards Female'!G$91,IF(I40<=VLOOKUP(L40,'Standards Female'!E$92:J$103,4,FALSE),'Standards Female'!H$91,IF(I40<=VLOOKUP(L40,'Standards Female'!E$92:J$103,5,FALSE),'Standards Female'!I$91,IF(I40<=VLOOKUP(L40,'Standards Female'!E$92:J$103,6,FALSE),'Standards Female'!J$91,'Standards Female'!J$91))))) -> Copper
A41: 1 | B41: Sophie Grunhut | C41: =VLOOKUP($B41,$H$2:$J$45,2,FALSE) -> 0.054803241 | D41: =VLOOKUP($B41,$H$2:$J$43,3,FALSE) -> 63 | E41: 10 | G41: 39 | H41: Sophie Grunhut | I41: 0.054803241 | J41: 63 | K41: =I41/G$1 -> 0.0088392324 | L41: =VLOOKUP(H41,Ages!A$1:J$166,10,FALSE) -> 0-34 | M41: =IF(I40<=VLOOKUP(L41,'Standards Female'!E$92:J$103,2,FALSE),'Standards Female'!F$91,IF(I40<=VLOOKUP(L41,'Standards Female'!E$92:J$103,3,FALSE),'Standards Female'!G$91,IF(I40<=VLOOKUP(L41,'Standards Female'!E$92:J$103,4,FALSE),'Standards Female'!H$91,IF(I40<=VLOOKUP(L41,'Standards Female'!E$92:J$103,5,FALSE),'Standards Female'!I$91,IF(I40<=VLOOKUP(L41,'Standards Female'!E$92:J$103,6,FALSE),'Standards Female'!J$91,'Standards Female'!J$91))))) -> Copper
A42: 2 | B42: Fay Sharpe | C42: =VLOOKUP($B42,$H$2:$J$45,2,FALSE) -> 0.054803241 | D42: =VLOOKUP($B42,$H$2:$J$43,3,FALSE) -> 62 | E42: 10 | G42: 40 | H42: Fay Sharpe | I42: 0.054803241 | J42: 62 | K42: =I42/G$1 -> 0.0088392324 | L42: =VLOOKUP(H42,Ages!A$1:J$166,10,FALSE) -> 65-69 | M42: =IF(I41<=VLOOKUP(L42,'Standards Female'!E$92:J$103,2,FALSE),'Standards Female'!F$91,IF(I41<=VLOOKUP(L42,'Standards Female'!E$92:J$103,3,FALSE),'Standards Female'!G$91,IF(I41<=VLOOKUP(L42,'Standards Female'!E$92:J$103,4,FALSE),'Standards Female'!H$91,IF(I41<=VLOOKUP(L42,'Standards Female'!E$92:J$103,5,FALSE),'Standards Female'!I$91,IF(I41<=VLOOKUP(L42,'Standards Female'!E$92:J$103,6,FALSE),'Standards Female'!J$91,'Standards Female'!J$91))))) -> Copper
A43: 3 | B43: Paula Stockley | C43: =VLOOKUP($B43,$H$2:$J$45,2,FALSE) -> 0.069166667 | D43: =VLOOKUP($B43,$H$2:$J$43,3,FALSE) -> 61 | E43: 10 | G43: 41 | H43: Paula Stockley | I43: 0.069166667 | J43: 61 | K43: =I43/G$1 -> 0.011155914 | L43: =VLOOKUP(H43,Ages!A$1:J$166,10,FALSE) -> 45-49 | M43: =IF(I42<=VLOOKUP(L43,'Standards Female'!E$92:J$103,2,FALSE),'Standards Female'!F$91,IF(I42<=VLOOKUP(L43,'Standards Female'!E$92:J$103,3,FALSE),'Standards Female'!G$91,IF(I42<=VLOOKUP(L43,'Standards Female'!E$92:J$103,4,FALSE),'Standards Female'!H$91,IF(I42<=VLOOKUP(L43,'Standards Female'!E$92:J$103,5,FALSE),'Standards Female'!I$91,IF(I42<=VLOOKUP(L43,'Standards Female'!E$92:J$103,6,FALSE),'Standards Female'!J$91,'Standards Female'!J$91))))) -> Copper

Sheet Race 4
A1: Gorseinon Cycle Path | C1: 46295 | G1: 1.875 | H1: mile
A2: Pos | B2: Group Order | C2: Time | D2: Points | E2: Div | G2: Pos | H2: Name | I2: Time | J2: Points | K2: Min per Mile | L2: Cat | M2: Standard | O2: Pos | P2: Ladies Only | Q2: Time
A3: 1 | B3: Chris Pridmore | C3: =VLOOKUP($B3,$H$2:$J$69,2,FALSE) -> 0.0071180556 | D3: =VLOOKUP($B3,$H$2:$J$69,3,FALSE) -> 100 | E3: 1 | G3: 1 | H3: Chris Pridmore | I3: 0.0071180556 | J3: 100 | K3: =I3/G$1 -> 0.0037962963 | L3: =VLOOKUP(H3,Ages!A$1:J$166,10,FALSE) -> 40-44 | M3: =IF(I3<=VLOOKUP(L3,'Standards Male'!E$34:J$45,2,FALSE),'Standards Male'!F$33,IF(I3<=VLOOKUP(L3,'Standards Male'!E$34:J$45,3,FALSE),'Standards Male'!G$33,IF(I3<=VLOOKUP(L3,'Standards Male'!E$34:J$45,4,FALSE),'Standards Male'!H$33,IF(I3<=VLOOKUP(L3,'Standards Male'!E$34:J$45,5,FALSE),'Standards Male'!I$33,IF(I3<=VLOOKUP(L3,'Standards Male'!E$34:J$45,6,FALSE),'Standards Male'!J$33,'Standards Male'!J$33))))) -> Gold | O3: 1 | P3: Katie Williams | Q3: 0.0083564815
A4: 2 | B4: Gareth Parry | C4: =VLOOKUP($B4,$H$2:$J$69,2,FALSE) -> 0.0075462963 | D4: =VLOOKUP($B4,$H$2:$J$69,3,FALSE) -> 99 | E4: 1 | G4: 2 | H4: Gareth Parry | I4: 0.0075462963 | J4: 99 | K4: =I4/G$1 -> 0.0040246914 | L4: =VLOOKUP(H4,Ages!A$1:J$166,10,FALSE) -> 45-49 | M4: =IF(I4<=VLOOKUP(L4,'Standards Male'!E$34:J$45,2,FALSE),'Standards Male'!F$33,IF(I4<=VLOOKUP(L4,'Standards Male'!E$34:J$45,3,FALSE),'Standards Male'!G$33,IF(I4<=VLOOKUP(L4,'Standards Male'!E$34:J$45,4,FALSE),'Standards Male'!H$33,IF(I4<=VLOOKUP(L4,'Standards Male'!E$34:J$45,5,FALSE),'Standards Male'!I$33,IF(I4<=VLOOKUP(L4,'Standards Male'!E$34:J$45,6,FALSE),'Standards Male'!J$33,'Standards Male'!J$33))))) -> Gold | O4: 2 | P4: Laura Gilbert | Q4: 0.0093981481
A5: 3 | B5: Ashley Pascoe | C5: =VLOOKUP($B5,$H$2:$J$69,2,FALSE) -> 0.0077430556 | D5: =VLOOKUP($B5,$H$2:$J$69,3,FALSE) -> 98 | E5: 1 | G5: 3 | H5: Ashley Pascoe | I5: 0.0077430556 | J5: 98 | K5: =I5/G$1 -> 0.0041296296 | L5: =VLOOKUP(H5,Ages!A$1:J$166,10,FALSE) -> 50-54 | M5: =IF(I5<=VLOOKUP(L5,'Standards Male'!E$34:J$45,2,FALSE),'Standards Male'!F$33,IF(I5<=VLOOKUP(L5,'Standards Male'!E$34:J$45,3,FALSE),'Standards Male'!G$33,IF(I5<=VLOOKUP(L5,'Standards Male'!E$34:J$45,4,FALSE),'Standards Male'!H$33,IF(I5<=VLOOKUP(L5,'Standards Male'!E$34:J$45,5,FALSE),'Standards Male'!I$33,IF(I5<=VLOOKUP(L5,'Standards Male'!E$34:J$45,6,FALSE),'Standards Male'!J$33,'Standards Male'!J$33))))) -> Gold | O5: 3 | P5: Michelle Grey | Q5: 0.0094791667
A6: 4 | B6: Justin Sperrin | C6: =VLOOKUP($B6,$H$2:$J$69,2,FALSE) -> 0.0079282407 | D6: =VLOOKUP($B6,$H$2:$J$69,3,FALSE) -> 97 | E6: 1 | G6: 4 | H6: Justin Sperrin | I6: 0.0079282407 | J6: 97 | K6: =I6/G$1 -> 0.0042283951 | L6: =VLOOKUP(H6,Ages!A$1:J$166,10,FALSE) -> 0-34 | M6: =IF(I6<=VLOOKUP(L6,'Standards Male'!E$34:J$45,2,FALSE),'Standards Male'!F$33,IF(I6<=VLOOKUP(L6,'Standards Male'!E$34:J$45,3,FALSE),'Standards Male'!G$33,IF(I6<=VLOOKUP(L6,'Standards Male'!E$34:J$45,4,FALSE),'Standards Male'!H$33,IF(I6<=VLOOKUP(L6,'Standards Male'!E$34:J$45,5,FALSE),'Standards Male'!I$33,IF(I6<=VLOOKUP(L6,'Standards Male'!E$34:J$45,6,FALSE),'Standards Male'!J$33,'Standards Male'!J$33))))) -> Bronze | O6: 4 | P6: Emily Thomas | Q6: 0.0098726852
A7: 5 | B7: Aron Jones | C7: =VLOOKUP($B7,$H$2:$J$69,2,FALSE) -> 0.0080324074 | D7: =VLOOKUP($B7,$H$2:$J$69,3,FALSE) -> 96 | E7: 1 | G7: 5 | H7: Aron Jones | I7: 0.0080324074 | J7: 96 | K7: =I7/G$1 -> 0.0042839506 | L7: =VLOOKUP(H7,Ages!A$1:J$166,10,FALSE) -> 40-44 | M7: =IF(I7<=VLOOKUP(L7,'Standards Male'!E$34:J$45,2,FALSE),'Standards Male'!F$33,IF(I7<=VLOOKUP(L7,'Standards Male'!E$34:J$45,3,FALSE),'Standards Male'!G$33,IF(I7<=VLOOKUP(L7,'Standards Male'!E$34:J$45,4,FALSE),'Standards Male'!H$33,IF(I7<=VLOOKUP(L7,'Standards Male'!E$34:J$45,5,FALSE),'Standards Male'!I$33,IF(I7<=VLOOKUP(L7,'Standards Male'!E$34:J$45,6,FALSE),'Standards Male'!J$33,'Standards Male'!J$33))))) -> Silver | O7: 5 | P7: Clare Baxter | Q7: 0.0099537037
A8: 6 | B8: Dan Evans | C8: =VLOOKUP($B8,$H$2:$J$69,2,FALSE) -> 0.0083101852 | D8: =VLOOKUP($B8,$H$2:$J$69,3,FALSE) -> 95 | E8: 1 | G8: 6 | H8: Dan Evans | I8: 0.0083101852 | J8: 95 | K8: =I8/G$1 -> 0.0044320988 | L8: =VLOOKUP(H8,Ages!A$1:J$166,10,FALSE) -> 35-39 | M8: =IF(I8<=VLOOKUP(L8,'Standards Male'!E$34:J$45,2,FALSE),'Standards Male'!F$33,IF(I8<=VLOOKUP(L8,'Standards Male'!E$34:J$45,3,FALSE),'Standards Male'!G$33,IF(I8<=VLOOKUP(L8,'Standards Male'!E$34:J$45,4,FALSE),'Standards Male'!H$33,IF(I8<=VLOOKUP(L8,'Standards Male'!E$34:J$45,5,FALSE),'Standards Male'!I$33,IF(I8<=VLOOKUP(L8,'Standards Male'!E$34:J$45,6,FALSE),'Standards Male'!J$33,'Standards Male'!J$33))))) -> Bronze | O8: 6 | P8: Diane Ridgeway | Q8: 0.010011574
A9: 1 | B9: Katie Williams | C9: =VLOOKUP($B9,$H$2:$J$69,2,FALSE) -> 0.0083564815 | D9: =VLOOKUP($B9,$H$2:$J$69,3,FALSE) -> 94 | E9: 2 | G9: 7 | H9: Katie Williams | I9: 0.0083564815 | J9: 94 | K9: =I9/G$1 -> 0.0044567901 | L9: =VLOOKUP(H9,Ages!A$1:J$166,10,FALSE) -> 45-49 | M9: =IF(I9<=VLOOKUP(L9,'Standards Female'!E$34:J$45,2,FALSE),'Standards Female'!F$33,IF(I9<=VLOOKUP(L9,'Standards Female'!E$34:J$45,3,FALSE),'Standards Female'!G$33,IF(I9<=VLOOKUP(L9,'Standards Female'!E$34:J$45,4,FALSE),'Standards Female'!H$33,IF(I9<=VLOOKUP(L9,'Standards Female'!E$34:J$45,5,FALSE),'Standards Female'!I$33,IF(I9<=VLOOKUP(L9,'Standards Male'!E$34:J$45,6,FALSE),'Standards Female'!J$33,'Standards Female'!J$33))))) -> Gold | O9: 7 | P9: Caroline Sandles | Q9: 0.010127315
A10: 2 | B10: Mark Bamford | C10: =VLOOKUP($B10,$H$2:$J$69,2,FALSE) -> 0.0084143519 | D10: =VLOOKUP($B10,$H$2:$J$69,3,FALSE) -> 93 | E10: 2 | G10: 8 | H10: Mark Bamford | I10: 0.0084143519 | J10: 93 | K10: =I10/G$1 -> 0.0044876543 | L10: =VLOOKUP(H10,Ages!A$1:J$166,10,FALSE) -> 50-54 | M10: =IF(I10<=VLOOKUP(L10,'Standards Male'!E$34:J$45,2,FALSE),'Standards Male'!F$33,IF(I10<=VLOOKUP(L10,'Standards Male'!E$34:J$45,3,FALSE),'Standards Male'!G$33,IF(I10<=VLOOKUP(L10,'Standards Male'!E$34:J$45,4,FALSE),'Standards Male'!H$33,IF(I10<=VLOOKUP(L10,'Standards Male'!E$34:J$45,5,FALSE),'Standards Male'!I$33,IF(I10<=VLOOKUP(L10,'Standards Male'!E$34:J$45,6,FALSE),'Standards Male'!J$33,'Standards Male'!J$33))))) -> Silver | O10: 8 | P10: Fran Newman | Q10: 0.010162037
A11: 3 | B11: Rob Sandles | C11: =VLOOKUP($B11,$H$2:$J$69,2,FALSE) -> 0.0087037037 | D11: =VLOOKUP($B11,$H$2:$J$69,3,FALSE) -> 92 | E11: 2 | G11: 9 | H11: Rob Sandles | I11: 0.0087037037 | J11: 92 | K11: =I11/G$1 -> 0.0046419753 | L11: =VLOOKUP(H11,Ages!A$1:J$166,10,FALSE) -> 60-64 | M11: =IF(I11<=VLOOKUP(L11,'Standards Male'!E$34:J$45,2,FALSE),'Standards Male'!F$33,IF(I11<=VLOOKUP(L11,'Standards Male'!E$34:J$45,3,FALSE),'Standards Male'!G$33,IF(I11<=VLOOKUP(L11,'Standards Male'!E$34:J$45,4,FALSE),'Standards Male'!H$33,IF(I11<=VLOOKUP(L11,'Standards Male'!E$34:J$45,5,FALSE),'Standards Male'!I$33,IF(I11<=VLOOKUP(L11,'Standards Male'!E$34:J$45,6,FALSE),'Standards Male'!J$33,'Standards Male'!J$33))))) -> Gold | O11: 9 | P11: Julie Archer | Q11: 0.010289352
A12: 4 | B12: Gavin Davies | C12: =VLOOKUP($B12,$H$2:$J$69,2,FALSE) -> 0.0087615741 | D12: =VLOOKUP($B12,$H$2:$J$69,3,FALSE) -> 91 | E12: 2 | G12: 10 | H12: Gavin Davies | I12: 0.0087615741 | J12: 91 | K12: =I12/G$1 -> 0.0046728395 | L12: =VLOOKUP(H12,Ages!A$1:J$166,10,FALSE) -> 60-64 | M12: =IF(I12<=VLOOKUP(L12,'Standards Male'!E$34:J$45,2,FALSE),'Standards Male'!F$33,IF(I12<=VLOOKUP(L12,'Standards Male'!E$34:J$45,3,FALSE),'Standards Male'!G$33,IF(I12<=VLOOKUP(L12,'Standards Male'!E$34:J$45,4,FALSE),'Standards Male'!H$33,IF(I12<=VLOOKUP(L12,'Standards Male'!E$34:J$45,5,FALSE),'Standards Male'!I$33,IF(I12<=VLOOKUP(L12,'Standards Male'!E$34:J$45,6,FALSE),'Standards Male'!J$33,'Standards Male'!J$33))))) -> Gold | O12: 10 | P12: Jenny Stanford | Q12: 0.010358796
A13: 5 | B13: Chris Snary | C13: =VLOOKUP($B13,$H$2:$J$69,2,FALSE) -> 0.0092708333 | D13: =VLOOKUP($B13,$H$2:$J$69,3,FALSE) -> 88 | E13: 2 | G13: 11 | H13: Sean Morgans | I13: 0.0089467593 | J13: 90 | K13: =I13/G$1 -> 0.0047716049 | L13: =VLOOKUP(H13,Ages!A$1:J$166,10,FALSE) -> 55-59 | M13: =IF(I13<=VLOOKUP(L13,'Standards Male'!E$34:J$45,2,FALSE),'Standards Male'!F$33,IF(I13<=VLOOKUP(L13,'Standards Male'!E$34:J$45,3,FALSE),'Standards Male'!G$33,IF(I13<=VLOOKUP(L13,'Standards Male'!E$34:J$45,4,FALSE),'Standards Male'!H$33,IF(I13<=VLOOKUP(L13,'Standards Male'!E$34:J$45,5,FALSE),'Standards Male'!I$33,IF(I13<=VLOOKUP(L13,'Standards Male'!E$34:J$45,6,FALSE),'Standards Male'!J$33,'Standards Male'!J$33))))) -> Silver | O13: 11 | P13: Sharon Trotman | Q13: 0.01056713
A14: 1 | B14: Sean Morgans | C14: =VLOOKUP($B14,$H$2:$J$69,2,FALSE) -> 0.0089467593 | D14: =VLOOKUP($B14,$H$2:$J$69,3,FALSE) -> 90 | E14: 3 | G14: 12 | H14: Stuart Davies | I14: 0.0091782407 | J14: 89 | K14: =I14/G$1 -> 0.0048950617 | L14: =VLOOKUP(H14,Ages!A$1:J$166,10,FALSE) -> 45-49 | M14: =IF(I14<=VLOOKUP(L14,'Standards Male'!E$34:J$45,2,FALSE),'Standards Male'!F$33,IF(I14<=VLOOKUP(L14,'Standards Male'!E$34:J$45,3,FALSE),'Standards Male'!G$33,IF(I14<=VLOOKUP(L14,'Standards Male'!E$34:J$45,4,FALSE),'Standards Male'!H$33,IF(I14<=VLOOKUP(L14,'Standards Male'!E$34:J$45,5,FALSE),'Standards Male'!I$33,IF(I14<=VLOOKUP(L14,'Standards Male'!E$34:J$45,6,FALSE),'Standards Male'!J$33,'Standards Male'!J$33))))) -> Bronze | O14: 12 | P14: Jia Ping Lee | Q14: 0.010347222
A15: 2 | B15: Stuart Davies | C15: =VLOOKUP($B15,$H$2:$J$69,2,FALSE) -> 0.0091782407 | D15: =VLOOKUP($B15,$H$2:$J$69,3,FALSE) -> 89 | E15: 3 | G15: 13 | H15: Chris Snary | I15: 0.0092708333 | J15: 88 | K15: =I15/G$1 -> 0.0049444444 | L15: =VLOOKUP(H15,Ages!A$1:J$166,10,FALSE) -> 35-39 | M15: =IF(I15<=VLOOKUP(L15,'Standards Male'!E$34:J$45,2,FALSE),'Standards Male'!F$33,IF(I15<=VLOOKUP(L15,'Standards Male'!E$34:J$45,3,FALSE),'Standards Male'!G$33,IF(I15<=VLOOKUP(L15,'Standards Male'!E$34:J$45,4,FALSE),'Standards Male'!H$33,IF(I15<=VLOOKUP(L15,'Standards Male'!E$34:J$45,5,FALSE),'Standards Male'!I$33,IF(I15<=VLOOKUP(L15,'Standards Male'!E$34:J$45,6,FALSE),'Standards Male'!J$33,'Standards Male'!J$33))))) -> Copper | O15: 13 | P15: Michelle Thomas-Luisi | Q15: 0.010821759
A16: 3 | B16: Hans Thompson | C16: =VLOOKUP($B16,$H$2:$J$69,2,FALSE) -> 0.0093634259 | D16: =VLOOKUP($B16,$H$2:$J$69,3,FALSE) -> 86 | E16: 3 | G16: 14 | H16: Peter Clement | I16: 0.0092824074 | J16: 87 | K16: =I16/G$1 -> 0.0049506173 | L16: =VLOOKUP(H16,Ages!A$1:J$166,10,FALSE) -> 60-64 | M16: =IF(I16<=VLOOKUP(L16,'Standards Male'!E$34:J$45,2,FALSE),'Standards Male'!F$33,IF(I16<=VLOOKUP(L16,'Standards Male'!E$34:J$45,3,FALSE),'Standards Male'!G$33,IF(I16<=VLOOKUP(L16,'Standards Male'!E$34:J$45,4,FALSE),'Standards Male'!H$33,IF(I16<=VLOOKUP(L16,'Standards Male'!E$34:J$45,5,FALSE),'Standards Male'!I$33,IF(I16<=VLOOKUP(L16,'Standards Male'!E$34:J$45,6,FALSE),'Standards Male'!J$33,'Standards Male'!J$33))))) -> Silver | O16: 14 | P16: Louise Steer | Q16: 0.010335648
A17: 4 | B17: Laura Gilbert | C17: =VLOOKUP($B17,$H$2:$J$69,2,FALSE) -> 0.0093981481 | D17: =VLOOKUP($B17,$H$2:$J$69,3,FALSE) -> 85 | E17: 3 | G17: 15 | H17: Hans Thompson | I17: 0.0093634259 | J17: 86 | K17: =I17/G$1 -> 0.0049938272 | L17: =VLOOKUP(H17,Ages!A$1:J$166,10,FALSE) -> 70-74 | M17: =IF(I17<=VLOOKUP(L17,'Standards Male'!E$34:J$45,2,FALSE),'Standards Male'!F$33,IF(I17<=VLOOKUP(L17,'Standards Male'!E$34:J$45,3,FALSE),'Standards Male'!G$33,IF(I17<=VLOOKUP(L17,'Standards Male'!E$34:J$45,4,FALSE),'Standards Male'!H$33,IF(I17<=VLOOKUP(L17,'Standards Male'!E$34:J$45,5,FALSE),'Standards Male'!I$33,IF(I17<=VLOOKUP(L17,'Standards Male'!E$34:J$45,6,FALSE),'Standards Male'!J$33,'Standards Male'!J$33))))) -> Gold | O17: 15 | P17: Eiri Evans-Jones | Q17: 0.010949074
A18: 5 | B18: Michelle Grey | C18: =VLOOKUP($B18,$H$2:$J$69,2,FALSE) -> 0.0094791667 | D18: =VLOOKUP($B18,$H$2:$J$69,3,FALSE) -> 84 | E18: 3 | G18: 16 | H18: Laura Gilbert | I18: 0.0093981481 | J18: 85 | K18: =I18/G$1 -> 0.0050123457 | L18: =VLOOKUP(H18,Ages!A$1:J$166,10,FALSE) -> 35-39 | M18: =IF(I18<=VLOOKUP(L18,'Standards Male'!E$34:J$45,2,FALSE),'Standards Male'!F$33,IF(I18<=VLOOKUP(L18,'Standards Male'!E$34:J$45,3,FALSE),'Standards Male'!G$33,IF(I18<=VLOOKUP(L18,'Standards Male'!E$34:J$45,4,FALSE),'Standards Male'!H$33,IF(I18<=VLOOKUP(L18,'Standards Male'!E$34:J$45,5,FALSE),'Standards Male'!I$33,IF(I18<=VLOOKUP(L18,'Standards Male'!E$34:J$45,6,FALSE),'Standards Male'!J$33,'Standards Male'!J$33))))) -> Copper | O18: 16 | P18: Kelly Bamford | Q18: 0.011238426
A19: 6 | B19: Cris Arnold | C19: =VLOOKUP($B19,$H$2:$J$69,2,FALSE) -> 0.0096643519 | D19: =VLOOKUP($B19,$H$2:$J$69,3,FALSE) -> 82 | E19: 3 | G19: 17 | H19: Michelle Grey | I19: 0.0094791667 | J19: 84 | K19: =I19/G$1 -> 0.0050555556 | L19: =VLOOKUP(H19,Ages!A$1:J$166,10,FALSE) -> 45-49 | M19: =IF(I19<=VLOOKUP(L19,'Standards Male'!E$34:J$45,2,FALSE),'Standards Male'!F$33,IF(I19<=VLOOKUP(L19,'Standards Male'!E$34:J$45,3,FALSE),'Standards Male'!G$33,IF(I19<=VLOOKUP(L19,'Standards Male'!E$34:J$45,4,FALSE),'Standards Male'!H$33,IF(I19<=VLOOKUP(L19,'Standards Male'!E$34:J$45,5,FALSE),'Standards Male'!I$33,IF(I19<=VLOOKUP(L19,'Standards Male'!E$34:J$45,6,FALSE),'Standards Male'!J$33,'Standards Male'!J$33))))) -> Copper | O19: 17 | P19: Debbie Gibbs | Q19: 0.011631944
A20: 1 | B20: Peter Clement | C20: =VLOOKUP($B20,$H$2:$J$69,2,FALSE) -> 0.0092824074 | D20: =VLOOKUP($B20,$H$2:$J$69,3,FALSE) -> 87 | E20: 4 | G20: 18 | H20: Sam Grunhut | I20: 0.0095601852 | J20: 83 | K20: =I20/G$1 -> 0.0050987654 | L20: =VLOOKUP(H20,Ages!A$1:J$166,10,FALSE) -> 0-34 | M20: =IF(I20<=VLOOKUP(L20,'Standards Male'!E$34:J$45,2,FALSE),'Standards Male'!F$33,IF(I20<=VLOOKUP(L20,'Standards Male'!E$34:J$45,3,FALSE),'Standards Male'!G$33,IF(I20<=VLOOKUP(L20,'Standards Male'!E$34:J$45,4,FALSE),'Standards Male'!H$33,IF(I20<=VLOOKUP(L20,'Standards Male'!E$34:J$45,5,FALSE),'Standards Male'!I$33,IF(I20<=VLOOKUP(L20,'Standards Male'!E$34:J$45,6,FALSE),'Standards Male'!J$33,'Standards Male'!J$33))))) -> Copper | O20: 18 | P20: Saran Lewis | Q20: 0.011724537
A21: 2 | B21: Sam Grunhut | C21: =VLOOKUP($B21,$H$2:$J$69,2,FALSE) -> 0.0095601852 | D21: =VLOOKUP($B21,$H$2:$J$69,3,FALSE) -> 83 | E21: 4 | G21: 19 | H21: Cris Arnold | I21: 0.0096643519 | J21: 82 | K21: =I21/G$1 -> 0.005154321 | L21: =VLOOKUP(H21,Ages!A$1:J$166,10,FALSE) -> 60-64 | M21: =IF(I21<=VLOOKUP(L21,'Standards Male'!E$34:J$45,2,FALSE),'Standards Male'!F$33,IF(I21<=VLOOKUP(L21,'Standards Male'!E$34:J$45,3,FALSE),'Standards Male'!G$33,IF(I21<=VLOOKUP(L21,'Standards Male'!E$34:J$45,4,FALSE),'Standards Male'!H$33,IF(I21<=VLOOKUP(L21,'Standards Male'!E$34:J$45,5,FALSE),'Standards Male'!I$33,IF(I21<=VLOOKUP(L21,'Standards Male'!E$34:J$45,6,FALSE),'Standards Male'!J$33,'Standards Male'!J$33))))) -> Silver | O21: 19 | P21: Kirsty Moors | Q21: 0.012430556
... A28: 3 | B28: Ed Davies | C28: =VLOOKUP($B28,$H$2:$J$69,2,FALSE) -> 0.010219907 | D28: =VLOOKUP($B28,$H$2:$J$69,3,FALSE) -> 75 | E28: 5 | G28: 26 | H28: Ed Davies | I28: 0.010219907 | J28: 75 | K28: =I28/G$1 -> 0.0054506173 | L28: =VLOOKUP(H28,Ages!A$1:J$166,10,FALSE) -> 60-64 | M28: =IF(I28<=VLOOKUP(L28,'Standards Male'!E$34:J$45,2,FALSE),'Standards Male'!F$33,IF(I28<=VLOOKUP(L28,'Standards Male'!E$34:J$45,3,FALSE),'Standards Male'!G$33,IF(I28<=VLOOKUP(L28,'Standards Male'!E$34:J$45,4,FALSE),'Standards Male'!H$33,IF(I28<=VLOOKUP(L28,'Standards Male'!E$34:J$45,5,FALSE),'Standards Male'!I$33,IF(I28<=VLOOKUP(L28,'Standards Male'!E$34:J$45,6,FALSE),'Standards Male'!J$33,'Standards Male'!J$33))))) -> Bronze | O28: 22 | P28: Frances Ratcliff | Q28: 0.014259259
A29: 4 | B29: Julie Archer | C29: =VLOOKUP($B29,$H$2:$J$69,2,FALSE) -> 0.010289352 | D29: =VLOOKUP($B29,$H$2:$J$69,3,FALSE) -> 74 | E29: 5 | G29: 27 | H29: Julie Archer | I29: 0.010289352 | J29: 74 | K29: =I29/G$1 -> 0.0054876543 | L29: =VLOOKUP(H29,Ages!A$1:J$166,10,FALSE) -> 55-59 | M29: =IF(I29<=VLOOKUP(L29,'Standards Male'!E$34:J$45,2,FALSE),'Standards Male'!F$33,IF(I29<=VLOOKUP(L29,'Standards Male'!E$34:J$45,3,FALSE),'Standards Male'!G$33,IF(I29<=VLOOKUP(L29,'Standards Male'!E$34:J$45,4,FALSE),'Standards Male'!H$33,IF(I29<=VLOOKUP(L29,'Standards Male'!E$34:J$45,5,FALSE),'Standards Male'!I$33,IF(I29<=VLOOKUP(L29,'Standards Male'!E$34:J$45,6,FALSE),'Standards Male'!J$33,'Standards Male'!J$33))))) -> Copper
A30: 5 | B30: Jenny Stanford | C30: =VLOOKUP($B30,$H$2:$J$69,2,FALSE) -> 0.010358796 | D30: =VLOOKUP($B30,$H$2:$J$69,3,FALSE) -> 71 | E30: 5 | G30: 28 | H30: Louise Steer | I30: 0.010335648 | J30: 73 | K30: =I30/G$1 -> 0.0055123457 | L30: =VLOOKUP(H30,Ages!A$1:J$166,10,FALSE) -> 45-49 | M30: =IF(I30<=VLOOKUP(L30,'Standards Male'!E$34:J$45,2,FALSE),'Standards Male'!F$33,IF(I30<=VLOOKUP(L30,'Standards Male'!E$34:J$45,3,FALSE),'Standards Male'!G$33,IF(I30<=VLOOKUP(L30,'Standards Male'!E$34:J$45,4,FALSE),'Standards Male'!H$33,IF(I30<=VLOOKUP(L30,'Standards Male'!E$34:J$45,5,FALSE),'Standards Male'!I$33,IF(I30<=VLOOKUP(L30,'Standards Male'!E$34:J$45,6,FALSE),'Standards Male'!J$33,'Standards Male'!J$33))))) -> Copper | P30: Marshals
A31: 6 | B31: Sharon Trotman | C31: =VLOOKUP($B31,$H$2:$J$69,2,FALSE) -> 0.01056713 | D31: =VLOOKUP($B31,$H$2:$J$69,3,FALSE) -> 70 | E31: 5 | G31: 29 | H31: Jia Ping Lee | I31: 0.010347222 | J31: 72 | K31: =I31/G$1 -> 0.0055185185 | L31: =VLOOKUP(H31,Ages!A$1:J$166,10,FALSE) -> 0-34 | M31: =IF(I31<=VLOOKUP(L31,'Standards Male'!E$34:J$45,2,FALSE),'Standards Male'!F$33,IF(I31<=VLOOKUP(L31,'Standards Male'!E$34:J$45,3,FALSE),'Standards Male'!G$33,IF(I31<=VLOOKUP(L31,'Standards Male'!E$34:J$45,4,FALSE),'Standards Male'!H$33,IF(I31<=VLOOKUP(L31,'Standards Male'!E$34:J$45,5,FALSE),'Standards Male'!I$33,IF(I31<=VLOOKUP(L31,'Standards Male'!E$34:J$45,6,FALSE),'Standards Male'!J$33,'Standards Male'!J$33))))) -> Copper | P31: Fay (Organiser)
A32: 1 | B32: Jia Ping Lee | C32: =VLOOKUP($B32,$H$2:$J$69,2,FALSE) -> 0.010347222 | D32: =VLOOKUP($B32,$H$2:$J$69,3,FALSE) -> 72 | E32: 6 | G32: 30 | H32: Jenny Stanford | I32: 0.010358796 | J32: 71 | K32: =I32/G$1 -> 0.0055246914 | L32: =VLOOKUP(H32,Ages!A$1:J$166,10,FALSE) -> 40-44 | M32: =IF(I32<=VLOOKUP(L32,'Standards Male'!E$34:J$45,2,FALSE),'Standards Male'!F$33,IF(I32<=VLOOKUP(L32,'Standards Male'!E$34:J$45,3,FALSE),'Standards Male'!G$33,IF(I32<=VLOOKUP(L32,'Standards Male'!E$34:J$45,4,FALSE),'Standards Male'!H$33,IF(I32<=VLOOKUP(L32,'Standards Male'!E$34:J$45,5,FALSE),'Standards Male'!I$33,IF(I32<=VLOOKUP(L32,'Standards Male'!E$34:J$45,6,FALSE),'Standards Male'!J$33,'Standards Male'!J$33))))) -> Copper | P32: Ian Bamford
A33: 2 | B33: Michelle Thomas-Luisi | C33: =VLOOKUP($B33,$H$2:$J$69,2,FALSE) -> 0.010821759 | D33: =VLOOKUP($B33,$H$2:$J$69,3,FALSE) -> 69 | E33: 6 | G33: 31 | H33: Sharon Trotman | I33: 0.01056713 | J33: 70 | K33: =I33/G$1 -> 0.0056358025 | L33: =VLOOKUP(H33,Ages!A$1:J$166,10,FALSE) -> 55-59 | M33: =IF(I33<=VLOOKUP(L33,'Standards Male'!E$34:J$45,2,FALSE),'Standards Male'!F$33,IF(I33<=VLOOKUP(L33,'Standards Male'!E$34:J$45,3,FALSE),'Standards Male'!G$33,IF(I33<=VLOOKUP(L33,'Standards Male'!E$34:J$45,4,FALSE),'Standards Male'!H$33,IF(I33<=VLOOKUP(L33,'Standards Male'!E$34:J$45,5,FALSE),'Standards Male'!I$33,IF(I33<=VLOOKUP(L33,'Standards Male'!E$34:J$45,6,FALSE),'Standards Male'!J$33,'Standards Male'!J$33))))) -> Copper | P33: Meinir Jones
A34: 3 | B34: Leighton Jones | C34: =VLOOKUP($B34,$H$2:$J$69,2,FALSE) -> 0.011215278 | D34: =VLOOKUP($B34,$H$2:$J$69,3,FALSE) -> 67 | E34: 6 | G34: 32 | H34: Michelle Thomas-Luisi | I34: 0.010821759 | J34: 69 | K34: =I34/G$1 -> 0.0057716049 | L34: =VLOOKUP(H34,Ages!A$1:J$166,10,FALSE) -> 55-59 | M34: =IF(I34<=VLOOKUP(L34,'Standards Male'!E$34:J$45,2,FALSE),'Standards Male'!F$33,IF(I34<=VLOOKUP(L34,'Standards Male'!E$34:J$45,3,FALSE),'Standards Male'!G$33,IF(I34<=VLOOKUP(L34,'Standards Male'!E$34:J$45,4,FALSE),'Standards Male'!H$33,IF(I34<=VLOOKUP(L34,'Standards Male'!E$34:J$45,5,FALSE),'Standards Male'!I$33,IF(I34<=VLOOKUP(L34,'Standards Male'!E$34:J$45,6,FALSE),'Standards Male'!J$33,'Standards Male'!J$33))))) -> Copper | P34: Nicola Julian
A35: 4 | B35: David Doherty | C35: =VLOOKUP($B35,$H$2:$J$69,2,FALSE) -> 0.011435185 | D35: =VLOOKUP($B35,$H$2:$J$69,3,FALSE) -> 65 | E35: 6 | G35: 33 | H35: Eiri Evans-Jones | I35: 0.010949074 | J35: 68 | K35: =I35/G$1 -> 0.0058395062 | L35: =VLOOKUP(H35,Ages!A$1:J$166,10,FALSE) -> 45-49 | M35: =IF(I35<=VLOOKUP(L35,'Standards Male'!E$34:J$45,2,FALSE),'Standards Male'!F$33,IF(I35<=VLOOKUP(L35,'Standards Male'!E$34:J$45,3,FALSE),'Standards Male'!G$33,IF(I35<=VLOOKUP(L35,'Standards Male'!E$34:J$45,4,FALSE),'Standards Male'!H$33,IF(I35<=VLOOKUP(L35,'Standards Male'!E$34:J$45,5,FALSE),'Standards Male'!I$33,IF(I35<=VLOOKUP(L35,'Standards Male'!E$34:J$45,6,FALSE),'Standards Male'!J$33,'Standards Male'!J$33))))) -> Copper | P35: Christina Smith
A36: 5 | B36: Steve McLelland | C36: =VLOOKUP($B36,$H$2:$J$69,2,FALSE) -> 0.011574074 | D36: =VLOOKUP($B36,$H$2:$J$69,3,FALSE) -> 63 | E36: 6 | G36: 34 | H36: Leighton Jones | I36: 0.011215278 | J36: 67 | K36: =I36/G$1 -> 0.0059814815 | L36: =VLOOKUP(H36,Ages!A$1:J$166,10,FALSE) -> 75-79 | M36: =IF(I36<=VLOOKUP(L36,'Standards Male'!E$34:J$45,2,FALSE),'Standards Male'!F$33,IF(I36<=VLOOKUP(L36,'Standards Male'!E$34:J$45,3,FALSE),'Standards Male'!G$33,IF(I36<=VLOOKUP(L36,'Standards Male'!E$34:J$45,4,FALSE),'Standards Male'!H$33,IF(I36<=VLOOKUP(L36,'Standards Male'!E$34:J$45,5,FALSE),'Standards Male'!I$33,IF(I36<=VLOOKUP(L36,'Standards Male'!E$34:J$45,6,FALSE),'Standards Male'!J$33,'Standards Male'!J$33))))) -> Silver | P36: Arabella Llewelyn
A37: 1 | B37: Louise Steer | C37: =VLOOKUP($B37,$H$2:$J$69,2,FALSE) -> 0.010335648 | D37: =VLOOKUP($B37,$H$2:$J$69,3,FALSE) -> 73 | E37: 7 | G37: 35 | H37: Kelly Bamford | I37: 0.011238426 | J37: 66 | K37: =I37/G$1 -> 0.0059938272 | L37: =VLOOKUP(H37,Ages!A$1:J$166,10,FALSE) -> 45-49 | M37: =IF(I37<=VLOOKUP(L37,'Standards Male'!E$34:J$45,2,FALSE),'Standards Male'!F$33,IF(I37<=VLOOKUP(L37,'Standards Male'!E$34:J$45,3,FALSE),'Standards Male'!G$33,IF(I37<=VLOOKUP(L37,'Standards Male'!E$34:J$45,4,FALSE),'Standards Male'!H$33,IF(I37<=VLOOKUP(L37,'Standards Male'!E$34:J$45,5,FALSE),'Standards Male'!I$33,IF(I37<=VLOOKUP(L37,'Standards Male'!E$34:J$45,6,FALSE),'Standards Male'!J$33,'Standards Male'!J$33))))) -> Copper | P37: Steve Jones (tail runner)
A38: 2 | B38: Eiri Evans-Jones | C38: =VLOOKUP($B38,$H$2:$J$69,2,FALSE) -> 0.010949074 | D38: =VLOOKUP($B38,$H$2:$J$69,3,FALSE) -> 68 | E38: 7 | G38: 36 | H38: David Doherty | I38: 0.011435185 | J38: 65 | K38: =I38/G$1 -> 0.0060987654 | L38: =VLOOKUP(H38,Ages!A$1:J$166,10,FALSE) -> 70-74 | M38: =IF(I38<=VLOOKUP(L38,'Standards Male'!E$34:J$45,2,FALSE),'Standards Male'!F$33,IF(I38<=VLOOKUP(L38,'Standards Male'!E$34:J$45,3,FALSE),'Standards Male'!G$33,IF(I38<=VLOOKUP(L38,'Standards Male'!E$34:J$45,4,FALSE),'Standards Male'!H$33,IF(I38<=VLOOKUP(L38,'Standards Male'!E$34:J$45,5,FALSE),'Standards Male'!I$33,IF(I38<=VLOOKUP(L38,'Standards Male'!E$34:J$45,6,FALSE),'Standards Male'!J$33,'Standards Male'!J$33))))) -> Bronze
A39: 3 | B39: Kelly Bamford | C39: =VLOOKUP($B39,$H$2:$J$69,2,FALSE) -> 0.011238426 | D39: =VLOOKUP($B39,$H$2:$J$69,3,FALSE) -> 66 | E39: 7 | G39: 37 | H39: Victoria Holmes | I39: 0.01150463 | J39: 64 | K39: =I39/G$1 -> 0.0061358025 | L39: =VLOOKUP(H39,Ages!A$1:J$166,10,FALSE) -> 0-34 | M39: =IF(I39<=VLOOKUP(L39,'Standards Male'!E$34:J$45,2,FALSE),'Standards Male'!F$33,IF(I39<=VLOOKUP(L39,'Standards Male'!E$34:J$45,3,FALSE),'Standards Male'!G$33,IF(I39<=VLOOKUP(L39,'Standards Male'!E$34:J$45,4,FALSE),'Standards Male'!H$33,IF(I39<=VLOOKUP(L39,'Standards Male'!E$34:J$45,5,FALSE),'Standards Male'!I$33,IF(I39<=VLOOKUP(L39,'Standards Male'!E$34:J$45,6,FALSE),'Standards Male'!J$33,'Standards Male'!J$33))))) -> Copper
A40: 4 | B40: Debbie Gibbs | C40: =VLOOKUP($B40,$H$2:$J$69,2,FALSE) -> 0.011631944 | D40: =VLOOKUP($B40,$H$2:$J$69,3,FALSE) -> 61 | E40: 7 | G40: 38 | H40: Steve McLelland | I40: 0.011574074 | J40: 63 | K40: =I40/G$1 -> 0.0061728395 | L40: =VLOOKUP(H40,Ages!A$1:J$166,10,FALSE) -> 70-74 | M40: =IF(I40<=VLOOKUP(L40,'Standards Male'!E$34:J$45,2,FALSE),'Standards Male'!F$33,IF(I40<=VLOOKUP(L40,'Standards Male'!E$34:J$45,3,FALSE),'Standards Male'!G$33,IF(I40<=VLOOKUP(L40,'Standards Male'!E$34:J$45,4,FALSE),'Standards Male'!H$33,IF(I40<=VLOOKUP(L40,'Standards Male'!E$34:J$45,5,FALSE),'Standards Male'!I$33,IF(I40<=VLOOKUP(L40,'Standards Male'!E$34:J$45,6,FALSE),'Standards Male'!J$33,'Standards Male'!J$33))))) -> Bronze
A41: 5 | B41: Saran Lewis | C41: =VLOOKUP($B41,$H$2:$J$69,2,FALSE) -> 0.011724537 | D41: =VLOOKUP($B41,$H$2:$J$69,3,FALSE) -> 60 | E41: 7 | G41: 39 | H41: Caroline Morgan | I41: 0.01162037 | J41: 62 | K41: =I41/G$1 -> 0.0061975309 | L41: =VLOOKUP(H41,Ages!A$1:J$166,10,FALSE) -> 55-59 | M41: =IF(I41<=VLOOKUP(L41,'Standards Male'!E$34:J$45,2,FALSE),'Standards Male'!F$33,IF(I41<=VLOOKUP(L41,'Standards Male'!E$34:J$45,3,FALSE),'Standards Male'!G$33,IF(I41<=VLOOKUP(L41,'Standards Male'!E$34:J$45,4,FALSE),'Standards Male'!H$33,IF(I41<=VLOOKUP(L41,'Standards Male'!E$34:J$45,5,FALSE),'Standards Male'!I$33,IF(I41<=VLOOKUP(L41,'Standards Male'!E$34:J$45,6,FALSE),'Standards Male'!J$33,'Standards Male'!J$33))))) -> Copper
A42: 6 | B42: Kirsty Moors | C42: =VLOOKUP($B42,$H$2:$J$69,2,FALSE) -> 0.012430556 | D42: =VLOOKUP($B42,$H$2:$J$69,3,FALSE) -> 59 | E42: 7 | G42: 40 | H42: Debbie Gibbs | I42: 0.011631944 | J42: 61 | K42: =I42/G$1 -> 0.0062037037 | L42: =VLOOKUP(H42,Ages!A$1:J$166,10,FALSE) -> 45-49 | M42: =IF(I42<=VLOOKUP(L42,'Standards Male'!E$34:J$45,2,FALSE),'Standards Male'!F$33,IF(I42<=VLOOKUP(L42,'Standards Male'!E$34:J$45,3,FALSE),'Standards Male'!G$33,IF(I42<=VLOOKUP(L42,'Standards Male'!E$34:J$45,4,FALSE),'Standards Male'!H$33,IF(I42<=VLOOKUP(L42,'Standards Male'!E$34:J$45,5,FALSE),'Standards Male'!I$33,IF(I42<=VLOOKUP(L42,'Standards Male'!E$34:J$45,6,FALSE),'Standards Male'!J$33,'Standards Male'!J$33))))) -> Copper
A43: 7 | B43: Mark Jenkins | C43: =VLOOKUP($B43,$H$2:$J$69,2,FALSE) -> 0.012430556 | D43: =VLOOKUP($B43,$H$2:$J$69,3,FALSE) -> 58 | E43: 7 | G43: 41 | H43: Saran Lewis | I43: 0.011724537 | J43: 60 | K43: =I43/G$1 -> 0.0062530864 | L43: =VLOOKUP(H43,Ages!A$1:J$166,10,FALSE) -> 45-49 | M43: =IF(I43<=VLOOKUP(L43,'Standards Male'!E$34:J$45,2,FALSE),'Standards Male'!F$33,IF(I43<=VLOOKUP(L43,'Standards Male'!E$34:J$45,3,FALSE),'Standards Male'!G$33,IF(I43<=VLOOKUP(L43,'Standards Male'!E$34:J$45,4,FALSE),'Standards Male'!H$33,IF(I43<=VLOOKUP(L43,'Standards Male'!E$34:J$45,5,FALSE),'Standards Male'!I$33,IF(I43<=VLOOKUP(L43,'Standards Male'!E$34:J$45,6,FALSE),'Standards Male'!J$33,'Standards Male'!J$33))))) -> Copper
A44: 8 | B44: Meaghan Jenkins | C44: =VLOOKUP($B44,$H$2:$J$69,2,FALSE) -> 0.012615741 | D44: =VLOOKUP($B44,$H$2:$J$69,3,FALSE) -> 56 | E44: 7 | G44: 42 | H44: Kirsty Moors | I44: 0.012430556 | J44: 59 | K44: =I44/G$1 -> 0.0066296296 | L44: =VLOOKUP(H44,Ages!A$1:J$166,10,FALSE) -> 40-44 | M44: =IF(I44<=VLOOKUP(L44,'Standards Male'!E$34:J$45,2,FALSE),'Standards Male'!F$33,IF(I44<=VLOOKUP(L44,'Standards Male'!E$34:J$45,3,FALSE),'Standards Male'!G$33,IF(I44<=VLOOKUP(L44,'Standards Male'!E$34:J$45,4,FALSE),'Standards Male'!H$33,IF(I44<=VLOOKUP(L44,'Standards Male'!E$34:J$45,5,FALSE),'Standards Male'!I$33,IF(I44<=VLOOKUP(L44,'Standards Male'!E$34:J$45,6,FALSE),'Standards Male'!J$33,'Standards Male'!J$33))))) -> Copper
A45: 1 | B45: Victoria Holmes | C45: =VLOOKUP($B45,$H$2:$J$69,2,FALSE) -> 0.01150463 | D45: =VLOOKUP($B45,$H$2:$J$69,3,FALSE) -> 64 | E45: 8 | G45: 43 | H45: Mark Jenkins | I45: 0.012430556 | J45: 58 | K45: =I45/G$1 -> 0.0066296296 | L45: =VLOOKUP(H45,Ages!A$1:J$166,10,FALSE) -> 60-64 | M45: =IF(I45<=VLOOKUP(L45,'Standards Male'!E$34:J$45,2,FALSE),'Standards Male'!F$33,IF(I45<=VLOOKUP(L45,'Standards Male'!E$34:J$45,3,FALSE),'Standards Male'!G$33,IF(I45<=VLOOKUP(L45,'Standards Male'!E$34:J$45,4,FALSE),'Standards Male'!H$33,IF(I45<=VLOOKUP(L45,'Standards Male'!E$34:J$45,5,FALSE),'Standards Male'!I$33,IF(I45<=VLOOKUP(L45,'Standards Male'!E$34:J$45,6,FALSE),'Standards Male'!J$33,'Standards Male'!J$33))))) -> Copper
A46: 2 | B46: Caroline Morgan | C46: =VLOOKUP($B46,$H$2:$J$69,2,FALSE) -> 0.01162037 | D46: =VLOOKUP($B46,$H$2:$J$69,3,FALSE) -> 62 | E46: 8 | G46: 44 | H46: Sandra Rees | I46: 0.012476852 | J46: 57 | K46: =I46/G$1 -> 0.006654321 | L46: =VLOOKUP(H46,Ages!A$1:J$166,10,FALSE) -> 60-64 | M46: =IF(I46<=VLOOKUP(L46,'Standards Male'!E$34:J$45,2,FALSE),'Standards Male'!F$33,IF(I46<=VLOOKUP(L46,'Standards Male'!E$34:J$45,3,FALSE),'Standards Male'!G$33,IF(I46<=VLOOKUP(L46,'Standards Male'!E$34:J$45,4,FALSE),'Standards Male'!H$33,IF(I46<=VLOOKUP(L46,'Standards Male'!E$34:J$45,5,FALSE),'Standards Male'!I$33,IF(I46<=VLOOKUP(L46,'Standards Male'!E$34:J$45,6,FALSE),'Standards Male'!J$33,'Standards Male'!J$33))))) -> Copper
A47: 3 | B47: Sandra Rees | C47: =VLOOKUP($B47,$H$2:$J$69,2,FALSE) -> 0.012476852 | D47: =VLOOKUP($B47,$H$2:$J$69,3,FALSE) -> 57 | E47: 8 | G47: 45 | H47: Meaghan Jenkins | I47: 0.012615741 | J47: 56 | K47: =I47/G$1 -> 0.0067283951 | L47: =VLOOKUP(H47,Ages!A$1:J$166,10,FALSE) -> 0-34 | M47: =IF(I47<=VLOOKUP(L47,'Standards Male'!E$34:J$45,2,FALSE),'Standards Male'!F$33,IF(I47<=VLOOKUP(L47,'Standards Male'!E$34:J$45,3,FALSE),'Standards Male'!G$33,IF(I47<=VLOOKUP(L47,'Standards Male'!E$34:J$45,4,FALSE),'Standards Male'!H$33,IF(I47<=VLOOKUP(L47,'Standards Male'!E$34:J$45,5,FALSE),'Standards Male'!I$33,IF(I47<=VLOOKUP(L47,'Standards Male'!E$34:J$45,6,FALSE),'Standards Male'!J$33,'Standards Male'!J$33))))) -> Copper
A48: 1 | B48: Laura Hall | C48: =VLOOKUP($B48,$H$2:$J$69,2,FALSE) -> 0.013020833 | D48: =VLOOKUP($B48,$H$2:$J$69,3,FALSE) -> 55 | E48: 9 | G48: 46 | H48: Laura Hall | I48: 0.013020833 | J48: 55 | K48: =I48/G$1 -> 0.0069444444 | L48: =VLOOKUP(H47,Ages!A$1:J$166,10,FALSE) -> 0-34 | M48: =IF(I48<=VLOOKUP(L48,'Standards Male'!E$34:J$45,2,FALSE),'Standards Male'!F$33,IF(I48<=VLOOKUP(L48,'Standards Male'!E$34:J$45,3,FALSE),'Standards Male'!G$33,IF(I48<=VLOOKUP(L48,'Standards Male'!E$34:J$45,4,FALSE),'Standards Male'!H$33,IF(I48<=VLOOKUP(L48,'Standards Male'!E$34:J$45,5,FALSE),'Standards Male'!I$33,IF(I48<=VLOOKUP(L48,'Standards Male'!E$34:J$45,6,FALSE),'Standards Male'!J$33,'Standards Male'!J$33))))) -> Copper
A49: 2 | B49: Lynn Holmes | C49: =VLOOKUP($B49,$H$2:$J$69,2,FALSE) -> 0.013865741 | D49: =VLOOKUP($B49,$H$2:$J$69,3,FALSE) -> 54 | E49: 9 | G49: 47 | H49: Lynn Holmes | I49: 0.013865741 | J49: 54 | K49: =I49/G$1 -> 0.0073950617 | L49: =VLOOKUP(H49,Ages!A$1:J$166,10,FALSE) -> 60-64 | M49: =IF(I49<=VLOOKUP(L49,'Standards Male'!E$34:J$45,2,FALSE),'Standards Male'!F$33,IF(I49<=VLOOKUP(L49,'Standards Male'!E$34:J$45,3,FALSE),'Standards Male'!G$33,IF(I49<=VLOOKUP(L49,'Standards Male'!E$34:J$45,4,FALSE),'Standards Male'!H$33,IF(I49<=VLOOKUP(L49,'Standards Male'!E$34:J$45,5,FALSE),'Standards Male'!I$33,IF(I49<=VLOOKUP(L49,'Standards Male'!E$34:J$45,6,FALSE),'Standards Male'!J$33,'Standards Male'!J$33))))) -> Copper
A50: 3 | B50: Frances Ratcliff | C50: =VLOOKUP($B50,$H$2:$J$69,2,FALSE) -> 0.014259259 | D50: =VLOOKUP($B50,$H$2:$J$69,3,FALSE) -> 53 | E50: 9 | G50: 48 | H50: Frances Ratcliff | I50: 0.014259259 | J50: 53 | K50: =I50/G$1 -> 0.0076049383 | L50: =VLOOKUP(H50,Ages!A$1:J$166,10,FALSE) -> 40-44 | M50: =IF(I50<=VLOOKUP(L50,'Standards Male'!E$34:J$45,2,FALSE),'Standards Male'!F$33,IF(I50<=VLOOKUP(L50,'Standards Male'!E$34:J$45,3,FALSE),'Standards Male'!G$33,IF(I50<=VLOOKUP(L50,'Standards Male'!E$34:J$45,4,FALSE),'Standards Male'!H$33,IF(I50<=VLOOKUP(L50,'Standards Male'!E$34:J$45,5,FALSE),'Standards Male'!I$33,IF(I50<=VLOOKUP(L50,'Standards Male'!E$34:J$45,6,FALSE),'Standards Male'!J$33,'Standards Male'!J$33))))) -> Copper
A51: 4 | B51: Steve Jones | C51: =VLOOKUP($B51,$H$2:$J$69,2,FALSE) -> 0.015486111 | D51: =VLOOKUP($B51,$H$2:$J$69,3,FALSE) -> 50 | E51: 9 | G51: 49 | H51: Jane Wallace | I51: 0.0146875 | J51: 52 | K51: =I51/G$1 -> 0.0078333333 | L51: =VLOOKUP(H51,Ages!A$1:J$166,10,FALSE) -> 60-64 | M51: =IF(I51<=VLOOKUP(L51,'Standards Male'!E$34:J$45,2,FALSE),'Standards Male'!F$33,IF(I51<=VLOOKUP(L51,'Standards Male'!E$34:J$45,3,FALSE),'Standards Male'!G$33,IF(I51<=VLOOKUP(L51,'Standards Male'!E$34:J$45,4,FALSE),'Standards Male'!H$33,IF(I51<=VLOOKUP(L51,'Standards Male'!E$34:J$45,5,FALSE),'Standards Male'!I$33,IF(I51<=VLOOKUP(L51,'Standards Male'!E$34:J$45,6,FALSE),'Standards Male'!J$33,'Standards Male'!J$33))))) -> Copper
A52: 1 | B52: Jane Wallace | C52: =VLOOKUP($B52,$H$2:$J$69,2,FALSE) -> 0.0146875 | D52: =VLOOKUP($B52,$H$2:$J$69,3,FALSE) -> 52 | E52: 10 | G52: 50 | H52: Linda Owens | I52: 0.015474537 | J52: 51 | K52: =I52/G$1 -> 0.0082530864 | L52: =VLOOKUP(H52,Ages!A$1:J$166,10,FALSE) -> 75-79 | M52: =IF(I52<=VLOOKUP(L52,'Standards Male'!E$34:J$45,2,FALSE),'Standards Male'!F$33,IF(I52<=VLOOKUP(L52,'Standards Male'!E$34:J$45,3,FALSE),'Standards Male'!G$33,IF(I52<=VLOOKUP(L52,'Standards Male'!E$34:J$45,4,FALSE),'Standards Male'!H$33,IF(I52<=VLOOKUP(L52,'Standards Male'!E$34:J$45,5,FALSE),'Standards Male'!I$33,IF(I52<=VLOOKUP(L52,'Standards Male'!E$34:J$45,6,FALSE),'Standards Male'!J$33,'Standards Male'!J$33))))) -> Copper
A53: 2 | B53: Linda Owens | C53: =VLOOKUP($B53,$H$2:$J$69,2,FALSE) -> 0.015474537 | D53: =VLOOKUP($B53,$H$2:$J$69,3,FALSE) -> 51 | E53: 10 | G53: 51 | H53: Steve Jones | I53: 0.015486111 | J53: 50 | K53: =I53/G$1 -> 0.0082592593 | L53: =VLOOKUP(H53,Ages!A$1:J$166,10,FALSE) -> 65-69 | M53: =IF(I53<=VLOOKUP(L53,'Standards Male'!E$34:J$45,2,FALSE),'Standards Male'!F$33,IF(I53<=VLOOKUP(L53,'Standards Male'!E$34:J$45,3,FALSE),'Standards Male'!G$33,IF(I53<=VLOOKUP(L53,'Standards Male'!E$34:J$45,4,FALSE),'Standards Male'!H$33,IF(I53<=VLOOKUP(L53,'Standards Male'!E$34:J$45,5,FALSE),'Standards Male'!I$33,IF(I53<=VLOOKUP(L53,'Standards Male'!E$34:J$45,6,FALSE),'Standards Male'!J$33,'Standards Male'!J$33))))) -> Copper

Sheet Race 5
A1: Gorseinon Cycle Path | G1: 1.875 | H1: mile | I1: 45924
A2: Pos | B2: Group Order | C2: Time | D2: Points | E2: Div | G2: Pos | H2: Race Order | I2: Time | J2: Points | K2: Min/Mile | L2: Cat | M2: Standard | O2: Pos | P2: Ladies Only | Q2: Time
A3: 1 | B3: Chris Pridmore | C3: =VLOOKUP($B3,$H$2:$J$50,2,FALSE) -> #N/A | D3: =VLOOKUP($B3,$H$2:$J$50,3,FALSE) -> #N/A | E3: 1 | G3: 1 | I3: 0.0073148148 | K3: =I3/G$1 -> 0.0039012346 | L3: =VLOOKUP(H3,Ages!A$1:J$166,10,FALSE) -> #N/A | M3: =IF(I3<=VLOOKUP(L3,'Standards Male'!E$34:J$45,2,FALSE),'Standards Male'!F$33,IF(I3<=VLOOKUP(L3,'Standards Male'!E$34:J$45,3,FALSE),'Standards Male'!G$33,IF(I3<=VLOOKUP(L3,'Standards Male'!E$34:J$45,4,FALSE),'Standards Male'!H$33,IF(I3<=VLOOKUP(L3,'Standards Male'!E$34:J$45,5,FALSE),'Standards Male'!I$33,IF(I3<=VLOOKUP(L3,'Standards Male'!E$34:J$45,6,FALSE),'Standards Male'!J$33,'Standards Male'!J$33))))) -> #N/A | O3: 1 | P3: Laura Gilbert | Q3: 0.033715278
A4: 2 | B4: Paul Jenkins | C4: =VLOOKUP($B4,$H$2:$J$50,2,FALSE) -> #N/A | D4: =VLOOKUP($B4,$H$2:$J$50,3,FALSE) -> #N/A | E4: 1 | G4: 2 | I4: 0.007962963 | K4: =I4/G$1 -> 0.0042469136 | L4: =VLOOKUP(H4,Ages!A$1:J$166,10,FALSE) -> #N/A | M4: =IF(I4<=VLOOKUP(L4,'Standards Male'!E$34:J$45,2,FALSE),'Standards Male'!F$33,IF(I4<=VLOOKUP(L4,'Standards Male'!E$34:J$45,3,FALSE),'Standards Male'!G$33,IF(I4<=VLOOKUP(L4,'Standards Male'!E$34:J$45,4,FALSE),'Standards Male'!H$33,IF(I4<=VLOOKUP(L4,'Standards Male'!E$34:J$45,5,FALSE),'Standards Male'!I$33,IF(I4<=VLOOKUP(L4,'Standards Male'!E$34:J$45,6,FALSE),'Standards Male'!J$33,'Standards Male'!J$33))))) -> #N/A | O4: 2 | P4: Katie Mead | Q4: 0.0340625
A5: 1 | B5: Justin Sperrin | C5: =VLOOKUP($B5,$H$2:$J$50,2,FALSE) -> #N/A | D5: =VLOOKUP($B5,$H$2:$J$50,3,FALSE) -> #N/A | E5: 1 | G5: 3 | I5: 0.0080208333 | K5: =I5/G$1 -> 0.0042777778 | L5: =VLOOKUP(H5,Ages!A$1:J$166,10,FALSE) -> #N/A | M5: =IF(I5<=VLOOKUP(L5,'Standards Male'!E$34:J$45,2,FALSE),'Standards Male'!F$33,IF(I5<=VLOOKUP(L5,'Standards Male'!E$34:J$45,3,FALSE),'Standards Male'!G$33,IF(I5<=VLOOKUP(L5,'Standards Male'!E$34:J$45,4,FALSE),'Standards Male'!H$33,IF(I5<=VLOOKUP(L5,'Standards Male'!E$34:J$45,5,FALSE),'Standards Male'!I$33,IF(I5<=VLOOKUP(L5,'Standards Male'!E$34:J$45,6,FALSE),'Standards Male'!J$33,'Standards Male'!J$33))))) -> #N/A | O5: 3 | P5: Sarah Barham | Q5: 0.035347222
A6: 2 | B6: Aron Jones | C6: =VLOOKUP($B6,$H$2:$J$50,2,FALSE) -> #N/A | D6: =VLOOKUP($B6,$H$2:$J$50,3,FALSE) -> #N/A | E6: 2 | G6: 4 | I6: 0.0080671296 | K6: =I6/G$1 -> 0.0043024691 | L6: =VLOOKUP(H6,Ages!A$1:J$166,10,FALSE) -> #N/A | M6: =IF(I6<=VLOOKUP(L6,'Standards Male'!E$34:J$45,2,FALSE),'Standards Male'!F$33,IF(I6<=VLOOKUP(L6,'Standards Male'!E$34:J$45,3,FALSE),'Standards Male'!G$33,IF(I6<=VLOOKUP(L6,'Standards Male'!E$34:J$45,4,FALSE),'Standards Male'!H$33,IF(I6<=VLOOKUP(L6,'Standards Male'!E$34:J$45,5,FALSE),'Standards Male'!I$33,IF(I6<=VLOOKUP(L6,'Standards Male'!E$34:J$45,6,FALSE),'Standards Male'!J$33,'Standards Male'!J$33))))) -> #N/A | O6: 4 | P6: Julie Archer | Q6: 0.036539352
A7: 3 | B7: Katie Williams | C7: =VLOOKUP($B7,$H$2:$J$50,2,FALSE) -> #N/A | D7: =VLOOKUP($B7,$H$2:$J$50,3,FALSE) -> #N/A | E7: 2 | G7: 5 | I7: 0.008287037 | K7: =I7/G$1 -> 0.0044197531 | L7: =VLOOKUP(H7,Ages!A$1:J$166,10,FALSE) -> #N/A | M7: =IF(I7<=VLOOKUP(L7,'Standards Female'!E$34:J$45,2,FALSE),'Standards Female'!F$33,IF(I7<=VLOOKUP(L7,'Standards Female'!E$34:J$45,3,FALSE),'Standards Female'!G$33,IF(I7<=VLOOKUP(L7,'Standards Female'!E$34:J$45,4,FALSE),'Standards Female'!H$33,IF(I7<=VLOOKUP(L7,'Standards Female'!E$34:J$45,5,FALSE),'Standards Female'!I$33,IF(I7<=VLOOKUP(L7,'Standards Female'!E$34:J$45,6,FALSE),'Standards Female'!J$33,'Standards Female'!J$33))))) -> #N/A | O7: 5 | P7: Sharon Trotman | Q7: 0.037916667
A8: 4 | B8: Gavin Davies | C8: =VLOOKUP($B8,$H$2:$J$50,2,FALSE) -> #N/A | D8: =VLOOKUP($B8,$H$2:$J$50,3,FALSE) -> #N/A | E8: 2 | G8: 6 | I8: 0.0083333333 | K8: =I8/G$1 -> 0.0044444444 | L8: =VLOOKUP(H8,Ages!A$1:J$166,10,FALSE) -> #N/A | M8: =IF(I8<=VLOOKUP(L8,'Standards Male'!E$34:J$45,2,FALSE),'Standards Male'!F$33,IF(I8<=VLOOKUP(L8,'Standards Male'!E$34:J$45,3,FALSE),'Standards Male'!G$33,IF(I8<=VLOOKUP(L8,'Standards Male'!E$34:J$45,4,FALSE),'Standards Male'!H$33,IF(I8<=VLOOKUP(L8,'Standards Male'!E$34:J$45,5,FALSE),'Standards Male'!I$33,IF(I8<=VLOOKUP(L8,'Standards Male'!E$34:J$45,6,FALSE),'Standards Male'!J$33,'Standards Male'!J$33))))) -> #N/A | O8: 6 | P8: Jenny Stanford | Q8: 0.038090278
A9: 1 | B9: Chris Snary | C9: =VLOOKUP($B9,$H$2:$J$50,2,FALSE) -> #N/A | D9: =VLOOKUP($B9,$H$2:$J$50,3,FALSE) -> #N/A | E9: 3 | G9: 7 | I9: 0.0085069444 | K9: =I9/G$1 -> 0.004537037 | L9: =VLOOKUP(H9,Ages!A$1:J$166,10,FALSE) -> #N/A | M9: =IF(I9<=VLOOKUP(L9,'Standards Male'!E$34:J$45,2,FALSE),'Standards Male'!F$33,IF(I9<=VLOOKUP(L9,'Standards Male'!E$34:J$45,3,FALSE),'Standards Male'!G$33,IF(I9<=VLOOKUP(L9,'Standards Male'!E$34:J$45,4,FALSE),'Standards Male'!H$33,IF(I9<=VLOOKUP(L9,'Standards Male'!E$34:J$45,5,FALSE),'Standards Male'!I$33,IF(I9<=VLOOKUP(L9,'Standards Male'!E$34:J$45,6,FALSE),'Standards Male'!J$33,'Standards Male'!J$33))))) -> #N/A | O9: 7 | P9: Christina Smith | Q9: 0.038472222
A10: 2 | B10: James Bennett | C10: =VLOOKUP($B10,$H$2:$J$50,2,FALSE) -> #N/A | D10: =VLOOKUP($B10,$H$2:$J$50,3,FALSE) -> #N/A | E10: 3 | G10: 8 | I10: 0.0085763889 | K10: =I10/G$1 -> 0.0045740741 | L10: =VLOOKUP(H10,Ages!A$1:J$166,10,FALSE) -> #N/A | M10: =IF(I10<=VLOOKUP(L10,'Standards Male'!E$34:J$45,2,FALSE),'Standards Male'!F$33,IF(I10<=VLOOKUP(L10,'Standards Male'!E$34:J$45,3,FALSE),'Standards Male'!G$33,IF(I10<=VLOOKUP(L10,'Standards Male'!E$34:J$45,4,FALSE),'Standards Male'!H$33,IF(I10<=VLOOKUP(L10,'Standards Male'!E$34:J$45,5,FALSE),'Standards Male'!I$33,IF(I10<=VLOOKUP(L10,'Standards Male'!E$34:J$45,6,FALSE),'Standards Male'!J$33,'Standards Male'!J$33))))) -> #N/A | O10: 8 | P10: Ruth Salmon | Q10: 0.039606481
A11: 1 | B11: Sean Morgans | C11: =VLOOKUP($B11,$H$2:$J$50,2,FALSE) -> #N/A | D11: =VLOOKUP($B11,$H$2:$J$50,3,FALSE) -> #N/A | E11: 4 | G11: 9 | I11: 0.0086805556 | K11: =I11/G$1 -> 0.0046296296 | L11: =VLOOKUP(H11,Ages!A$1:J$166,10,FALSE) -> #N/A | M11: =IF(I11<=VLOOKUP(L11,'Standards Male'!E$34:J$45,2,FALSE),'Standards Male'!F$33,IF(I11<=VLOOKUP(L11,'Standards Male'!E$34:J$45,3,FALSE),'Standards Male'!G$33,IF(I11<=VLOOKUP(L11,'Standards Male'!E$34:J$45,4,FALSE),'Standards Male'!H$33,IF(I11<=VLOOKUP(L11,'Standards Male'!E$34:J$45,5,FALSE),'Standards Male'!I$33,IF(I11<=VLOOKUP(L11,'Standards Male'!E$34:J$45,6,FALSE),'Standards Male'!J$33,'Standards Male'!J$33))))) -> #N/A | O11: 9 | P11: Debra Thomas | Q11: 0.040092593
A12: 2 | B12: Stuart Davies | C12: =VLOOKUP($B12,$H$2:$J$50,2,FALSE) -> #N/A | D12: =VLOOKUP($B12,$H$2:$J$50,3,FALSE) -> #N/A | E12: 4 | G12: 10 | I12: 0.0087615741 | K12: =I12/G$1 -> 0.0046728395 | L12: =VLOOKUP(H12,Ages!A$1:J$166,10,FALSE) -> #N/A | M12: =IF(I12<=VLOOKUP(L12,'Standards Male'!E$34:J$45,2,FALSE),'Standards Male'!F$33,IF(I12<=VLOOKUP(L12,'Standards Male'!E$34:J$45,3,FALSE),'Standards Male'!G$33,IF(I12<=VLOOKUP(L12,'Standards Male'!E$34:J$45,4,FALSE),'Standards Male'!H$33,IF(I12<=VLOOKUP(L12,'Standards Male'!E$34:J$45,5,FALSE),'Standards Male'!I$33,IF(I12<=VLOOKUP(L12,'Standards Male'!E$34:J$45,6,FALSE),'Standards Male'!J$33,'Standards Male'!J$33))))) -> #N/A | O12: 10 | P12: Caroline Morgan | Q12: 0.040289352
A13: 3 | B13: Laura Gilbert | C13: =VLOOKUP($B13,$H$2:$J$50,2,FALSE) -> #N/A | D13: =VLOOKUP($B13,$H$2:$J$50,3,FALSE) -> #N/A | E13: 4 | G13: 11 | I13: 00:13:21 | K13: =I13/G$1 -> 0.0049444444 | L13: =VLOOKUP(H13,Ages!A$1:J$166,10,FALSE) -> #N/A | M13: =IF(I13<=VLOOKUP(L13,'Standards Male'!E$34:J$45,2,FALSE),'Standards Male'!F$33,IF(I13<=VLOOKUP(L13,'Standards Male'!E$34:J$45,3,FALSE),'Standards Male'!G$33,IF(I13<=VLOOKUP(L13,'Standards Male'!E$34:J$45,4,FALSE),'Standards Male'!H$33,IF(I13<=VLOOKUP(L13,'Standards Male'!E$34:J$45,5,FALSE),'Standards Male'!I$33,IF(I13<=VLOOKUP(L13,'Standards Male'!E$34:J$45,6,FALSE),'Standards Male'!J$33,'Standards Male'!J$33))))) -> #N/A | O13: 11 | P13: Eiri Evans-Jones | Q13: 0.041539352
A14: 4 | B14: Andy Rees | C14: =VLOOKUP($B14,$H$2:$J$50,2,FALSE) -> #N/A | D14: =VLOOKUP($B14,$H$2:$J$50,3,FALSE) -> #N/A | E14: 4 | G14: 12 | I14: 0.0093634259 | K14: =I14/G$1 -> 0.0049938272 | L14: =VLOOKUP(H14,Ages!A$1:J$166,10,FALSE) -> #N/A | M14: =IF(I14<=VLOOKUP(L14,'Standards Female'!E$34:J$45,2,FALSE),'Standards Female'!F$33,IF(I14<=VLOOKUP(L14,'Standards Female'!E$34:J$45,3,FALSE),'Standards Female'!G$33,IF(I14<=VLOOKUP(L14,'Standards Female'!E$34:J$45,4,FALSE),'Standards Female'!H$33,IF(I14<=VLOOKUP(L14,'Standards Female'!E$34:J$45,5,FALSE),'Standards Female'!I$33,IF(I14<=VLOOKUP(L14,'Standards Female'!E$34:J$45,6,FALSE),'Standards Female'!J$33,'Standards Female'!J$33))))) -> #N/A | O14: 12 | P14: Vicky Davies | Q14: 0.041898148
A15: 5 | B15: Michelle Grey | C15: =VLOOKUP($B15,$H$2:$J$50,2,FALSE) -> #N/A | D15: =VLOOKUP($B15,$H$2:$J$50,3,FALSE) -> #N/A | E15: 4 | G15: 13 | I15: 0.0095023148 | K15: =I15/G$1 -> 0.0050679012 | L15: =VLOOKUP(H15,Ages!A$1:J$166,10,FALSE) -> #N/A | M15: =IF(I15<=VLOOKUP(L15,'Standards Male'!E$34:J$45,2,FALSE),'Standards Male'!F$33,IF(I15<=VLOOKUP(L15,'Standards Male'!E$34:J$45,3,FALSE),'Standards Male'!G$33,IF(I15<=VLOOKUP(L15,'Standards Male'!E$34:J$45,4,FALSE),'Standards Male'!H$33,IF(I15<=VLOOKUP(L15,'Standards Male'!E$34:J$45,5,FALSE),'Standards Male'!I$33,IF(I15<=VLOOKUP(L15,'Standards Male'!E$34:J$45,6,FALSE),'Standards Male'!J$33,'Standards Male'!J$33))))) -> #N/A | O15: 13 | P15: Manisha Rickards | Q15: 0.042152778
A16: 6 | B16: Sarah Barham | C16: =VLOOKUP($B16,$H$2:$J$50,2,FALSE) -> #N/A | D16: =VLOOKUP($B16,$H$2:$J$50,3,FALSE) -> #N/A | E16: 4 | G16: 14 | I16: 0.0098263889 | K16: =I16/G$1 -> 0.0052407407 | L16: =VLOOKUP(H16,Ages!A$1:J$166,10,FALSE) -> #N/A | M16: =IF(I16<=VLOOKUP(L16,'Standards Male'!E$34:J$45,2,FALSE),'Standards Male'!F$33,IF(I16<=VLOOKUP(L16,'Standards Male'!E$34:J$45,3,FALSE),'Standards Male'!G$33,IF(I16<=VLOOKUP(L16,'Standards Male'!E$34:J$45,4,FALSE),'Standards Male'!H$33,IF(I16<=VLOOKUP(L16,'Standards Male'!E$34:J$45,5,FALSE),'Standards Male'!I$33,IF(I16<=VLOOKUP(L16,'Standards Male'!E$34:J$45,6,FALSE),'Standards Male'!J$33,'Standards Male'!J$33))))) -> #N/A | O16: 14 | P16: Jia Ping Lee | Q16: 0.042395833
A17: 1 | B17: Diane Ridgeway | C17: =VLOOKUP($B17,$H$2:$J$50,2,FALSE) -> #N/A | D17: =VLOOKUP($B17,$H$2:$J$50,3,FALSE) -> #N/A | E17: 5 | G17: 15 | I17: 0.0098842593 | K17: =I17/G$1 -> 0.0052716049 | L17: =VLOOKUP(H17,Ages!A$1:J$166,10,FALSE) -> #N/A | M17: =IF(I17<=VLOOKUP(L17,'Standards Female'!E$34:J$45,2,FALSE),'Standards Female'!F$33,IF(I17<=VLOOKUP(L17,'Standards Female'!E$34:J$45,3,FALSE),'Standards Female'!G$33,IF(I17<=VLOOKUP(L17,'Standards Female'!E$34:J$45,4,FALSE),'Standards Female'!H$33,IF(I17<=VLOOKUP(L17,'Standards Female'!E$34:J$45,5,FALSE),'Standards Female'!I$33,IF(I17<=VLOOKUP(L17,'Standards Female'!E$34:J$45,6,FALSE),'Standards Female'!J$33,'Standards Female'!J$33))))) -> #N/A | O17: 15 | P17: Jody Ralph | Q17: 0.043078704
A18: 2 | B18: Caroline Sandles | C18: =VLOOKUP($B18,$H$2:$J$50,2,FALSE) -> #N/A | D18: =VLOOKUP($B18,$H$2:$J$50,3,FALSE) -> #N/A | E18: 5 | G18: 16 | I18: 0.0099537037 | K18: =I18/G$1 -> 0.005308642 | L18: =VLOOKUP(H18,Ages!A$1:J$166,10,FALSE) -> #N/A | M18: =IF(I18<=VLOOKUP(L18,'Standards Female'!E$34:J$45,2,FALSE),'Standards Female'!F$33,IF(I18<=VLOOKUP(L18,'Standards Female'!E$34:J$45,3,FALSE),'Standards Female'!G$33,IF(I18<=VLOOKUP(L18,'Standards Female'!E$34:J$45,4,FALSE),'Standards Female'!H$33,IF(I18<=VLOOKUP(L18,'Standards Female'!E$34:J$45,5,FALSE),'Standards Female'!I$33,IF(I18<=VLOOKUP(L18,'Standards Female'!E$34:J$45,6,FALSE),'Standards Female'!J$33,'Standards Female'!J$33))))) -> #N/A | O18: 16 | P18: Debbie Gibbs | Q18: 0.043368056
A19: 1 | B19: Sam Grunhut | C19: =VLOOKUP($B19,$H$2:$J$50,2,FALSE) -> #N/A | D19: =VLOOKUP($B19,$H$2:$J$50,3,FALSE) -> #N/A | E19: 6 | G19: 17 | I19: 0.0099652778 | K19: =I19/G$1 -> 0.0053148148 | L19: =VLOOKUP(H19,Ages!A$1:J$166,10,FALSE) -> #N/A | M19: =IF(I19<=VLOOKUP(L19,'Standards Female'!E$34:J$45,2,FALSE),'Standards Female'!F$33,IF(I19<=VLOOKUP(L19,'Standards Female'!E$34:J$45,3,FALSE),'Standards Female'!G$33,IF(I19<=VLOOKUP(L19,'Standards Female'!E$34:J$45,4,FALSE),'Standards Female'!H$33,IF(I19<=VLOOKUP(L19,'Standards Female'!E$34:J$45,5,FALSE),'Standards Female'!I$33,IF(I19<=VLOOKUP(L19,'Standards Female'!E$34:J$45,6,FALSE),'Standards Female'!J$33,'Standards Female'!J$33))))) -> #N/A | O19: 17 | P19: Saran Lewis | Q19: 0.043611111
A20: 2 | B20: Peter Clement | C20: =VLOOKUP($B20,$H$2:$J$50,2,FALSE) -> #N/A | D20: =VLOOKUP($B20,$H$2:$J$50,3,FALSE) -> #N/A | E20: 6 | G20: 18 | I20: 0.010034722 | K20: =I20/G$1 -> 0.0053518519 | L20: =VLOOKUP(H20,Ages!A$1:J$166,10,FALSE) -> #N/A | M20: =IF(I20<=VLOOKUP(L20,'Standards Female'!E$34:J$45,2,FALSE),'Standards Female'!F$33,IF(I20<=VLOOKUP(L20,'Standards Female'!E$34:J$45,3,FALSE),'Standards Female'!G$33,IF(I20<=VLOOKUP(L20,'Standards Female'!E$34:J$45,4,FALSE),'Standards Female'!H$33,IF(I20<=VLOOKUP(L20,'Standards Female'!E$34:J$45,5,FALSE),'Standards Female'!I$33,IF(I20<=VLOOKUP(L20,'Standards Female'!E$34:J$45,6,FALSE),'Standards Female'!J$33,'Standards Female'!J$33))))) -> #N/A | O20: 18 | P20: Victoria Holmes | Q20: 0.045462963
A21: 3 | B21: Julie Archer | C21: =VLOOKUP($B21,$H$2:$J$50,2,FALSE) -> #N/A | D21: =VLOOKUP($B21,$H$2:$J$50,3,FALSE) -> #N/A | E21: 6 | G21: 19 | I21: 0.010127315 | K21: =I21/G$1 -> 0.0054012346 | L21: =VLOOKUP(H21,Ages!A$1:J$166,10,FALSE) -> #N/A | M21: =IF(I21<=VLOOKUP(L21,'Standards Male'!E$34:J$45,2,FALSE),'Standards Male'!F$33,IF(I21<=VLOOKUP(L21,'Standards Male'!E$34:J$45,3,FALSE),'Standards Male'!G$33,IF(I21<=VLOOKUP(L21,'Standards Male'!E$34:J$45,4,FALSE),'Standards Male'!H$33,IF(I21<=VLOOKUP(L21,'Standards Male'!E$34:J$45,5,FALSE),'Standards Male'!I$33,IF(I21<=VLOOKUP(L21,'Standards Male'!E$34:J$45,6,FALSE),'Standards Male'!J$33,'Standards Male'!J$33))))) -> #N/A | O21: 19 | P21: Sandra Rees | Q21: 0.045856481
A22: 4 | B22: Jenny Stanford | C22: =VLOOKUP($B22,$H$2:$J$50,2,FALSE) -> #N/A | D22: =VLOOKUP($B22,$H$2:$J$50,3,FALSE) -> #N/A | E22: 6 | G22: 20 | I22: 0.010243056 | K22: =I22/G$1 -> 0.005462963 | L22: =VLOOKUP(H22,Ages!A$1:J$166,10,FALSE) -> #N/A | M22: =IF(I22<=VLOOKUP(L22,'Standards Female'!E$34:J$45,2,FALSE),'Standards Female'!F$33,IF(I22<=VLOOKUP(L22,'Standards Female'!E$34:J$45,3,FALSE),'Standards Female'!G$33,IF(I22<=VLOOKUP(L22,'Standards Female'!E$34:J$45,4,FALSE),'Standards Female'!H$33,IF(I22<=VLOOKUP(L22,'Standards Female'!E$34:J$45,5,FALSE),'Standards Female'!I$33,IF(I22<=VLOOKUP(L22,'Standards Female'!E$34:J$45,6,FALSE),'Standards Female'!J$33,'Standards Female'!J$33))))) -> #N/A | O22: 20 | P22: Lynn Holmes | Q22: 0.046018519
A23: 5 | B23: Mike Prasad | C23: =VLOOKUP($B23,$H$2:$J$50,2,FALSE) -> #N/A | D23: =VLOOKUP($B23,$H$2:$J$50,3,FALSE) -> #N/A | E23: 6 | G23: 21 | I23: 0.010416667 | K23: =I23/G$1 -> 0.0055555556 | L23: =VLOOKUP(H23,Ages!A$1:J$166,10,FALSE) -> #N/A | M23: =IF(I23<=VLOOKUP(L23,'Standards Female'!E$34:J$45,2,FALSE),'Standards Female'!F$33,IF(I23<=VLOOKUP(L23,'Standards Female'!E$34:J$45,3,FALSE),'Standards Female'!G$33,IF(I23<=VLOOKUP(L23,'Standards Female'!E$34:J$45,4,FALSE),'Standards Female'!H$33,IF(I23<=VLOOKUP(L23,'Standards Female'!E$34:J$45,5,FALSE),'Standards Female'!I$33,IF(I23<=VLOOKUP(L23,'Standards Female'!E$34:J$45,6,FALSE),'Standards Female'!J$33,'Standards Female'!J$33))))) -> #N/A | O23: 21 | P23: Laura Hall | Q23: 0.047407407
A24: 6 | B24: Sharon Trotman | C24: =VLOOKUP($B24,$H$2:$J$50,2,FALSE) -> #N/A | D24: =VLOOKUP($B24,$H$2:$J$50,3,FALSE) -> #N/A | E24: 6 | G24: 22 | I24: 0.010462963 | K24: =I24/G$1 -> 0.0055802469 | L24: =VLOOKUP(H24,Ages!A$1:J$166,10,FALSE) -> #N/A | M24: =IF(I24<=VLOOKUP(L24,'Standards Female'!E$34:J$45,2,FALSE),'Standards Female'!F$33,IF(I24<=VLOOKUP(L24,'Standards Female'!E$34:J$45,3,FALSE),'Standards Female'!G$33,IF(I24<=VLOOKUP(L24,'Standards Female'!E$34:J$45,4,FALSE),'Standards Female'!H$33,IF(I24<=VLOOKUP(L24,'Standards Female'!E$34:J$45,5,FALSE),'Standards Female'!I$33,IF(I24<=VLOOKUP(L24,'Standards Female'!E$34:J$45,6,FALSE),'Standards Female'!J$33,'Standards Female'!J$33))))) -> #N/A | O24: 22 | P24: Caroline Jones | Q24: 0.048032407
A25: 1 | B25: Ed Davies | C25: =VLOOKUP($B25,$H$2:$J$50,2,FALSE) -> #N/A | D25: =VLOOKUP($B25,$H$2:$J$50,3,FALSE) -> #N/A | E25: 7 | G25: 23 | I25: 0.010474537 | K25: =I25/G$1 -> 0.0055864198 | L25: =VLOOKUP(H25,Ages!A$1:J$166,10,FALSE) -> #N/A | M25: =IF(I25<=VLOOKUP(L25,'Standards Female'!E$34:J$45,2,FALSE),'Standards Female'!F$33,IF(I25<=VLOOKUP(L25,'Standards Female'!E$34:J$45,3,FALSE),'Standards Female'!G$33,IF(I25<=VLOOKUP(L25,'Standards Female'!E$34:J$45,4,FALSE),'Standards Female'!H$33,IF(I25<=VLOOKUP(L25,'Standards Female'!E$34:J$45,5,FALSE),'Standards Female'!I$33,IF(I25<=VLOOKUP(L25,'Standards Female'!E$34:J$45,6,FALSE),'Standards Female'!J$33,'Standards Female'!J$33))))) -> #N/A | O25: 23 | P25: Paula Stockley | Q25: 0.063576389
A26: 2 | B26: Ruth Salmon | C26: =VLOOKUP($B26,$H$2:$J$50,2,FALSE) -> #N/A | D26: =VLOOKUP($B26,$H$2:$J$50,3,FALSE) -> #N/A | E26: 7 | G26: 24 | I26: 0.010486111 | K26: =I26/G$1 -> 0.0055925926 | L26: =VLOOKUP(H26,Ages!A$1:J$166,10,FALSE) -> #N/A | M26: =IF(I26<=VLOOKUP(L26,'Standards Female'!E$34:J$45,2,FALSE),'Standards Female'!F$33,IF(I26<=VLOOKUP(L26,'Standards Female'!E$34:J$45,3,FALSE),'Standards Female'!G$33,IF(I26<=VLOOKUP(L26,'Standards Female'!E$34:J$45,4,FALSE),'Standards Female'!H$33,IF(I26<=VLOOKUP(L26,'Standards Female'!E$34:J$45,5,FALSE),'Standards Female'!I$33,IF(I26<=VLOOKUP(L26,'Standards Female'!E$34:J$45,6,FALSE),'Standards Female'!J$33,'Standards Female'!J$33))))) -> #N/A | O26: 24 | P26: Christine Hurdidge | Q26: 00:48:54
A27: 3 | B27: Bev Jones | C27: =VLOOKUP($B27,$H$2:$J$50,2,FALSE) -> #N/A | D27: =VLOOKUP($B27,$H$2:$J$50,3,FALSE) -> #N/A | E27: 7 | G27: 25 | I27: 0.010543981 | K27: =I27/G$1 -> 0.0056234568 | L27: =VLOOKUP(H27,Ages!A$1:J$166,10,FALSE) -> #N/A | M27: =IF(I27<=VLOOKUP(L27,'Standards Male'!E$34:J$45,2,FALSE),'Standards Male'!F$33,IF(I27<=VLOOKUP(L27,'Standards Male'!E$34:J$45,3,FALSE),'Standards Male'!G$33,IF(I27<=VLOOKUP(L27,'Standards Male'!E$34:J$45,4,FALSE),'Standards Male'!H$33,IF(I27<=VLOOKUP(L27,'Standards Male'!E$34:J$45,5,FALSE),'Standards Male'!I$33,IF(I27<=VLOOKUP(L27,'Standards Male'!E$34:J$45,6,FALSE),'Standards Male'!J$33,'Standards Male'!J$33))))) -> #N/A | O27: 25 | P27: Paula Stockley | Q27: 0.040740741
A28: 4 | B28: Christina Smith | C28: =VLOOKUP($B28,$H$2:$J$50,2,FALSE) -> #N/A | D28: =VLOOKUP($B28,$H$2:$J$50,3,FALSE) -> #N/A | E28: 7 | G28: 26 | I28: 0.010636574 | K28: =I28/G$1 -> 0.0056728395 | L28: =VLOOKUP(H28,Ages!A$1:J$166,10,FALSE) -> #N/A | M28: =IF(I28<=VLOOKUP(L28,'Standards Female'!E$34:J$45,2,FALSE),'Standards Female'!F$33,IF(I28<=VLOOKUP(L28,'Standards Female'!E$34:J$45,3,FALSE),'Standards Female'!G$33,IF(I28<=VLOOKUP(L28,'Standards Female'!E$34:J$45,4,FALSE),'Standards Female'!H$33,IF(I28<=VLOOKUP(L28,'Standards Female'!E$34:J$45,5,FALSE),'Standards Female'!I$33,IF(I28<=VLOOKUP(L28,'Standards Female'!E$34:J$45,6,FALSE),'Standards Female'!J$33,'Standards Female'!J$33))))) -> #N/A | O28: 26 | P28: Fay Sharpe | Q28: 0.040752315
A29: 5 | B29: Steve McLelland | C29: =VLOOKUP($B29,$H$2:$J$50,2,FALSE) -> #N/A | D29: =VLOOKUP($B29,$H$2:$J$50,3,FALSE) -> #N/A | E29: 7 | G29: 27 | I29: 0.010763889 | K29: =I29/G$1 -> 0.0057407407 | L29: =VLOOKUP(H29,Ages!A$1:J$166,10,FALSE) -> #N/A | M29: =IF(I29<=VLOOKUP(L29,'Standards Female'!E$34:J$45,2,FALSE),'Standards Female'!F$33,IF(I29<=VLOOKUP(L29,'Standards Female'!E$34:J$45,3,FALSE),'Standards Female'!G$33,IF(I29<=VLOOKUP(L29,'Standards Female'!E$34:J$45,4,FALSE),'Standards Female'!H$33,IF(I29<=VLOOKUP(L29,'Standards Female'!E$34:J$45,5,FALSE),'Standards Female'!I$33,IF(I29<=VLOOKUP(L29,'Standards Female'!E$34:J$45,6,FALSE),'Standards Female'!J$33,'Standards Female'!J$33))))) -> #N/A
A30: 6 | B30: Eiri Evans-Jones | C30: =VLOOKUP($B30,$H$2:$J$50,2,FALSE) -> #N/A | D30: =VLOOKUP($B30,$H$2:$J$50,3,FALSE) -> #N/A | E30: 7 | G30: 28 | I30: 0.010914352 | K30: =I30/G$1 -> 0.0058209877 | L30: =VLOOKUP(H30,Ages!A$1:J$166,10,FALSE) -> #N/A | M30: =IF(I30<=VLOOKUP(L30,'Standards Male'!E$34:J$45,2,FALSE),'Standards Male'!F$33,IF(I30<=VLOOKUP(L30,'Standards Male'!E$34:J$45,3,FALSE),'Standards Male'!G$33,IF(I30<=VLOOKUP(L30,'Standards Male'!E$34:J$45,4,FALSE),'Standards Male'!H$33,IF(I30<=VLOOKUP(L30,'Standards Male'!E$34:J$45,5,FALSE),'Standards Male'!I$33,IF(I30<=VLOOKUP(L30,'Standards Male'!E$34:J$45,6,FALSE),'Standards Male'!J$33,'Standards Male'!J$33))))) -> #N/A | O30: Marshals
A31: 7 | B31: Steve Jones | C31: =VLOOKUP($B31,$H$2:$J$50,2,FALSE) -> #N/A | D31: =VLOOKUP($B31,$H$2:$J$50,3,FALSE) -> #N/A | E31: 7 | G31: 29 | I31: 0.010925926 | K31: =I31/G$1 -> 0.0058271605 | L31: =VLOOKUP(H31,Ages!A$1:J$166,10,FALSE) -> #N/A | M31: =IF(I31<=VLOOKUP(L31,'Standards Female'!E$34:J$45,2,FALSE),'Standards Female'!F$33,IF(I31<=VLOOKUP(L31,'Standards Female'!E$34:J$45,3,FALSE),'Standards Female'!G$33,IF(I31<=VLOOKUP(L31,'Standards Female'!E$34:J$45,4,FALSE),'Standards Female'!H$33,IF(I31<=VLOOKUP(L31,'Standards Female'!E$34:J$45,5,FALSE),'Standards Female'!I$33,IF(I31<=VLOOKUP(L31,'Standards Female'!E$34:J$45,6,FALSE),'Standards Female'!J$33,'Standards Female'!J$33))))) -> #N/A | O31: Fay Sharpe (organiser)
A32: 1 | B32: Vicky Davies | C32: =VLOOKUP($B32,$H$2:$J$50,2,FALSE) -> #N/A | D32: =VLOOKUP($B32,$H$2:$J$50,3,FALSE) -> #N/A | E32: 8 | G32: 30 | I32: 0.011018519 | K32: =I32/G$1 -> 0.0058765432 | L32: =VLOOKUP(H32,Ages!A$1:J$166,10,FALSE) -> #N/A | M32: =IF(I32<=VLOOKUP(L32,'Standards Male'!E$34:J$45,2,FALSE),'Standards Male'!F$33,IF(I32<=VLOOKUP(L32,'Standards Male'!E$34:J$45,3,FALSE),'Standards Male'!G$33,IF(I32<=VLOOKUP(L32,'Standards Male'!E$34:J$45,4,FALSE),'Standards Male'!H$33,IF(I32<=VLOOKUP(L32,'Standards Male'!E$34:J$45,5,FALSE),'Standards Male'!I$33,IF(I32<=VLOOKUP(L32,'Standards Male'!E$34:J$45,6,FALSE),'Standards Male'!J$33,'Standards Male'!J$33))))) -> #N/A | O32: Manisha Rickards
A33: 2 | B33: Leighton Jones | C33: =VLOOKUP($B33,$H$2:$J$50,2,FALSE) -> #N/A | D33: =VLOOKUP($B33,$H$2:$J$50,3,FALSE) -> #N/A | E33: 8 | G33: 31 | I33: 0.011041667 | K33: =I33/G$1 -> 0.0058888889 | L33: =VLOOKUP(H33,Ages!A$1:J$166,10,FALSE) -> #N/A | M33: =IF(I33<=VLOOKUP(L33,'Standards Female'!E$34:J$45,2,FALSE),'Standards Female'!F$33,IF(I33<=VLOOKUP(L33,'Standards Female'!E$34:J$45,3,FALSE),'Standards Female'!G$33,IF(I33<=VLOOKUP(L33,'Standards Female'!E$34:J$45,4,FALSE),'Standards Female'!H$33,IF(I33<=VLOOKUP(L33,'Standards Female'!E$34:J$45,5,FALSE),'Standards Female'!I$33,IF(I33<=VLOOKUP(L33,'Standards Female'!E$34:J$45,6,FALSE),'Standards Female'!J$33,'Standards Female'!J$33))))) -> #N/A | O33: Cris Arnold
A34: 3 | B34: Michelle Thomas-Luisi | C34: =VLOOKUP($B34,$H$2:$J$50,2,FALSE) -> #N/A | D34: =VLOOKUP($B34,$H$2:$J$50,3,FALSE) -> #N/A | E34: 8 | G34: 32 | I34: 0.011076389 | K34: =I34/G$1 -> 0.0059074074 | L34: =VLOOKUP(H34,Ages!A$1:J$166,10,FALSE) -> #N/A | M34: =IF(I34<=VLOOKUP(L34,'Standards Female'!E$34:J$45,2,FALSE),'Standards Female'!F$33,IF(I34<=VLOOKUP(L34,'Standards Female'!E$34:J$45,3,FALSE),'Standards Female'!G$33,IF(I34<=VLOOKUP(L34,'Standards Female'!E$34:J$45,4,FALSE),'Standards Female'!H$33,IF(I34<=VLOOKUP(L34,'Standards Female'!E$34:J$45,5,FALSE),'Standards Female'!I$33,IF(I34<=VLOOKUP(L34,'Standards Female'!E$34:J$45,6,FALSE),'Standards Female'!J$33,'Standards Female'!J$33))))) -> #N/A | O34: Chris Simons
A35: 4 | B35: Caroline Morgan | C35: =VLOOKUP($B35,$H$2:$J$50,2,FALSE) -> #N/A | D35: =VLOOKUP($B35,$H$2:$J$50,3,FALSE) -> #N/A | E35: 8 | G35: 33 | I35: 0.011238426 | K35: =I35/G$1 -> 0.0059938272 | L35: =VLOOKUP(H35,Ages!A$1:J$166,10,FALSE) -> #N/A | M35: =IF(I35<=VLOOKUP(L35,'Standards Male'!E$34:J$45,2,FALSE),'Standards Male'!F$33,IF(I35<=VLOOKUP(L35,'Standards Male'!E$34:J$45,3,FALSE),'Standards Male'!G$33,IF(I35<=VLOOKUP(L35,'Standards Male'!E$34:J$45,4,FALSE),'Standards Male'!H$33,IF(I35<=VLOOKUP(L35,'Standards Male'!E$34:J$45,5,FALSE),'Standards Male'!I$33,IF(I35<=VLOOKUP(L35,'Standards Male'!E$34:J$45,6,FALSE),'Standards Male'!J$33,'Standards Male'!J$33))))) -> #N/A | O35: Linda Owens
A36: 5 | B36: David Doherty | C36: =VLOOKUP($B36,$H$2:$J$50,2,FALSE) -> #N/A | D36: =VLOOKUP($B36,$H$2:$J$50,3,FALSE) -> #N/A | E36: 8 | G36: 34 | I36: 0.011273148 | K36: =I36/G$1 -> 0.0060123457 | L36: =VLOOKUP(H36,Ages!A$1:J$166,10,FALSE) -> #N/A | M36: =IF(I36<=VLOOKUP(L36,'Standards Female'!E$34:J$45,2,FALSE),'Standards Female'!F$33,IF(I36<=VLOOKUP(L36,'Standards Female'!E$34:J$45,3,FALSE),'Standards Female'!G$33,IF(I36<=VLOOKUP(L36,'Standards Female'!E$34:J$45,4,FALSE),'Standards Female'!H$33,IF(I36<=VLOOKUP(L36,'Standards Female'!E$34:J$45,5,FALSE),'Standards Female'!I$33,IF(I36<=VLOOKUP(L36,'Standards Female'!E$34:J$45,6,FALSE),'Standards Female'!J$33,'Standards Female'!J$33))))) -> #N/A | O36: Alan Pritchard
A37: 6 | B37: Debbie Gibbs | C37: =VLOOKUP($B37,$H$2:$J$50,2,FALSE) -> #N/A | D37: =VLOOKUP($B37,$H$2:$J$50,3,FALSE) -> #N/A | E37: 8 | G37: 35 | I37: 0.01130787 | K37: =I37/G$1 -> 0.0060308642 | L37: =VLOOKUP(H37,Ages!A$1:J$166,10,FALSE) -> #N/A | M37: =IF(I37<=VLOOKUP(L37,'Standards Female'!E$34:J$45,2,FALSE),'Standards Female'!F$33,IF(I37<=VLOOKUP(L37,'Standards Female'!E$34:J$45,3,FALSE),'Standards Female'!G$33,IF(I37<=VLOOKUP(L37,'Standards Female'!E$34:J$45,4,FALSE),'Standards Female'!H$33,IF(I37<=VLOOKUP(L37,'Standards Female'!E$34:J$45,5,FALSE),'Standards Female'!I$33,IF(I37<=VLOOKUP(L37,'Standards Female'!E$34:J$45,6,FALSE),'Standards Female'!J$33,'Standards Female'!J$33))))) -> #N/A | O37: David Barham
A38: 7 | B38: Terry Jones | C38: =VLOOKUP($B38,$H$2:$J$50,2,FALSE) -> #N/A | D38: =VLOOKUP($B38,$H$2:$J$50,3,FALSE) -> #N/A | E38: 8 | G38: 36 | I38: 0.011342593 | K38: =I38/G$1 -> 0.0060493827 | L38: =VLOOKUP(H38,Ages!A$1:J$166,10,FALSE) -> #N/A | M38: =IF(I38<=VLOOKUP(L38,'Standards Female'!E$34:J$45,2,FALSE),'Standards Female'!F$33,IF(I38<=VLOOKUP(L38,'Standards Female'!E$34:J$45,3,FALSE),'Standards Female'!G$33,IF(I38<=VLOOKUP(L38,'Standards Female'!E$34:J$45,4,FALSE),'Standards Female'!H$33,IF(I38<=VLOOKUP(L38,'Standards Female'!E$34:J$45,5,FALSE),'Standards Female'!I$33,IF(I38<=VLOOKUP(L38,'Standards Female'!E$34:J$45,6,FALSE),'Standards Female'!J$33,'Standards Female'!J$33))))) -> #N/A | O38: Meinir Jones
A39: 8 | B39: Alice Sullivan | C39: =VLOOKUP($B39,$H$2:$J$50,2,FALSE) -> #N/A | D39: =VLOOKUP($B39,$H$2:$J$50,3,FALSE) -> #N/A | E39: 8 | G39: 37 | I39: 0.011354167 | K39: =I39/G$1 -> 0.0060555556 | L39: 0-34 | M39: =IF(I39<=VLOOKUP(L39,'Standards Female'!E$34:J$45,2,FALSE),'Standards Female'!F$33,IF(I39<=VLOOKUP(L39,'Standards Female'!E$34:J$45,3,FALSE),'Standards Female'!G$33,IF(I39<=VLOOKUP(L39,'Standards Female'!E$34:J$45,4,FALSE),'Standards Female'!H$33,IF(I39<=VLOOKUP(L39,'Standards Female'!E$34:J$45,5,FALSE),'Standards Female'!I$33,IF(I39<=VLOOKUP(L39,'Standards Female'!E$34:J$45,6,FALSE),'Standards Female'!J$33,'Standards Female'!J$33))))) -> Copper | O39: Rose Jones
A40: 9 | B40: Manisha Rickards | C40: =VLOOKUP($B40,$H$2:$J$50,2,FALSE) -> #N/A | D40: =VLOOKUP($B40,$H$2:$J$50,3,FALSE) -> #N/A | E40: 8 | G40: 38 | I40: 0.011527778 | K40: =I40/G$1 -> 0.0061481481 | L40: =VLOOKUP(H40,Ages!A$1:J$166,10,FALSE) -> #N/A | M40: =IF(I40<=VLOOKUP(L40,'Standards Male'!E$34:J$45,2,FALSE),'Standards Male'!F$33,IF(I40<=VLOOKUP(L40,'Standards Male'!E$34:J$45,3,FALSE),'Standards Male'!G$33,IF(I40<=VLOOKUP(L40,'Standards Male'!E$34:J$45,4,FALSE),'Standards Male'!H$33,IF(I40<=VLOOKUP(L40,'Standards Male'!E$34:J$45,5,FALSE),'Standards Male'!I$33,IF(I40<=VLOOKUP(L40,'Standards Male'!E$34:J$45,6,FALSE),'Standards Male'!J$33,'Standards Male'!J$33))))) -> #N/A
A41: 1 | B41: Jody Ralph | C41: =VLOOKUP($B41,$H$2:$J$50,2,FALSE) -> #N/A | D41: =VLOOKUP($B41,$H$2:$J$50,3,FALSE) -> #N/A | E41: 9 | G41: 39 | I41: 0.011539352 | K41: =I41/G$1 -> 0.006154321 | L41: =VLOOKUP(H41,Ages!A$1:J$166,10,FALSE) -> #N/A | M41: =IF(I41<=VLOOKUP(L41,'Standards Female'!E$34:J$45,2,FALSE),'Standards Female'!F$33,IF(I41<=VLOOKUP(L41,'Standards Female'!E$34:J$45,3,FALSE),'Standards Female'!G$33,IF(I41<=VLOOKUP(L41,'Standards Female'!E$34:J$45,4,FALSE),'Standards Female'!H$33,IF(I41<=VLOOKUP(L41,'Standards Female'!E$34:J$45,5,FALSE),'Standards Female'!I$33,IF(I41<=VLOOKUP(L41,'Standards Female'!E$34:J$45,6,FALSE),'Standards Female'!J$33,'Standards Female'!J$33))))) -> #N/A
A42: 2 | B42: Jia Ping Lee | C42: =VLOOKUP($B42,$H$2:$J$50,2,FALSE) -> #N/A | D42: =VLOOKUP($B42,$H$2:$J$50,3,FALSE) -> #N/A | E42: 9 | G42: 40 | I42: 0.011574074 | K42: =I42/G$1 -> 0.0061728395 | L42: =VLOOKUP(H42,Ages!A$1:J$166,10,FALSE) -> #N/A | M42: =IF(I42<=VLOOKUP(L42,'Standards Female'!E$34:J$45,2,FALSE),'Standards Female'!F$33,IF(I42<=VLOOKUP(L42,'Standards Female'!E$34:J$45,3,FALSE),'Standards Female'!G$33,IF(I42<=VLOOKUP(L42,'Standards Female'!E$34:J$45,4,FALSE),'Standards Female'!H$33,IF(I42<=VLOOKUP(L42,'Standards Female'!E$34:J$45,5,FALSE),'Standards Female'!I$33,IF(I42<=VLOOKUP(L42,'Standards Female'!E$34:J$45,6,FALSE),'Standards Female'!J$33,'Standards Female'!J$33))))) -> #N/A
A43: 3 | B43: Meaghan Jenkins | C43: =VLOOKUP($B43,$H$2:$J$50,2,FALSE) -> #N/A | D43: =VLOOKUP($B43,$H$2:$J$50,3,FALSE) -> #N/A | E43: 9 | G43: 41 | I43: 0.011585648 | K43: =I43/G$1 -> 0.0061790123 | L43: =VLOOKUP(H43,Ages!A$1:J$166,10,FALSE) -> #N/A | M43: =IF(I43<=VLOOKUP(L43,'Standards Male'!E$34:J$45,2,FALSE),'Standards Male'!F$33,IF(I43<=VLOOKUP(L43,'Standards Male'!E$34:J$45,3,FALSE),'Standards Male'!G$33,IF(I43<=VLOOKUP(L43,'Standards Male'!E$34:J$45,4,FALSE),'Standards Male'!H$33,IF(I43<=VLOOKUP(L43,'Standards Male'!E$34:J$45,5,FALSE),'Standards Male'!I$33,IF(I43<=VLOOKUP(L43,'Standards Male'!E$34:J$45,6,FALSE),'Standards Male'!J$33,'Standards Male'!J$33))))) -> #N/A
A44: 4 | B44: Victoria Holmes | C44: =VLOOKUP($B44,$H$2:$J$50,2,FALSE) -> #N/A | D44: =VLOOKUP($B44,$H$2:$J$50,3,FALSE) -> #N/A | E44: 9 | G44: 42 | I44: 0.01181713 | K44: =I44/G$1 -> 0.0063024691 | L44: =VLOOKUP(H44,Ages!A$1:J$166,10,FALSE) -> #N/A | M44: =IF(I44<=VLOOKUP(L44,'Standards Female'!E$34:J$45,2,FALSE),'Standards Female'!F$33,IF(I44<=VLOOKUP(L44,'Standards Female'!E$34:J$45,3,FALSE),'Standards Female'!G$33,IF(I44<=VLOOKUP(L44,'Standards Female'!E$34:J$45,4,FALSE),'Standards Female'!H$33,IF(I44<=VLOOKUP(L44,'Standards Female'!E$34:J$45,5,FALSE),'Standards Female'!I$33,IF(I44<=VLOOKUP(L44,'Standards Female'!E$34:J$45,6,FALSE),'Standards Female'!J$33,'Standards Female'!J$33))))) -> #N/A
A45: 5 | B45: Mark Jenkins | C45: =VLOOKUP($B45,$H$2:$J$50,2,FALSE) -> #N/A | D45: =VLOOKUP($B45,$H$2:$J$50,3,FALSE) -> #N/A | E45: 9 | G45: 43 | I45: 0.0121875 | K45: =I45/G$1 -> 0.0065 | L45: =VLOOKUP(H45,Ages!A$1:J$166,10,FALSE) -> #N/A | M45: =IF(I45<=VLOOKUP(L45,'Standards Male'!E$34:J$45,2,FALSE),'Standards Male'!F$33,IF(I45<=VLOOKUP(L45,'Standards Male'!E$34:J$45,3,FALSE),'Standards Male'!G$33,IF(I45<=VLOOKUP(L45,'Standards Male'!E$34:J$45,4,FALSE),'Standards Male'!H$33,IF(I45<=VLOOKUP(L45,'Standards Male'!E$34:J$45,5,FALSE),'Standards Male'!I$33,IF(I45<=VLOOKUP(L45,'Standards Male'!E$34:J$45,6,FALSE),'Standards Male'!J$33,'Standards Male'!J$33))))) -> #N/A
A46: 6 | B46: Saran Lewis | C46: =VLOOKUP($B46,$H$2:$J$50,2,FALSE) -> #N/A | D46: =VLOOKUP($B46,$H$2:$J$50,3,FALSE) -> #N/A | E46: 9 | G46: 44 | I46: 0.012789352 | K46: =I46/G$1 -> 0.0068209877 | L46: =VLOOKUP(H46,Ages!A$1:J$166,10,FALSE) -> #N/A | M46: =IF(I46<=VLOOKUP(L46,'Standards Female'!E$34:J$45,2,FALSE),'Standards Female'!F$33,IF(I46<=VLOOKUP(L46,'Standards Female'!E$34:J$45,3,FALSE),'Standards Female'!G$33,IF(I46<=VLOOKUP(L46,'Standards Female'!E$34:J$45,4,FALSE),'Standards Female'!H$33,IF(I46<=VLOOKUP(L46,'Standards Female'!E$34:J$45,5,FALSE),'Standards Female'!I$33,IF(I46<=VLOOKUP(L46,'Standards Female'!E$34:J$45,6,FALSE),'Standards Female'!J$33,'Standards Female'!J$33))))) -> #N/A
A47: 1 | B47: Laura Hall | C47: =VLOOKUP($B47,$H$2:$J$50,2,FALSE) -> #N/A | D47: =VLOOKUP($B47,$H$2:$J$50,3,FALSE) -> #N/A | E47: 10 | G47: 45 | I47: 0.01462963 | K47: =I47/G$1 -> 0.0078024691 | L47: =VLOOKUP(H47,Ages!A$1:J$166,10,FALSE) -> #N/A | M47: =IF(I47<=VLOOKUP(L47,'Standards Female'!E$34:J$45,2,FALSE),'Standards Female'!F$33,IF(I47<=VLOOKUP(L47,'Standards Female'!E$34:J$45,3,FALSE),'Standards Female'!G$33,IF(I47<=VLOOKUP(L47,'Standards Female'!E$34:J$45,4,FALSE),'Standards Female'!H$33,IF(I47<=VLOOKUP(L47,'Standards Female'!E$34:J$45,5,FALSE),'Standards Female'!I$33,IF(I47<=VLOOKUP(L47,'Standards Female'!E$34:J$45,6,FALSE),'Standards Female'!J$33,'Standards Female'!J$33))))) -> #N/A
A48: 2 | B48: Nicola Julian | C48: =VLOOKUP($B48,$H$2:$J$50,2,FALSE) -> #N/A | D48: =VLOOKUP($B48,$H$2:$J$50,3,FALSE) -> #N/A | E48: 10 | G48: 46 | I48: 0.01537037 | K48: =I48/G$1 -> 0.0081975309 | L48: =VLOOKUP(H48,Ages!A$1:J$166,10,FALSE) -> #N/A | M48: =IF(I48<=VLOOKUP(L48,'Standards Female'!E$34:J$45,2,FALSE),'Standards Female'!F$33,IF(I48<=VLOOKUP(L48,'Standards Female'!E$34:J$45,3,FALSE),'Standards Female'!G$33,IF(I48<=VLOOKUP(L48,'Standards Female'!E$34:J$45,4,FALSE),'Standards Female'!H$33,IF(I48<=VLOOKUP(L48,'Standards Female'!E$34:J$45,5,FALSE),'Standards Female'!I$33,IF(I48<=VLOOKUP(L48,'Standards Female'!E$34:J$45,6,FALSE),'Standards Female'!J$33,'Standards Female'!J$33))))) -> #N/A
A49: 3 | B49: Jane Wallace | C49: =VLOOKUP($B49,$H$2:$J$50,2,FALSE) -> #N/A | D49: =VLOOKUP($B49,$H$2:$J$50,3,FALSE) -> #N/A | E49: 10 | G49: 47 | I49: 0.016168981 | K49: =I49/G$1 -> 0.0086234568 | L49: =VLOOKUP(H49,Ages!A$1:J$166,10,FALSE) -> #N/A | M49: =IF(I49<=VLOOKUP(L49,'Standards Female'!E$34:J$45,2,FALSE),'Standards Female'!F$33,IF(I49<=VLOOKUP(L49,'Standards Female'!E$34:J$45,3,FALSE),'Standards Female'!G$33,IF(I49<=VLOOKUP(L49,'Standards Female'!E$34:J$45,4,FALSE),'Standards Female'!H$33,IF(I49<=VLOOKUP(L49,'Standards Female'!E$34:J$45,5,FALSE),'Standards Female'!I$33,IF(I49<=VLOOKUP(L49,'Standards Female'!E$34:J$45,6,FALSE),'Standards Female'!J$33,'Standards Female'!J$33))))) -> #N/A
A50: 4 | B50: Paula Stockley | C50: =VLOOKUP($B50,$H$2:$J$50,2,FALSE) -> #N/A | D50: =VLOOKUP($B50,$H$2:$J$50,3,FALSE) -> #N/A | E50: 10 | G50: 48 | I50: 0.01619213 | K50: =I50/G$1 -> 0.0086358025 | L50: =VLOOKUP(H50,Ages!A$1:J$166,10,FALSE) -> #N/A | M50: =IF(I50<=VLOOKUP(L50,'Standards Female'!E$34:J$45,2,FALSE),'Standards Female'!F$33,IF(I50<=VLOOKUP(L50,'Standards Female'!E$34:J$45,3,FALSE),'Standards Female'!G$33,IF(I50<=VLOOKUP(L50,'Standards Female'!E$34:J$45,4,FALSE),'Standards Female'!H$33,IF(I50<=VLOOKUP(L50,'Standards Female'!E$34:J$45,5,FALSE),'Standards Female'!I$33,IF(I50<=VLOOKUP(L50,'Standards Female'!E$34:J$45,6,FALSE),'Standards Female'!J$33,'Standards Female'!J$33))))) -> #N/A

Sheet Race 6
A1: University Track | G1: 1 | H1: mile | I1: 45987
A2: Pos | B2: Group Order | C2: Time | D2: Points | E2: Div | G2: Pos | H2: Race Order | I2: Time | J2: Points | K2: Min/Mile | L2: Cat | M2: Standard | O2: Pos | P2: Ladies Only | Q2: Time
A3: 1 | B3: Chris Pridmore | C3: =VLOOKUP($B3,$H$2:$J$42,2,FALSE) -> #N/A | D3: =VLOOKUP($B3,$H$2:$J$42,3,FALSE) -> #N/A | E3: 1 | G3: 1 | I3: 0.0036574074 | K3: =I3/G$1 -> 0.0036574074 | L3: =VLOOKUP(H3,Ages!A$1:J$166,10,FALSE) -> #N/A | M3: =IF(I3<=VLOOKUP(L3,'Standards Male'!E$19:J$30,2,FALSE),'Standards Male'!F$18,IF(I3<=VLOOKUP(L3,'Standards Male'!E$19:J$30,3,FALSE),'Standards Male'!G$18,IF(I3<=VLOOKUP(L3,'Standards Male'!E$19:J$30,4,FALSE),'Standards Male'!H$18,IF(I3<=VLOOKUP(L3,'Standards Male'!E$19:J$30,5,FALSE),'Standards Male'!I$18,IF(I3<=VLOOKUP(L3,'Standards Male'!E$19:J$30,6,FALSE),'Standards Male'!J$18,'Standards Male'!J$18))))) -> #N/A | O3: 1 | P3: Katie Williams | Q3: 0.0043402778
A4: 2 | B4: Gareth Parry | C4: =VLOOKUP($B4,$H$2:$J$42,2,FALSE) -> #N/A | D4: =VLOOKUP($B4,$H$2:$J$42,3,FALSE) -> #N/A | E4: 1 | G4: 2 | I4: 0.003900463 | K4: =I4/G$1 -> 0.003900463 | L4: =VLOOKUP(H4,Ages!A$1:J$166,10,FALSE) -> #N/A | M4: =IF(I4<=VLOOKUP(L4,'Standards Male'!E$19:J$30,2,FALSE),'Standards Male'!F$18,IF(I4<=VLOOKUP(L4,'Standards Male'!E$19:J$30,3,FALSE),'Standards Male'!G$18,IF(I4<=VLOOKUP(L4,'Standards Male'!E$19:J$30,4,FALSE),'Standards Male'!H$18,IF(I4<=VLOOKUP(L4,'Standards Male'!E$19:J$30,5,FALSE),'Standards Male'!I$18,IF(I4<=VLOOKUP(L4,'Standards Male'!E$19:J$30,6,FALSE),'Standards Male'!J$18,'Standards Male'!J$18))))) -> #N/A | O4: 2 | P4: Michelle Grey | Q4: 0.0052430556
A5: 1 | B5: Justin Sperrin | C5: =VLOOKUP($B5,$H$2:$J$42,2,FALSE) -> #N/A | D5: =VLOOKUP($B5,$H$2:$J$42,3,FALSE) -> #N/A | E5: 2 | G5: 3 | I5: 0.0040393519 | K5: =I5/G$1 -> 0.0040393519 | L5: =VLOOKUP(H5,Ages!A$1:J$166,10,FALSE) -> #N/A | M5: =IF(I5<=VLOOKUP(L5,'Standards Male'!E$19:J$30,2,FALSE),'Standards Male'!F$18,IF(I5<=VLOOKUP(L5,'Standards Male'!E$19:J$30,3,FALSE),'Standards Male'!G$18,IF(I5<=VLOOKUP(L5,'Standards Male'!E$19:J$30,4,FALSE),'Standards Male'!H$18,IF(I5<=VLOOKUP(L5,'Standards Male'!E$19:J$30,5,FALSE),'Standards Male'!I$18,IF(I5<=VLOOKUP(L5,'Standards Male'!E$19:J$30,6,FALSE),'Standards Male'!J$18,'Standards Male'!J$18))))) -> #N/A | O5: 3 | P5: Louise Steer | Q5: 0.0052777778
A6: 2 | B6: Aron Jones | C6: =VLOOKUP($B6,$H$2:$J$42,2,FALSE) -> #N/A | D6: =VLOOKUP($B6,$H$2:$J$42,3,FALSE) -> #N/A | E6: 2 | G6: 4 | I6: 0.0041435185 | K6: =I6/G$1 -> 0.0041435185 | L6: =VLOOKUP(H6,Ages!A$1:J$166,10,FALSE) -> #N/A | M6: =IF(I6<=VLOOKUP(L6,'Standards Male'!E$19:J$30,2,FALSE),'Standards Male'!F$18,IF(I6<=VLOOKUP(L6,'Standards Male'!E$19:J$30,3,FALSE),'Standards Male'!G$18,IF(I6<=VLOOKUP(L6,'Standards Male'!E$19:J$30,4,FALSE),'Standards Male'!H$18,IF(I6<=VLOOKUP(L6,'Standards Male'!E$19:J$30,5,FALSE),'Standards Male'!I$18,IF(I6<=VLOOKUP(L6,'Standards Male'!E$19:J$30,6,FALSE),'Standards Male'!J$18,'Standards Male'!J$18))))) -> #N/A | O6: 4 | P6: Meaghan Jenkins | Q6: 0.0053125
A7: 3 | B7: Katie Williams | C7: =VLOOKUP($B7,$H$2:$J$42,2,FALSE) -> #N/A | D7: =VLOOKUP($B7,$H$2:$J$42,3,FALSE) -> #N/A | E7: 2 | G7: 5 | I7: 0.0043402778 | K7: =I7/G$1 -> 0.0043402778 | L7: =VLOOKUP(H7,Ages!A$1:J$166,10,FALSE) -> #N/A | M7: =IF(I7<=VLOOKUP(L7,'Standards Female'!E$19:J$30,2,FALSE),'Standards Female'!F$18,IF(I7<=VLOOKUP(L7,'Standards Female'!E$19:J$30,3,FALSE),'Standards Female'!G$18,IF(I7<=VLOOKUP(L7,'Standards Female'!E$19:J$30,4,FALSE),'Standards Female'!H$18,IF(I7<=VLOOKUP(L7,'Standards Female'!E$19:J$30,5,FALSE),'Standards Female'!I$18,IF(I7<=VLOOKUP(L7,'Standards Female'!E$19:J$30,6,FALSE),'Standards Female'!J$18,'Standards Female'!J$18))))) -> #N/A | O7: 5 | P7: Jenny Stanford | Q7: 0.0053587963
A8: 1 | B8: Kevin Watson | C8: =VLOOKUP($B8,$H$2:$J$42,2,FALSE) -> #N/A | D8: =VLOOKUP($B8,$H$2:$J$42,3,FALSE) -> #N/A | E8: 3 | G8: 6 | I8: 0.0044444444 | K8: =I8/G$1 -> 0.0044444444 | L8: =VLOOKUP(H8,Ages!A$1:J$166,10,FALSE) -> #N/A | M8: =IF(I8<=VLOOKUP(L8,'Standards Male'!E$19:J$30,2,FALSE),'Standards Male'!F$18,IF(I8<=VLOOKUP(L8,'Standards Male'!E$19:J$30,3,FALSE),'Standards Male'!G$18,IF(I8<=VLOOKUP(L8,'Standards Male'!E$19:J$30,4,FALSE),'Standards Male'!H$18,IF(I8<=VLOOKUP(L8,'Standards Male'!E$19:J$30,5,FALSE),'Standards Male'!I$18,IF(I8<=VLOOKUP(L8,'Standards Male'!E$19:J$30,6,FALSE),'Standards Male'!J$18,'Standards Male'!J$18))))) -> #N/A | O8: 6 | P8: Alice Sullivan | Q8: 0.0053819444
A9: 2 | B9: Chris Freestone | C9: =VLOOKUP($B9,$H$2:$J$42,2,FALSE) -> #N/A | D9: =VLOOKUP($B9,$H$2:$J$42,3,FALSE) -> #N/A | E9: 3 | G9: 7 | I9: 0.0044675926 | K9: =I9/G$1 -> 0.0044675926 | L9: =VLOOKUP(H9,Ages!A$1:J$166,10,FALSE) -> #N/A | M9: =IF(I9<=VLOOKUP(L9,'Standards Male'!E$19:J$30,2,FALSE),'Standards Male'!F$18,IF(I9<=VLOOKUP(L9,'Standards Male'!E$19:J$30,3,FALSE),'Standards Male'!G$18,IF(I9<=VLOOKUP(L9,'Standards Male'!E$19:J$30,4,FALSE),'Standards Male'!H$18,IF(I9<=VLOOKUP(L9,'Standards Male'!E$19:J$30,5,FALSE),'Standards Male'!I$18,IF(I9<=VLOOKUP(L9,'Standards Male'!E$19:J$30,6,FALSE),'Standards Male'!J$18,'Standards Male'!J$18))))) -> #N/A | O9: 7 | P9: Ruth Salmon | Q9: 0.005462963
A10: 1 | B10: Sean Morgans | C10: =VLOOKUP($B10,$H$2:$J$42,2,FALSE) -> #N/A | D10: =VLOOKUP($B10,$H$2:$J$42,3,FALSE) -> #N/A | E10: 4 | G10: 8 | I10: 00:06:27 | K10: =I10/G$1 -> 0.0044791667 | L10: =VLOOKUP(H10,Ages!A$1:J$166,10,FALSE) -> #N/A | M10: =IF(I10<=VLOOKUP(L10,'Standards Male'!E$19:J$30,2,FALSE),'Standards Male'!F$18,IF(I10<=VLOOKUP(L10,'Standards Male'!E$19:J$30,3,FALSE),'Standards Male'!G$18,IF(I10<=VLOOKUP(L10,'Standards Male'!E$19:J$30,4,FALSE),'Standards Male'!H$18,IF(I10<=VLOOKUP(L10,'Standards Male'!E$19:J$30,5,FALSE),'Standards Male'!I$18,IF(I10<=VLOOKUP(L10,'Standards Male'!E$19:J$30,6,FALSE),'Standards Male'!J$18,'Standards Male'!J$18))))) -> #N/A | O10: 8 | P10: Vicky Davies | Q10: 0.0055208333
A11: 2 | B11: Stuart Davies | C11: =VLOOKUP($B11,$H$2:$J$42,2,FALSE) -> #N/A | D11: =VLOOKUP($B11,$H$2:$J$42,3,FALSE) -> #N/A | E11: 4 | G11: 9 | I11: 0.004525463 | K11: =I11/G$1 -> 0.004525463 | L11: =VLOOKUP(H11,Ages!A$1:J$166,10,FALSE) -> #N/A | M11: =IF(I11<=VLOOKUP(L11,'Standards Male'!E$19:J$30,2,FALSE),'Standards Male'!F$18,IF(I11<=VLOOKUP(L11,'Standards Male'!E$19:J$30,3,FALSE),'Standards Male'!G$18,IF(I11<=VLOOKUP(L11,'Standards Male'!E$19:J$30,4,FALSE),'Standards Male'!H$18,IF(I11<=VLOOKUP(L11,'Standards Male'!E$19:J$30,5,FALSE),'Standards Male'!I$18,IF(I11<=VLOOKUP(L11,'Standards Male'!E$19:J$30,6,FALSE),'Standards Male'!J$18,'Standards Male'!J$18))))) -> #N/A | O11: 9 | P11: Jia Ping Lee | Q11: 0.0055324074
A12: 3 | B12: Hans Thompson | C12: =VLOOKUP($B12,$H$2:$J$42,2,FALSE) -> #N/A | D12: =VLOOKUP($B12,$H$2:$J$42,3,FALSE) -> #N/A | E12: 4 | G12: 10 | I12: 0.0047916667 | K12: =I12/G$1 -> 0.0047916667 | L12: =VLOOKUP(H12,Ages!A$1:J$166,10,FALSE) -> #N/A | M12: =IF(I12<=VLOOKUP(L12,'Standards Male'!E$19:J$30,2,FALSE),'Standards Male'!F$18,IF(I12<=VLOOKUP(L12,'Standards Male'!E$19:J$30,3,FALSE),'Standards Male'!G$18,IF(I12<=VLOOKUP(L12,'Standards Male'!E$19:J$30,4,FALSE),'Standards Male'!H$18,IF(I12<=VLOOKUP(L12,'Standards Male'!E$19:J$30,5,FALSE),'Standards Male'!I$18,IF(I12<=VLOOKUP(L12,'Standards Male'!E$19:J$30,6,FALSE),'Standards Male'!J$18,'Standards Male'!J$18))))) -> #N/A | O12: 10 | P12: Diane Ridgeway | Q12: 0.0055787037
A13: 4 | B13: Michelle Grey | C13: =VLOOKUP($B13,$H$2:$J$42,2,FALSE) -> #N/A | D13: =VLOOKUP($B13,$H$2:$J$42,3,FALSE) -> #N/A | E13: 4 | G13: 11 | I13: 0.0049537037 | K13: =I13/G$1 -> 0.0049537037 | L13: =VLOOKUP(H13,Ages!A$1:J$166,10,FALSE) -> #N/A | M13: =IF(I13<=VLOOKUP(L13,'Standards Female'!E$19:J$30,2,FALSE),'Standards Female'!F$18,IF(I13<=VLOOKUP(L13,'Standards Female'!E$19:J$30,3,FALSE),'Standards Female'!G$18,IF(I13<=VLOOKUP(L13,'Standards Female'!E$19:J$30,4,FALSE),'Standards Female'!H$18,IF(I13<=VLOOKUP(L13,'Standards Female'!E$19:J$30,5,FALSE),'Standards Female'!I$18,IF(I13<=VLOOKUP(L13,'Standards Female'!E$19:J$30,6,FALSE),'Standards Female'!J$18,'Standards Female'!J$18))))) -> #N/A | O13: 11 | P13: Bev Jones | Q13: 0.0056481481
A14: 5 | B14: Andy Rees | C14: =VLOOKUP($B14,$H$2:$J$42,2,FALSE) -> #N/A | D14: =VLOOKUP($B14,$H$2:$J$42,3,FALSE) -> #N/A | E14: 4 | G14: 12 | I14: 0.0050115741 | K14: =I14/G$1 -> 0.0050115741 | L14: =VLOOKUP(H14,Ages!A$1:J$166,10,FALSE) -> #N/A | M14: =IF(I14<=VLOOKUP(L14,'Standards Male'!E$19:J$30,2,FALSE),'Standards Male'!F$18,IF(I14<=VLOOKUP(L14,'Standards Male'!E$19:J$30,3,FALSE),'Standards Male'!G$18,IF(I14<=VLOOKUP(L14,'Standards Male'!E$19:J$30,4,FALSE),'Standards Male'!H$18,IF(I14<=VLOOKUP(L14,'Standards Male'!E$19:J$30,5,FALSE),'Standards Male'!I$18,IF(I14<=VLOOKUP(L14,'Standards Male'!E$19:J$30,6,FALSE),'Standards Male'!J$18,'Standards Male'!J$18))))) -> #N/A | O14: 12 | P14: Caroline Jones II | Q14: 0.0057060185
A15: 1 | B15: Cris Arnold | C15: =VLOOKUP($B15,$H$2:$J$42,2,FALSE) -> #N/A | D15: =VLOOKUP($B15,$H$2:$J$42,3,FALSE) -> #N/A | E15: 5 | G15: 13 | I15: 0.0052199074 | K15: =I15/G$1 -> 0.0052199074 | L15: =VLOOKUP(H15,Ages!A$1:J$166,10,FALSE) -> #N/A | M15: =IF(I15<=VLOOKUP(L15,'Standards Male'!E$19:J$30,2,FALSE),'Standards Male'!F$18,IF(I15<=VLOOKUP(L15,'Standards Male'!E$19:J$30,3,FALSE),'Standards Male'!G$18,IF(I15<=VLOOKUP(L15,'Standards Male'!E$19:J$30,4,FALSE),'Standards Male'!H$18,IF(I15<=VLOOKUP(L15,'Standards Male'!E$19:J$30,5,FALSE),'Standards Male'!I$18,IF(I15<=VLOOKUP(L15,'Standards Male'!E$19:J$30,6,FALSE),'Standards Male'!J$18,'Standards Male'!J$18))))) -> #N/A | O15: 13 | P15: Christina Smith | Q15: 0.0057291667
A16: 2 | B16: Francis Heron | C16: =VLOOKUP($B16,$H$2:$J$42,2,FALSE) -> #N/A | D16: =VLOOKUP($B16,$H$2:$J$42,3,FALSE) -> #N/A | E16: 5 | G16: 14 | I16: 0.0052430556 | K16: =I16/G$1 -> 0.0052430556 | L16: =VLOOKUP(H16,Ages!A$1:J$166,10,FALSE) -> #N/A | M16: =IF(I16<=VLOOKUP(L16,'Standards Female'!E$19:J$30,2,FALSE),'Standards Female'!F$18,IF(I16<=VLOOKUP(L16,'Standards Female'!E$19:J$30,3,FALSE),'Standards Female'!G$18,IF(I16<=VLOOKUP(L16,'Standards Female'!E$19:J$30,4,FALSE),'Standards Female'!H$18,IF(I16<=VLOOKUP(L16,'Standards Female'!E$19:J$30,5,FALSE),'Standards Female'!I$18,IF(I16<=VLOOKUP(L16,'Standards Female'!E$19:J$30,6,FALSE),'Standards Female'!J$18,'Standards Female'!J$18))))) -> #N/A | O16: 14 | P16: Caroline Morgan | Q16: 0.0057638889
A17: 3 | B17: Diane Ridgeway | C17: =VLOOKUP($B17,$H$2:$J$42,2,FALSE) -> #N/A | D17: =VLOOKUP($B17,$H$2:$J$42,3,FALSE) -> #N/A | E17: 5 | G17: 15 | I17: 0.0052662037 | K17: =I17/G$1 -> 0.0052662037 | L17: =VLOOKUP(H17,Ages!A$1:J$166,10,FALSE) -> #N/A | M17: =IF(I17<=VLOOKUP(L17,'Standards Male'!E$19:J$30,2,FALSE),'Standards Male'!F$18,IF(I17<=VLOOKUP(L17,'Standards Male'!E$19:J$30,3,FALSE),'Standards Male'!G$18,IF(I17<=VLOOKUP(L17,'Standards Male'!E$19:J$30,4,FALSE),'Standards Male'!H$18,IF(I17<=VLOOKUP(L17,'Standards Male'!E$19:J$30,5,FALSE),'Standards Male'!I$18,IF(I17<=VLOOKUP(L17,'Standards Male'!E$19:J$30,6,FALSE),'Standards Male'!J$18,'Standards Male'!J$18))))) -> #N/A | O17: 15 | P17: Eiri Evans-Jones | Q17: 0.005775463
A18: 1 | B18: Sam Grunhut | C18: =VLOOKUP($B18,$H$2:$J$42,2,FALSE) -> #N/A | D18: =VLOOKUP($B18,$H$2:$J$42,3,FALSE) -> #N/A | E18: 6 | G18: 16 | I18: 0.0052777778 | K18: =I18/G$1 -> 0.0052777778 | L18: =VLOOKUP(H18,Ages!A$1:J$166,10,FALSE) -> #N/A | M18: =IF(I18<=VLOOKUP(L18,'Standards Female'!E$19:J$30,2,FALSE),'Standards Female'!F$18,IF(I18<=VLOOKUP(L18,'Standards Female'!E$19:J$30,3,FALSE),'Standards Female'!G$18,IF(I18<=VLOOKUP(L18,'Standards Female'!E$19:J$30,4,FALSE),'Standards Female'!H$18,IF(I18<=VLOOKUP(L18,'Standards Female'!E$19:J$30,5,FALSE),'Standards Female'!I$18,IF(I18<=VLOOKUP(L18,'Standards Female'!E$19:J$30,6,FALSE),'Standards Female'!J$18,'Standards Female'!J$18))))) -> #N/A | O18: 16 | P18: Saran Lewis | Q18: 0.0060648148
A19: 2 | B19: Jenny Stanford | C19: =VLOOKUP($B19,$H$2:$J$42,2,FALSE) -> #N/A | D19: =VLOOKUP($B19,$H$2:$J$42,3,FALSE) -> #N/A | E19: 6 | G19: 17 | I19: 0.0053125 | K19: =I19/G$1 -> 0.0053125 | L19: =VLOOKUP(H19,Ages!A$1:J$166,10,FALSE) -> #N/A | M19: =IF(I19<=VLOOKUP(L19,'Standards Female'!E$19:J$30,2,FALSE),'Standards Female'!F$18,IF(I19<=VLOOKUP(L19,'Standards Female'!E$19:J$30,3,FALSE),'Standards Female'!G$18,IF(I19<=VLOOKUP(L19,'Standards Female'!E$19:J$30,4,FALSE),'Standards Female'!H$18,IF(I19<=VLOOKUP(L19,'Standards Female'!E$19:J$30,5,FALSE),'Standards Female'!I$18,IF(I19<=VLOOKUP(L19,'Standards Female'!E$19:J$30,6,FALSE),'Standards Female'!J$18,'Standards Female'!J$18))))) -> #N/A | O19: 17 | P19: Victoria Holmes | Q19: 0.0061458333
A20: 3 | B20: Mike Prasad | C20: =VLOOKUP($B20,$H$2:$J$42,2,FALSE) -> #N/A | D20: =VLOOKUP($B20,$H$2:$J$42,3,FALSE) -> #N/A | E20: 6 | G20: 18 | I20: 0.0053240741 | K20: =I20/G$1 -> 0.0053240741 | L20: =VLOOKUP(H20,Ages!A$1:J$166,10,FALSE) -> #N/A | M20: =IF(I20<=VLOOKUP(L20,'Standards Male'!E$19:J$30,2,FALSE),'Standards Male'!F$18,IF(I20<=VLOOKUP(L20,'Standards Male'!E$19:J$30,3,FALSE),'Standards Male'!G$18,IF(I20<=VLOOKUP(L20,'Standards Male'!E$19:J$30,4,FALSE),'Standards Male'!H$18,IF(I20<=VLOOKUP(L20,'Standards Male'!E$19:J$30,5,FALSE),'Standards Male'!I$18,IF(I20<=VLOOKUP(L20,'Standards Male'!E$19:J$30,6,FALSE),'Standards Male'!J$18,'Standards Male'!J$18))))) -> #N/A | O20: 18 | P20: Lynn Holmes | Q20: 0.0064467593
A21: 1 | B21: Ed Davies | C21: =VLOOKUP($B21,$H$2:$J$42,2,FALSE) -> #N/A | D21: =VLOOKUP($B21,$H$2:$J$42,3,FALSE) -> #N/A | E21: 7 | G21: 19 | I21: 0.0053587963 | K21: =I21/G$1 -> 0.0053587963 | L21: =VLOOKUP(H21,Ages!A$1:J$166,10,FALSE) -> #N/A | M21: =IF(I21<=VLOOKUP(L21,'Standards Male'!E$19:J$30,2,FALSE),'Standards Male'!F$18,IF(I21<=VLOOKUP(L21,'Standards Male'!E$19:J$30,3,FALSE),'Standards Male'!G$18,IF(I21<=VLOOKUP(L21,'Standards Male'!E$19:J$30,4,FALSE),'Standards Male'!H$18,IF(I21<=VLOOKUP(L21,'Standards Male'!E$19:J$30,5,FALSE),'Standards Male'!I$18,IF(I21<=VLOOKUP(L21,'Standards Male'!E$19:J$30,6,FALSE),'Standards Male'!J$18,'Standards Male'!J$18))))) -> #N/A | O21: 19 | P21: Gina Southam | Q21: 0.0064930556
A22: 2 | B22: Ruth Salmon | C22: =VLOOKUP($B22,$H$2:$J$42,2,FALSE) -> #N/A | D22: =VLOOKUP($B22,$H$2:$J$42,3,FALSE) -> #N/A | E22: 7 | G22: 20 | I22: 0.0053587963 | K22: =I22/G$1 -> 0.0053587963 | L22: =VLOOKUP(H22,Ages!A$1:J$166,10,FALSE) -> #N/A | M22: =IF(I22<=VLOOKUP(L22,'Standards Female'!E$19:J$30,2,FALSE),'Standards Female'!F$18,IF(I22<=VLOOKUP(L22,'Standards Female'!E$19:J$30,3,FALSE),'Standards Female'!G$18,IF(I22<=VLOOKUP(L22,'Standards Female'!E$19:J$30,4,FALSE),'Standards Female'!H$18,IF(I22<=VLOOKUP(L22,'Standards Female'!E$19:J$30,5,FALSE),'Standards Female'!I$18,IF(I22<=VLOOKUP(L22,'Standards Female'!E$19:J$30,6,FALSE),'Standards Female'!J$18,'Standards Female'!J$18))))) -> #N/A | O22: 20 | P22: Laura Hall | Q22: 0.0065162037
A23: 3 | B23: Bev Jones | C23: =VLOOKUP($B23,$H$2:$J$42,2,FALSE) -> #N/A | D23: =VLOOKUP($B23,$H$2:$J$42,3,FALSE) -> #N/A | E23: 7 | G23: 21 | I23: 0.0053819444 | K23: =I23/G$1 -> 0.0053819444 | L23: =VLOOKUP(H23,Ages!A$1:J$166,10,FALSE) -> #N/A | M23: =IF(I23<=VLOOKUP(L23,'Standards Male'!E$19:J$30,2,FALSE),'Standards Male'!F$18,IF(I23<=VLOOKUP(L23,'Standards Male'!E$19:J$30,3,FALSE),'Standards Male'!G$18,IF(I23<=VLOOKUP(L23,'Standards Male'!E$19:J$30,4,FALSE),'Standards Male'!H$18,IF(I23<=VLOOKUP(L23,'Standards Male'!E$19:J$30,5,FALSE),'Standards Male'!I$18,IF(I23<=VLOOKUP(L23,'Standards Male'!E$19:J$30,6,FALSE),'Standards Male'!J$18,'Standards Male'!J$18))))) -> #N/A | O23: 21 | P23: Debbie Gibbs | Q23: 0.0067476852
A24: 4 | B24: Christina Smith | C24: =VLOOKUP($B24,$H$2:$J$42,2,FALSE) -> #N/A | D24: =VLOOKUP($B24,$H$2:$J$42,3,FALSE) -> #N/A | E24: 7 | G24: 22 | I24: 0.0053819444 | K24: =I24/G$1 -> 0.0053819444 | L24: =VLOOKUP(H24,Ages!A$1:J$166,10,FALSE) -> #N/A | M24: =IF(I24<=VLOOKUP(L24,'Standards Female'!E$19:J$30,2,FALSE),'Standards Female'!F$18,IF(I24<=VLOOKUP(L24,'Standards Female'!E$19:J$30,3,FALSE),'Standards Female'!G$18,IF(I24<=VLOOKUP(L24,'Standards Female'!E$19:J$30,4,FALSE),'Standards Female'!H$18,IF(I24<=VLOOKUP(L24,'Standards Female'!E$19:J$30,5,FALSE),'Standards Female'!I$18,IF(I24<=VLOOKUP(L24,'Standards Female'!E$19:J$30,6,FALSE),'Standards Female'!J$18,'Standards Female'!J$18))))) -> #N/A | O24: 22 | P24: Paula Stockley | Q24: 0.0085300926
A25: 5 | B25: Eiri Evans-Jones | C25: =VLOOKUP($B25,$H$2:$J$42,2,FALSE) -> #N/A | D25: =VLOOKUP($B25,$H$2:$J$42,3,FALSE) -> #N/A | E25: 7 | G25: 23 | I25: 0.005462963 | K25: =I25/G$1 -> 0.005462963 | L25: =VLOOKUP(H25,Ages!A$1:J$166,10,FALSE) -> #N/A | M25: =IF(I25<=VLOOKUP(L25,'Standards Female'!E$19:J$30,2,FALSE),'Standards Female'!F$18,IF(I25<=VLOOKUP(L25,'Standards Female'!E$19:J$30,3,FALSE),'Standards Female'!G$18,IF(I25<=VLOOKUP(L25,'Standards Female'!E$19:J$30,4,FALSE),'Standards Female'!H$18,IF(I25<=VLOOKUP(L25,'Standards Female'!E$19:J$30,5,FALSE),'Standards Female'!I$18,IF(I25<=VLOOKUP(L25,'Standards Female'!E$19:J$30,6,FALSE),'Standards Female'!J$18,'Standards Female'!J$18))))) -> #N/A
A26: 6 | B26: Steve McLelland | C26: =VLOOKUP($B26,$H$2:$J$42,2,FALSE) -> #N/A | D26: =VLOOKUP($B26,$H$2:$J$42,3,FALSE) -> #N/A | E26: 7 | G26: 24 | I26: 0.0055208333 | K26: =I26/G$1 -> 0.0055208333 | L26: =VLOOKUP(H26,Ages!A$1:J$166,10,FALSE) -> #N/A | M26: =IF(I26<=VLOOKUP(L26,'Standards Female'!E$19:J$30,2,FALSE),'Standards Female'!F$18,IF(I26<=VLOOKUP(L26,'Standards Female'!E$19:J$30,3,FALSE),'Standards Female'!G$18,IF(I26<=VLOOKUP(L26,'Standards Female'!E$19:J$30,4,FALSE),'Standards Female'!H$18,IF(I26<=VLOOKUP(L26,'Standards Female'!E$19:J$30,5,FALSE),'Standards Female'!I$18,IF(I26<=VLOOKUP(L26,'Standards Female'!E$19:J$30,6,FALSE),'Standards Female'!J$18,'Standards Female'!J$18))))) -> #N/A | O26: Marshals
A27: 7 | B27: Steve Jones | C27: =VLOOKUP($B27,$H$2:$J$42,2,FALSE) -> #N/A | D27: =VLOOKUP($B27,$H$2:$J$42,3,FALSE) -> #N/A | E27: 7 | G27: 25 | I27: 0.0055324074 | K27: =I27/G$1 -> 0.0055324074 | L27: =VLOOKUP(H27,Ages!A$1:J$166,10,FALSE) -> #N/A | M27: =IF(I27<=VLOOKUP(L27,'Standards Female'!E$19:J$30,2,FALSE),'Standards Female'!F$18,IF(I27<=VLOOKUP(L27,'Standards Female'!E$19:J$30,3,FALSE),'Standards Female'!G$18,IF(I27<=VLOOKUP(L27,'Standards Female'!E$19:J$30,4,FALSE),'Standards Female'!H$18,IF(I27<=VLOOKUP(L27,'Standards Female'!E$19:J$30,5,FALSE),'Standards Female'!I$18,IF(I27<=VLOOKUP(L27,'Standards Female'!E$19:J$30,6,FALSE),'Standards Female'!J$18,'Standards Female'!J$18))))) -> #N/A | O27: Alan Pritchard
A28: 1 | B28: Louise Steer | C28: =VLOOKUP($B28,$H$2:$J$42,2,FALSE) -> #N/A | D28: =VLOOKUP($B28,$H$2:$J$42,3,FALSE) -> #N/A | E28: 8 | G28: 26 | I28: 0.0055787037 | K28: =I28/G$1 -> 0.0055787037 | L28: =VLOOKUP(H28,Ages!A$1:J$166,10,FALSE) -> #N/A | M28: =IF(I28<=VLOOKUP(L28,'Standards Female'!E$19:J$30,2,FALSE),'Standards Female'!F$18,IF(I28<=VLOOKUP(L28,'Standards Female'!E$19:J$30,3,FALSE),'Standards Female'!G$18,IF(I28<=VLOOKUP(L28,'Standards Female'!E$19:J$30,4,FALSE),'Standards Female'!H$18,IF(I28<=VLOOKUP(L28,'Standards Female'!E$19:J$30,5,FALSE),'Standards Female'!I$18,IF(I28<=VLOOKUP(L28,'Standards Female'!E$19:J$30,6,FALSE),'Standards Female'!J$18,'Standards Female'!J$18))))) -> #N/A | O28: Karen Dusgate
A29: 2 | B29: David Doherty | C29: =VLOOKUP($B29,$H$2:$J$42,2,FALSE) -> #N/A | D29: =VLOOKUP($B29,$H$2:$J$42,3,FALSE) -> #N/A | E29: 8 | G29: 27 | I29: 0.0056481481 | K29: =I29/G$1 -> 0.0056481481 | L29: =VLOOKUP(H29,Ages!A$1:J$166,10,FALSE) -> #N/A | M29: =IF(I29<=VLOOKUP(L29,'Standards Female'!E$19:J$30,2,FALSE),'Standards Female'!F$18,IF(I29<=VLOOKUP(L29,'Standards Female'!E$19:J$30,3,FALSE),'Standards Female'!G$18,IF(I29<=VLOOKUP(L29,'Standards Female'!E$19:J$30,4,FALSE),'Standards Female'!H$18,IF(I29<=VLOOKUP(L29,'Standards Female'!E$19:J$30,5,FALSE),'Standards Female'!I$18,IF(I29<=VLOOKUP(L29,'Standards Female'!E$19:J$30,6,FALSE),'Standards Female'!J$18,'Standards Female'!J$18))))) -> #N/A | O29: Paul Rees
A30: 3 | B30: Alice Sullivan | C30: =VLOOKUP($B30,$H$2:$J$42,2,FALSE) -> #N/A | D30: =VLOOKUP($B30,$H$2:$J$42,3,FALSE) -> #N/A | E30: 8 | G30: 28 | I30: 0.0057060185 | K30: =I30/G$1 -> 0.0057060185 | L30: =VLOOKUP(H30,Ages!A$1:J$166,10,FALSE) -> #N/A | M30: =IF(I30<=VLOOKUP(L30,'Standards Female'!E$19:J$30,2,FALSE),'Standards Female'!F$18,IF(I30<=VLOOKUP(L30,'Standards Female'!E$19:J$30,3,FALSE),'Standards Female'!G$18,IF(I30<=VLOOKUP(L30,'Standards Female'!E$19:J$30,4,FALSE),'Standards Female'!H$18,IF(I30<=VLOOKUP(L30,'Standards Female'!E$19:J$30,5,FALSE),'Standards Female'!I$18,IF(I30<=VLOOKUP(L30,'Standards Female'!E$19:J$30,6,FALSE),'Standards Female'!J$18,'Standards Female'!J$18))))) -> #N/A | O30: Linda Rees
A31: 4 | B31: Vicky Davies | C31: =VLOOKUP($B31,$H$2:$J$42,2,FALSE) -> #N/A | D31: =VLOOKUP($B31,$H$2:$J$42,3,FALSE) -> #N/A | E31: 8 | G31: 29 | I31: 0.0057291667 | K31: =I31/G$1 -> 0.0057291667 | L31: =VLOOKUP(H31,Ages!A$1:J$166,10,FALSE) -> #N/A | M31: =IF(I31<=VLOOKUP(L31,'Standards Female'!E$19:J$30,2,FALSE),'Standards Female'!F$18,IF(I31<=VLOOKUP(L31,'Standards Female'!E$19:J$30,3,FALSE),'Standards Female'!G$18,IF(I31<=VLOOKUP(L31,'Standards Female'!E$19:J$30,4,FALSE),'Standards Female'!H$18,IF(I31<=VLOOKUP(L31,'Standards Female'!E$19:J$30,5,FALSE),'Standards Female'!I$18,IF(I31<=VLOOKUP(L31,'Standards Female'!E$19:J$30,6,FALSE),'Standards Female'!J$18,'Standards Female'!J$18))))) -> #N/A | O31: Fay Sharpe
A32: 5 | B32: Caroline Morgan | C32: =VLOOKUP($B32,$H$2:$J$42,2,FALSE) -> #N/A | D32: =VLOOKUP($B32,$H$2:$J$42,3,FALSE) -> #N/A | E32: 8 | G32: 30 | I32: 0.0057638889 | K32: =I32/G$1 -> 0.0057638889 | L32: =VLOOKUP(H32,Ages!A$1:J$166,10,FALSE) -> #N/A | M32: =IF(I32<=VLOOKUP(L32,'Standards Female'!E$19:J$30,2,FALSE),'Standards Female'!F$18,IF(I32<=VLOOKUP(L32,'Standards Female'!E$19:J$30,3,FALSE),'Standards Female'!G$18,IF(I32<=VLOOKUP(L32,'Standards Female'!E$19:J$30,4,FALSE),'Standards Female'!H$18,IF(I32<=VLOOKUP(L32,'Standards Female'!E$19:J$30,5,FALSE),'Standards Female'!I$18,IF(I32<=VLOOKUP(L32,'Standards Female'!E$19:J$30,6,FALSE),'Standards Female'!J$18,'Standards Female'!J$18))))) -> #N/A | O32: Christine Hurdidge
A33: 6 | B33: Debbie Gibbs | C33: =VLOOKUP($B33,$H$2:$J$42,2,FALSE) -> #N/A | D33: =VLOOKUP($B33,$H$2:$J$42,3,FALSE) -> #N/A | E33: 8 | G33: 31 | I33: 0.005775463 | K33: =I33/G$1 -> 0.005775463 | L33: =VLOOKUP(H33,Ages!A$1:J$166,10,FALSE) -> #N/A | M33: =IF(I33<=VLOOKUP(L33,'Standards Female'!E$19:J$30,2,FALSE),'Standards Female'!F$18,IF(I33<=VLOOKUP(L33,'Standards Female'!E$19:J$30,3,FALSE),'Standards Female'!G$18,IF(I33<=VLOOKUP(L33,'Standards Female'!E$19:J$30,4,FALSE),'Standards Female'!H$18,IF(I33<=VLOOKUP(L33,'Standards Female'!E$19:J$30,5,FALSE),'Standards Female'!I$18,IF(I33<=VLOOKUP(L33,'Standards Female'!E$19:J$30,6,FALSE),'Standards Female'!J$18,'Standards Female'!J$18))))) -> #N/A | O33: Meinir Jones
A34: 1 | B34: Meaghan Jenkins | C34: =VLOOKUP($B34,$H$2:$J$42,2,FALSE) -> #N/A | D34: =VLOOKUP($B34,$H$2:$J$42,3,FALSE) -> #N/A | E34: 9 | G34: 32 | I34: 0.005787037 | K34: =I34/G$1 -> 0.005787037 | L34: =VLOOKUP(H34,Ages!A$1:J$166,10,FALSE) -> #N/A | M34: =IF(I34<=VLOOKUP(L34,'Standards Male'!E$19:J$30,2,FALSE),'Standards Male'!F$18,IF(I34<=VLOOKUP(L34,'Standards Male'!E$19:J$30,3,FALSE),'Standards Male'!G$18,IF(I34<=VLOOKUP(L34,'Standards Male'!E$19:J$30,4,FALSE),'Standards Male'!H$18,IF(I34<=VLOOKUP(L34,'Standards Male'!E$19:J$30,5,FALSE),'Standards Male'!I$18,IF(I34<=VLOOKUP(L34,'Standards Male'!E$19:J$30,6,FALSE),'Standards Male'!J$18,'Standards Male'!J$18))))) -> #N/A | O34: Julie Davies
A35: 2 | B35: Jia Ping Lee | C35: =VLOOKUP($B35,$H$2:$J$42,2,FALSE) -> #N/A | D35: =VLOOKUP($B35,$H$2:$J$42,3,FALSE) -> #N/A | E35: 9 | G35: 33 | I35: 0.0060648148 | K35: =I35/G$1 -> 0.0060648148 | L35: =VLOOKUP(H35,Ages!A$1:J$166,10,FALSE) -> #N/A | M35: =IF(I35<=VLOOKUP(L35,'Standards Female'!E$19:J$30,2,FALSE),'Standards Female'!F$18,IF(I35<=VLOOKUP(L35,'Standards Female'!E$19:J$30,3,FALSE),'Standards Female'!G$18,IF(I35<=VLOOKUP(L35,'Standards Female'!E$19:J$30,4,FALSE),'Standards Female'!H$18,IF(I35<=VLOOKUP(L35,'Standards Female'!E$19:J$30,5,FALSE),'Standards Female'!I$18,IF(I35<=VLOOKUP(L35,'Standards Female'!E$19:J$30,6,FALSE),'Standards Female'!J$18,'Standards Female'!J$18))))) -> #N/A
A36: 3 | B36: Saran Lewis | C36: =VLOOKUP($B36,$H$2:$J$42,2,FALSE) -> #N/A | D36: =VLOOKUP($B36,$H$2:$J$42,3,FALSE) -> #N/A | E36: 9 | G36: 34 | I36: 0.0061458333 | K36: =I36/G$1 -> 0.0061458333 | L36: =VLOOKUP(H36,Ages!A$1:J$166,10,FALSE) -> #N/A | M36: =IF(I36<=VLOOKUP(L36,'Standards Female'!E$19:J$30,2,FALSE),'Standards Female'!F$18,IF(I36<=VLOOKUP(L36,'Standards Female'!E$19:J$30,3,FALSE),'Standards Female'!G$18,IF(I36<=VLOOKUP(L36,'Standards Female'!E$19:J$30,4,FALSE),'Standards Female'!H$18,IF(I36<=VLOOKUP(L36,'Standards Female'!E$19:J$30,5,FALSE),'Standards Female'!I$18,IF(I36<=VLOOKUP(L36,'Standards Female'!E$19:J$30,6,FALSE),'Standards Female'!J$18,'Standards Female'!J$18))))) -> #N/A
A37: 4 | B37: Victoria Holmes | C37: =VLOOKUP($B37,$H$2:$J$42,2,FALSE) -> #N/A | D37: =VLOOKUP($B37,$H$2:$J$42,3,FALSE) -> #N/A | E37: 9 | G37: 35 | I37: 0.0062731481 | K37: =I37/G$1 -> 0.0062731481 | L37: =VLOOKUP(H37,Ages!A$1:J$166,10,FALSE) -> #N/A | M37: =IF(I37<=VLOOKUP(L37,'Standards Male'!E$19:J$30,2,FALSE),'Standards Male'!F$18,IF(I37<=VLOOKUP(L37,'Standards Male'!E$19:J$30,3,FALSE),'Standards Male'!G$18,IF(I37<=VLOOKUP(L37,'Standards Male'!E$19:J$30,4,FALSE),'Standards Male'!H$18,IF(I37<=VLOOKUP(L37,'Standards Male'!E$19:J$30,5,FALSE),'Standards Male'!I$18,IF(I37<=VLOOKUP(L37,'Standards Male'!E$19:J$30,6,FALSE),'Standards Male'!J$18,'Standards Male'!J$18))))) -> #N/A
A38: 1 | B38: Caroline Jones II | C38: =VLOOKUP($B38,$H$2:$J$42,2,FALSE) -> #N/A | D38: =VLOOKUP($B38,$H$2:$J$42,3,FALSE) -> #N/A | E38: 10 | G38: 36 | I38: 0.0064467593 | K38: =I38/G$1 -> 0.0064467593 | L38: =VLOOKUP(H38,Ages!A$1:J$166,10,FALSE) -> #N/A | M38: =IF(I38<=VLOOKUP(L38,'Standards Female'!E$19:J$30,2,FALSE),'Standards Female'!F$18,IF(I38<=VLOOKUP(L38,'Standards Female'!E$19:J$30,3,FALSE),'Standards Female'!G$18,IF(I38<=VLOOKUP(L38,'Standards Female'!E$19:J$30,4,FALSE),'Standards Female'!H$18,IF(I38<=VLOOKUP(L38,'Standards Female'!E$19:J$30,5,FALSE),'Standards Female'!I$18,IF(I38<=VLOOKUP(L38,'Standards Female'!E$19:J$30,6,FALSE),'Standards Female'!J$18,'Standards Female'!J$18))))) -> #N/A
A39: 2 | B39: Lynn Holmes | C39: =VLOOKUP($B39,$H$2:$J$42,2,FALSE) -> #N/A | D39: =VLOOKUP($B39,$H$2:$J$42,3,FALSE) -> #N/A | E39: 10 | G39: 37 | I39: 0.0064930556 | K39: =I39/G$1 -> 0.0064930556 | L39: 0-34 | M39: =IF(I39<=VLOOKUP(L39,'Standards Female'!E$19:J$30,2,FALSE),'Standards Female'!F$18,IF(I39<=VLOOKUP(L39,'Standards Female'!E$19:J$30,3,FALSE),'Standards Female'!G$18,IF(I39<=VLOOKUP(L39,'Standards Female'!E$19:J$30,4,FALSE),'Standards Female'!H$18,IF(I39<=VLOOKUP(L39,'Standards Female'!E$19:J$30,5,FALSE),'Standards Female'!I$18,IF(I39<=VLOOKUP(L39,'Standards Female'!E$19:J$30,6,FALSE),'Standards Female'!J$18,'Standards Female'!J$18))))) -> Copper
A40: 3 | B40: Gina Southam | C40: =VLOOKUP($B40,$H$2:$J$42,2,FALSE) -> #N/A | D40: =VLOOKUP($B40,$H$2:$J$42,3,FALSE) -> #N/A | E40: 10 | G40: 38 | I40: 0.0065162037 | K40: =I40/G$1 -> 0.0065162037 | L40: =VLOOKUP(H40,Ages!A$1:J$166,10,FALSE) -> #N/A | M40: =IF(I40<=VLOOKUP(L40,'Standards Female'!E$19:J$30,2,FALSE),'Standards Female'!F$18,IF(I40<=VLOOKUP(L40,'Standards Female'!E$19:J$30,3,FALSE),'Standards Female'!G$18,IF(I40<=VLOOKUP(L40,'Standards Female'!E$19:J$30,4,FALSE),'Standards Female'!H$18,IF(I40<=VLOOKUP(L40,'Standards Female'!E$19:J$30,5,FALSE),'Standards Female'!I$18,IF(I40<=VLOOKUP(L40,'Standards Female'!E$19:J$30,6,FALSE),'Standards Female'!J$18,'Standards Female'!J$18))))) -> #N/A
A41: 4 | B41: Laura Hall | C41: =VLOOKUP($B41,$H$2:$J$42,2,FALSE) -> #N/A | D41: =VLOOKUP($B41,$H$2:$J$42,3,FALSE) -> #N/A | E41: 10 | G41: 39 | I41: 0.0067476852 | K41: =I41/G$1 -> 0.0067476852 | L41: =VLOOKUP(H41,Ages!A$1:J$166,10,FALSE) -> #N/A | M41: =IF(I41<=VLOOKUP(L41,'Standards Female'!E$19:J$30,2,FALSE),'Standards Female'!F$18,IF(I41<=VLOOKUP(L41,'Standards Female'!E$19:J$30,3,FALSE),'Standards Female'!G$18,IF(I41<=VLOOKUP(L41,'Standards Female'!E$19:J$30,4,FALSE),'Standards Female'!H$18,IF(I41<=VLOOKUP(L41,'Standards Female'!E$19:J$30,5,FALSE),'Standards Female'!I$18,IF(I41<=VLOOKUP(L41,'Standards Female'!E$19:J$30,6,FALSE),'Standards Female'!J$18,'Standards Female'!J$18))))) -> #N/A
A42: 5 | B42: Paula Stockley | C42: =VLOOKUP($B42,$H$2:$J$42,2,FALSE) -> #N/A | D42: =VLOOKUP($B42,$H$2:$J$42,3,FALSE) -> #N/A | E42: 10 | G42: 40 | I42: 0.0085300926 | K42: =I42/G$1 -> 0.0085300926 | L42: =VLOOKUP(H42,Ages!A$1:J$166,10,FALSE) -> #N/A | M42: =IF(I42<=VLOOKUP(L42,'Standards Female'!E$19:J$30,2,FALSE),'Standards Female'!F$18,IF(I42<=VLOOKUP(L42,'Standards Female'!E$19:J$30,3,FALSE),'Standards Female'!G$18,IF(I42<=VLOOKUP(L42,'Standards Female'!E$19:J$30,4,FALSE),'Standards Female'!H$18,IF(I42<=VLOOKUP(L42,'Standards Female'!E$19:J$30,5,FALSE),'Standards Female'!I$18,IF(I42<=VLOOKUP(L42,'Standards Female'!E$19:J$30,6,FALSE),'Standards Female'!J$18,'Standards Female'!J$18))))) -> #N/A

Sheet Race 7
A1: Bynea/Machynys Coastal Path | G1: 10 | H1: mile | I1: 46068
A2: Pos | B2: Group Order | C2: Time | D2: Points | E2: Div | G2: Pos | H2: Name | I2: Gun Time | J2: Re-adjusted Time | K2: Less 30mins if 10am start | L2: Points | M2: Min/Mile | N2: Cat | O2: Standard | Q2: Pos | R2: Ladies Only | S2: Time
A3: 1 | B3: Chris Pridmore | C3: =VLOOKUP($B3,$H$2:$L$34,3,FALSE) -> #N/A | D3: =VLOOKUP($B3,$H$2:$L$34,5,FALSE) -> #N/A | E3: 1 | G3: 1 | I3: 0.066041667 | J3: =I3-K3 -> 0.045208333 | K3: 0.020833333 | M3: =J3/G$1 -> 0.0045208333 | N3: =VLOOKUP(H3,Ages!A$1:J$166,10,FALSE) -> #N/A | O3: =IF(J3<=VLOOKUP(N3,'Standards Male'!E$149:J$159,2,FALSE),'Standards Male'!F$148,IF(J3<=VLOOKUP(N3,'Standards Male'!E$149:J$159,3,FALSE),'Standards Male'!G$148,IF(J3<=VLOOKUP(N3,'Standards Male'!E$149:J$159,4,FALSE),'Standards Male'!H$148,IF(J3<=VLOOKUP(N3,'Standards Male'!E$149:J$159,5,FALSE),'Standards Male'!I$148,IF(J3<=VLOOKUP(N3,'Standards Male'!E$149:J$159,6,FALSE),'Standards Male'!J$148,'Standards Male'!J$148))))) -> #N/A | Q3: 1 | R3: Katie Williams | S3: =VLOOKUP(R3,H$3:J$35,3,FALSE) -> #N/A
A4: 2 | B4: Gareth Parry | C4: =VLOOKUP($B4,$H$2:$L$34,3,FALSE) -> #N/A | D4: =VLOOKUP($B4,$H$2:$L$34,5,FALSE) -> #N/A | E4: 1 | G4: 2 | I4: 0.067604167 | J4: =I4-K4 -> 0.046770833 | K4: 0.020833333 | M4: =J4/G$1 -> 0.0046770833 | N4: =VLOOKUP(H4,Ages!A$1:J$166,10,FALSE) -> #N/A | O4: =IF(J4<=VLOOKUP(N4,'Standards Male'!E$149:J$159,2,FALSE),'Standards Male'!F$148,IF(J4<=VLOOKUP(N4,'Standards Male'!E$149:J$159,3,FALSE),'Standards Male'!G$148,IF(J4<=VLOOKUP(N4,'Standards Male'!E$149:J$159,4,FALSE),'Standards Male'!H$148,IF(J4<=VLOOKUP(N4,'Standards Male'!E$149:J$159,5,FALSE),'Standards Male'!I$148,IF(J4<=VLOOKUP(N4,'Standards Male'!E$149:J$159,6,FALSE),'Standards Male'!J$148,'Standards Male'!J$148))))) -> #N/A | Q4: 2 | R4: Laura Gilbert | S4: =VLOOKUP(R4,H$3:J$35,3,FALSE) -> #N/A
A5: 1 | B5: Katie Williams | C5: =VLOOKUP($B5,$H$2:$L$34,3,FALSE) -> #N/A | D5: =VLOOKUP($B5,$H$2:$L$34,5,FALSE) -> #N/A | E5: 2 | G5: 3 | I5: 0.070173611 | J5: =I5-K5 -> 0.049340278 | K5: 0.020833333 | M5: =J5/G$1 -> 0.0049340278 | N5: =VLOOKUP(H5,Ages!A$1:J$166,10,FALSE) -> #N/A | O5: =IF(J5<=VLOOKUP(N5,'Standards Female'!E$149:J$159,2,FALSE),'Standards Female'!F$148,IF(J5<=VLOOKUP(N5,'Standards Female'!E$149:J$159,3,FALSE),'Standards Female'!G$148,IF(J5<=VLOOKUP(N5,'Standards Female'!E$149:J$159,4,FALSE),'Standards Female'!H$148,IF(J5<=VLOOKUP(N5,'Standards Female'!E$149:J$159,5,FALSE),'Standards Female'!I$148,IF(J5<=VLOOKUP(N5,'Standards Female'!E$149:J$159,6,FALSE),'Standards Female'!J$148,'Standards Female'!J$148))))) -> #N/A | Q5: 3 | R5: Diane Ridgeway | S5: =VLOOKUP(R5,H$3:J$35,3,FALSE) -> #N/A
A6: 2 | B6: Justin Sperrin | C6: =VLOOKUP($B6,$H$2:$L$34,3,FALSE) -> #N/A | D6: =VLOOKUP($B6,$H$2:$L$34,5,FALSE) -> #N/A | E6: 2 | G6: 4 | I6: 0.070578704 | J6: =I6-K6 -> 0.04974537 | K6: 0.020833333 | M6: =J6/G$1 -> 0.004974537 | N6: =VLOOKUP(H6,Ages!A$1:J$166,10,FALSE) -> #N/A | O6: =IF(J6<=VLOOKUP(N6,'Standards Male'!E$149:J$159,2,FALSE),'Standards Male'!F$148,IF(J6<=VLOOKUP(N6,'Standards Male'!E$149:J$159,3,FALSE),'Standards Male'!G$148,IF(J6<=VLOOKUP(N6,'Standards Male'!E$149:J$159,4,FALSE),'Standards Male'!H$148,IF(J6<=VLOOKUP(N6,'Standards Male'!E$149:J$159,5,FALSE),'Standards Male'!I$148,IF(J6<=VLOOKUP(N6,'Standards Male'!E$149:J$159,6,FALSE),'Standards Male'!J$148,'Standards Male'!J$148))))) -> #N/A | Q6: 4 | R6: Sharon Trotman | S6: =VLOOKUP(R6,H$3:J$35,3,FALSE) -> #N/A
A7: 1 | B7: Chris Freestone | C7: =VLOOKUP($B7,$H$2:$L$34,3,FALSE) -> #N/A | D7: =VLOOKUP($B7,$H$2:$L$34,5,FALSE) -> #N/A | E7: 2 | G7: 5 | I7: 0.075219907 | J7: =I7-K7 -> 0.054386574 | K7: 0.020833333 | M7: =J7/G$1 -> 0.0054386574 | N7: =VLOOKUP(H7,Ages!A$1:J$166,10,FALSE) -> #N/A | O7: =IF(J7<=VLOOKUP(N7,'Standards Male'!E$149:J$159,2,FALSE),'Standards Male'!F$148,IF(J7<=VLOOKUP(N7,'Standards Male'!E$149:J$159,3,FALSE),'Standards Male'!G$148,IF(J7<=VLOOKUP(N7,'Standards Male'!E$149:J$159,4,FALSE),'Standards Male'!H$148,IF(J7<=VLOOKUP(N7,'Standards Male'!E$149:J$159,5,FALSE),'Standards Male'!I$148,IF(J7<=VLOOKUP(N7,'Standards Male'!E$149:J$159,6,FALSE),'Standards Male'!J$148,'Standards Male'!J$148))))) -> #N/A | Q7: 5 | R7: Julie Archer | S7: =VLOOKUP(R7,H$3:J$35,3,FALSE) -> #N/A
A8: 2 | B8: James Bennett | C8: =VLOOKUP($B8,$H$2:$L$34,3,FALSE) -> #N/A | D8: =VLOOKUP($B8,$H$2:$L$34,5,FALSE) -> #N/A | E8: 3 | G8: 6 | I8: 0.075752315 | J8: =I8-K8 -> 0.054918981 | K8: 0.020833333 | M8: =J8/G$1 -> 0.0054918981 | N8: =VLOOKUP(H8,Ages!A$1:J$166,10,FALSE) -> #N/A | O8: =IF(J8<=VLOOKUP(N8,'Standards Male'!E$149:J$159,2,FALSE),'Standards Male'!F$148,IF(J8<=VLOOKUP(N8,'Standards Male'!E$149:J$159,3,FALSE),'Standards Male'!G$148,IF(J8<=VLOOKUP(N8,'Standards Male'!E$149:J$159,4,FALSE),'Standards Male'!H$148,IF(J8<=VLOOKUP(N8,'Standards Male'!E$149:J$159,5,FALSE),'Standards Male'!I$148,IF(J8<=VLOOKUP(N8,'Standards Male'!E$149:J$159,6,FALSE),'Standards Male'!J$148,'Standards Male'!J$148))))) -> #N/A | Q8: 6 | R8: Nic Rowe | S8: =VLOOKUP(R8,H$3:J$35,3,FALSE) -> #N/A
A9: 3 | B9: Kevin Watson | C9: =VLOOKUP($B9,$H$2:$L$34,3,FALSE) -> #N/A | D9: =VLOOKUP($B9,$H$2:$L$34,5,FALSE) -> #N/A | E9: 3 | G9: 7 | I9: 0.075891204 | J9: =I9-K9 -> 0.05505787 | K9: 0.020833333 | M9: =J9/G$1 -> 0.005505787 | N9: =VLOOKUP(H9,Ages!A$1:J$166,10,FALSE) -> #N/A | O9: =IF(J9<=VLOOKUP(N9,'Standards Male'!E$149:J$159,2,FALSE),'Standards Male'!F$148,IF(J9<=VLOOKUP(N9,'Standards Male'!E$149:J$159,3,FALSE),'Standards Male'!G$148,IF(J9<=VLOOKUP(N9,'Standards Male'!E$149:J$159,4,FALSE),'Standards Male'!H$148,IF(J9<=VLOOKUP(N9,'Standards Male'!E$149:J$159,5,FALSE),'Standards Male'!I$148,IF(J9<=VLOOKUP(N9,'Standards Male'!E$149:J$159,6,FALSE),'Standards Male'!J$148,'Standards Male'!J$148))))) -> #N/A | Q9: 7 | R9: Fran Newman | S9: =VLOOKUP(R9,H$3:J$35,3,FALSE) -> #N/A
A10: 1 | B10: Laura Gilbert | C10: =VLOOKUP($B10,$H$2:$L$34,3,FALSE) -> #N/A | D10: =VLOOKUP($B10,$H$2:$L$34,5,FALSE) -> #N/A | E10: 4 | G10: 8 | I10: 0.077627315 | J10: =I10-K10 -> 0.056793981 | K10: 0.020833333 | M10: =J10/G$1 -> 0.0056793981 | N10: =VLOOKUP(H10,Ages!A$1:J$166,10,FALSE) -> #N/A | O10: =IF(J10<=VLOOKUP(N10,'Standards Female'!E$149:J$159,2,FALSE),'Standards Female'!F$148,IF(J10<=VLOOKUP(N10,'Standards Female'!E$149:J$159,3,FALSE),'Standards Female'!G$148,IF(J10<=VLOOKUP(N10,'Standards Female'!E$149:J$159,4,FALSE),'Standards Female'!H$148,IF(J10<=VLOOKUP(N10,'Standards Female'!E$149:J$159,5,FALSE),'Standards Female'!I$148,IF(J10<=VLOOKUP(N10,'Standards Female'!E$149:J$159,6,FALSE),'Standards Female'!J$148,'Standards Female'!J$148))))) -> #N/A | Q10: 8 | R10: Bev Jones | S10: =VLOOKUP(R10,H$3:J$35,3,FALSE) -> #N/A
A11: 2 | B11: Hans Thompson | C11: =VLOOKUP($B11,$H$2:$L$34,3,FALSE) -> #N/A | D11: =VLOOKUP($B11,$H$2:$L$34,5,FALSE) -> #N/A | E11: 4 | G11: 9 | I11: 0.078333333 | J11: =I11-K11 -> 0.0575 | K11: 0.020833333 | M11: =J11/G$1 -> 0.00575 | N11: =VLOOKUP(H11,Ages!A$1:J$166,10,FALSE) -> #N/A | O11: =IF(J11<=VLOOKUP(N11,'Standards Male'!E$149:J$159,2,FALSE),'Standards Male'!F$148,IF(J11<=VLOOKUP(N11,'Standards Male'!E$149:J$159,3,FALSE),'Standards Male'!G$148,IF(J11<=VLOOKUP(N11,'Standards Male'!E$149:J$159,4,FALSE),'Standards Male'!H$148,IF(J11<=VLOOKUP(N11,'Standards Male'!E$149:J$159,5,FALSE),'Standards Male'!I$148,IF(J11<=VLOOKUP(N11,'Standards Male'!E$149:J$159,6,FALSE),'Standards Male'!J$148,'Standards Male'!J$148))))) -> #N/A | Q11: 9 | R11: Vicky Davies | S11: =VLOOKUP(R11,H$3:J$35,3,FALSE) -> #N/A
A12: 3 | B12: Andy Rees | C12: =VLOOKUP($B12,$H$2:$L$34,3,FALSE) -> #N/A | D12: =VLOOKUP($B12,$H$2:$L$34,5,FALSE) -> #N/A | E12: 4 | G12: 10 | I12: 0.08162037 | J12: =I12-K12 -> 0.060787037 | K12: 0.020833333 | M12: =J12/G$1 -> 0.0060787037 | N12: =VLOOKUP(H12,Ages!A$1:J$166,10,FALSE) -> #N/A | O12: =IF(J12<=VLOOKUP(N12,'Standards Male'!E$149:J$159,2,FALSE),'Standards Male'!F$148,IF(J12<=VLOOKUP(N12,'Standards Male'!E$149:J$159,3,FALSE),'Standards Male'!G$148,IF(J12<=VLOOKUP(N12,'Standards Male'!E$149:J$159,4,FALSE),'Standards Male'!H$148,IF(J12<=VLOOKUP(N12,'Standards Male'!E$149:J$159,5,FALSE),'Standards Male'!I$148,IF(J12<=VLOOKUP(N12,'Standards Male'!E$149:J$159,6,FALSE),'Standards Male'!J$148,'Standards Male'!J$148))))) -> #N/A | Q12: 10 | R12: Christina Smith | S12: =VLOOKUP(R12,H$3:J$35,3,FALSE) -> #N/A
A13: 1 | B13: Nathan Williams | C13: =VLOOKUP($B13,$H$2:$L$34,3,FALSE) -> #N/A | D13: =VLOOKUP($B13,$H$2:$L$34,5,FALSE) -> #N/A | E13: 5 | G13: 11 | I13: 0.08181713 | J13: =I13-K13 -> 0.060983796 | K13: 0.020833333 | M13: =J13/G$1 -> 0.0060983796 | N13: =VLOOKUP(H13,Ages!A$1:J$166,10,FALSE) -> #N/A | O13: =IF(J13<=VLOOKUP(N13,'Standards Female'!E$149:J$159,2,FALSE),'Standards Female'!F$148,IF(J13<=VLOOKUP(N13,'Standards Female'!E$149:J$159,3,FALSE),'Standards Female'!G$148,IF(J13<=VLOOKUP(N13,'Standards Female'!E$149:J$159,4,FALSE),'Standards Female'!H$148,IF(J13<=VLOOKUP(N13,'Standards Female'!E$149:J$159,5,FALSE),'Standards Female'!I$148,IF(J13<=VLOOKUP(N13,'Standards Female'!E$149:J$159,6,FALSE),'Standards Female'!J$148,'Standards Female'!J$148))))) -> #N/A | Q13: 11 | R13: Caroline Morgan | S13: =VLOOKUP(R13,H$3:J$35,3,FALSE) -> #N/A
A14: 2 | B14: Nic Rowe | C14: =VLOOKUP($B14,$H$2:$L$34,3,FALSE) -> #N/A | D14: =VLOOKUP($B14,$H$2:$L$34,5,FALSE) -> #N/A | E14: 5 | G14: 12 | I14: 0.083194444 | J14: =I14-K14 -> 0.062361111 | K14: 0.020833333 | M14: =J14/G$1 -> 0.0062361111 | N14: =VLOOKUP(H14,Ages!A$1:J$166,10,FALSE) -> #N/A | O14: =IF(J14<=VLOOKUP(N14,'Standards Female'!E$149:J$159,2,FALSE),'Standards Female'!F$148,IF(J14<=VLOOKUP(N14,'Standards Female'!E$149:J$159,3,FALSE),'Standards Female'!G$148,IF(J14<=VLOOKUP(N14,'Standards Female'!E$149:J$159,4,FALSE),'Standards Female'!H$148,IF(J14<=VLOOKUP(N14,'Standards Female'!E$149:J$159,5,FALSE),'Standards Female'!I$148,IF(J14<=VLOOKUP(N14,'Standards Female'!E$149:J$159,6,FALSE),'Standards Female'!J$148,'Standards Female'!J$148))))) -> #N/A | Q14: 12 | R14: Jia Ping Lee | S14: =VLOOKUP(R14,H$3:J$35,3,FALSE) -> #N/A
A15: 3 | B15: Alex Heron | C15: =VLOOKUP($B15,$H$2:$L$34,3,FALSE) -> #N/A | D15: =VLOOKUP($B15,$H$2:$L$34,5,FALSE) -> #N/A | E15: 5 | G15: 13 | I15: 0.06244213 | J15: =I15-K15 -> 0.06244213 | K15: 0 | M15: =I15/G$1 -> 0.006244213 | N15: =VLOOKUP(H15,Ages!A$1:J$166,10,FALSE) -> #N/A | O15: =IF(J15<=VLOOKUP(N15,'Standards Female'!E$149:J$159,2,FALSE),'Standards Female'!F$148,IF(J15<=VLOOKUP(N15,'Standards Female'!E$149:J$159,3,FALSE),'Standards Female'!G$148,IF(J15<=VLOOKUP(N15,'Standards Female'!E$149:J$159,4,FALSE),'Standards Female'!H$148,IF(J15<=VLOOKUP(N15,'Standards Female'!E$149:J$159,5,FALSE),'Standards Female'!I$148,IF(J15<=VLOOKUP(N15,'Standards Female'!E$149:J$159,6,FALSE),'Standards Female'!J$148,'Standards Female'!J$148))))) -> #N/A | Q15: 13 | R15: Alice Sullivan | S15: =VLOOKUP(R15,H$3:J$35,3,FALSE) -> #N/A
A16: 4 | B16: Cris Arnold | C16: =VLOOKUP($B16,$H$2:$L$34,3,FALSE) -> #N/A | D16: =VLOOKUP($B16,$H$2:$L$34,5,FALSE) -> #N/A | E16: 5 | G16: 14 | I16: 0.062604167 | J16: =I16-K16 -> 0.062604167 | K16: 0 | M16: =I16/G$1 -> 0.0062604167 | N16: =VLOOKUP(H16,Ages!A$1:J$166,10,FALSE) -> #N/A | O16: =IF(J16<=VLOOKUP(N16,'Standards Male'!E$149:J$159,2,FALSE),'Standards Male'!F$148,IF(J16<=VLOOKUP(N16,'Standards Male'!E$149:J$159,3,FALSE),'Standards Male'!G$148,IF(J16<=VLOOKUP(N16,'Standards Male'!E$149:J$159,4,FALSE),'Standards Male'!H$148,IF(J16<=VLOOKUP(N16,'Standards Male'!E$149:J$159,5,FALSE),'Standards Male'!I$148,IF(J16<=VLOOKUP(N16,'Standards Male'!E$149:J$159,6,FALSE),'Standards Male'!J$148,'Standards Male'!J$148))))) -> #N/A | Q16: 14 | R16: Saran Lewis | S16: =VLOOKUP(R16,H$3:J$35,3,FALSE) -> #N/A
A17: 5 | B17: Diane Ridgeway | C17: =VLOOKUP($B17,$H$2:$L$34,3,FALSE) -> #N/A | D17: =VLOOKUP($B17,$H$2:$L$34,5,FALSE) -> #N/A | E17: 5 | G17: 15 | I17: 0.063101852 | J17: =I17-K17 -> 0.063101852 | K17: 0 | M17: =I17/G$1 -> 0.0063101852 | N17: =VLOOKUP(H17,Ages!A$1:J$166,10,FALSE) -> #N/A | O17: =IF(J17<=VLOOKUP(N17,'Standards Male'!E$149:J$159,2,FALSE),'Standards Male'!F$148,IF(J17<=VLOOKUP(N17,'Standards Male'!E$149:J$159,3,FALSE),'Standards Male'!G$148,IF(J17<=VLOOKUP(N17,'Standards Male'!E$149:J$159,4,FALSE),'Standards Male'!H$148,IF(J17<=VLOOKUP(N17,'Standards Male'!E$149:J$159,5,FALSE),'Standards Male'!I$148,IF(J17<=VLOOKUP(N17,'Standards Male'!E$149:J$159,6,FALSE),'Standards Male'!J$148,'Standards Male'!J$148))))) -> #N/A | Q17: 15 | R17: Kelly Bamford | S17: =VLOOKUP(R17,H$3:J$35,3,FALSE) -> #N/A
A18: 1 | B18: Julie Archer | C18: =VLOOKUP($B18,$H$2:$L$34,3,FALSE) -> #N/A | D18: =VLOOKUP($B18,$H$2:$L$34,5,FALSE) -> #N/A | E18: 6 | G18: 16 | I18: 0.064814815 | J18: =I18-K18 -> 0.064814815 | K18: 0 | M18: =I18/G$1 -> 0.0064814815 | N18: =VLOOKUP(H18,Ages!A$1:J$166,10,FALSE) -> #N/A | O18: =IF(J18<=VLOOKUP(N18,'Standards Female'!E$149:J$159,2,FALSE),'Standards Female'!F$148,IF(J18<=VLOOKUP(N18,'Standards Female'!E$149:J$159,3,FALSE),'Standards Female'!G$148,IF(J18<=VLOOKUP(N18,'Standards Female'!E$149:J$159,4,FALSE),'Standards Female'!H$148,IF(J18<=VLOOKUP(N18,'Standards Female'!E$149:J$159,5,FALSE),'Standards Female'!I$148,IF(J18<=VLOOKUP(N18,'Standards Female'!E$149:J$159,6,FALSE),'Standards Female'!J$148,'Standards Female'!J$148))))) -> #N/A | Q18: 16 | R18: Manisha Rickards | S18: =VLOOKUP(R18,H$3:J$35,3,FALSE) -> #N/A
A19: 2 | B19: Sam Grunhut | C19: =VLOOKUP($B19,$H$2:$L$34,3,FALSE) -> #N/A | D19: =VLOOKUP($B19,$H$2:$L$34,5,FALSE) -> #N/A | E19: 6 | G19: 17 | I19: 0.06494213 | J19: =I19-K19 -> 0.06494213 | K19: 0 | M19: =I19/G$1 -> 0.006494213 | N19: =VLOOKUP(H19,Ages!A$1:J$166,10,FALSE) -> #N/A | O19: =IF(J19<=VLOOKUP(N19,'Standards Male'!E$149:J$159,2,FALSE),'Standards Male'!F$148,IF(J19<=VLOOKUP(N19,'Standards Male'!E$149:J$159,3,FALSE),'Standards Male'!G$148,IF(J19<=VLOOKUP(N19,'Standards Male'!E$149:J$159,4,FALSE),'Standards Male'!H$148,IF(J19<=VLOOKUP(N19,'Standards Male'!E$149:J$159,5,FALSE),'Standards Male'!I$148,IF(J19<=VLOOKUP(N19,'Standards Male'!E$149:J$159,6,FALSE),'Standards Male'!J$148,'Standards Male'!J$148))))) -> #N/A | Q19: 17 | R19: Laura Hall | S19: =VLOOKUP(R19,H$3:J$35,3,FALSE) -> #N/A
A20: 3 | B20: Fran Newman | C20: =VLOOKUP($B20,$H$2:$L$34,3,FALSE) -> #N/A | D20: =VLOOKUP($B20,$H$2:$L$34,5,FALSE) -> #N/A | E20: 6 | G20: 18 | I20: 0.065625 | J20: =I20-K20 -> 0.065625 | K20: 0 | M20: =I20/G$1 -> 0.0065625 | N20: =VLOOKUP(H20,Ages!A$1:J$166,10,FALSE) -> #N/A | O20: =IF(J20<=VLOOKUP(N20,'Standards Female'!E$149:J$159,2,FALSE),'Standards Female'!F$148,IF(J20<=VLOOKUP(N20,'Standards Female'!E$149:J$159,3,FALSE),'Standards Female'!G$148,IF(J20<=VLOOKUP(N20,'Standards Female'!E$149:J$159,4,FALSE),'Standards Female'!H$148,IF(J20<=VLOOKUP(N20,'Standards Female'!E$149:J$159,5,FALSE),'Standards Female'!I$148,IF(J20<=VLOOKUP(N20,'Standards Female'!E$149:J$159,6,FALSE),'Standards Female'!J$148,'Standards Female'!J$148))))) -> #N/A | Q20: 18 | R20: Paula Stockley | S20: =VLOOKUP(R20,H$3:J$35,3,FALSE) -> #N/A
A21: 4 | B21: Sharon Trotman | C21: =VLOOKUP($B21,$H$2:$L$34,3,FALSE) -> #N/A | D21: =VLOOKUP($B21,$H$2:$L$34,5,FALSE) -> #N/A | E21: 6 | G21: 19 | I21: 0.086469907 | J21: =I21-K21 -> 0.065636574 | K21: 0.020833333 | M21: =J21/G$1 -> 0.0065636574 | N21: =VLOOKUP(H21,Ages!A$1:J$166,10,FALSE) -> #N/A | O21: =IF(J21<=VLOOKUP(N21,'Standards Male'!E$149:J$159,2,FALSE),'Standards Male'!F$148,IF(J21<=VLOOKUP(N21,'Standards Male'!E$149:J$159,3,FALSE),'Standards Male'!G$148,IF(J21<=VLOOKUP(N21,'Standards Male'!E$149:J$159,4,FALSE),'Standards Male'!H$148,IF(J21<=VLOOKUP(N21,'Standards Male'!E$149:J$159,5,FALSE),'Standards Male'!I$148,IF(J21<=VLOOKUP(N21,'Standards Male'!E$149:J$159,6,FALSE),'Standards Male'!J$148,'Standards Male'!J$148))))) -> #N/A
A22: 5 | B22: Peter Clement | C22: =VLOOKUP($B22,$H$2:$L$34,3,FALSE) -> #N/A | D22: =VLOOKUP($B22,$H$2:$L$34,5,FALSE) -> #N/A | E22: 6 | G22: 20 | I22: 0.066608796 | J22: =I22-K22 -> 0.066608796 | K22: 0 | M22: =I22/G$1 -> 0.0066608796 | N22: =VLOOKUP(H22,Ages!A$1:J$166,10,FALSE) -> #N/A | O22: =IF(J22<=VLOOKUP(N22,'Standards Male'!E$149:J$159,2,FALSE),'Standards Male'!F$148,IF(J22<=VLOOKUP(N22,'Standards Male'!E$149:J$159,3,FALSE),'Standards Male'!G$148,IF(J22<=VLOOKUP(N22,'Standards Male'!E$149:J$159,4,FALSE),'Standards Male'!H$148,IF(J22<=VLOOKUP(N22,'Standards Male'!E$149:J$159,5,FALSE),'Standards Male'!I$148,IF(J22<=VLOOKUP(N22,'Standards Male'!E$149:J$159,6,FALSE),'Standards Male'!J$148,'Standards Male'!J$148))))) -> #N/A | Q22: Marshals
A23: 1 | B23: Steve Mclelland | C23: =VLOOKUP($B23,$H$2:$L$34,3,FALSE) -> #N/A | D23: =VLOOKUP($B23,$H$2:$L$34,5,FALSE) -> #N/A | E23: 7 | G23: 21 | I23: 0.08744213 | J23: =I23-K23 -> 0.066608796 | K23: 0.020833333 | M23: =J23/G$1 -> 0.0066608796 | N23: =VLOOKUP(H23,Ages!A$1:J$166,10,FALSE) -> #N/A | O23: =IF(J23<=VLOOKUP(N23,'Standards Male'!E$149:J$159,2,FALSE),'Standards Male'!F$148,IF(J23<=VLOOKUP(N23,'Standards Male'!E$149:J$159,3,FALSE),'Standards Male'!G$148,IF(J23<=VLOOKUP(N23,'Standards Male'!E$149:J$159,4,FALSE),'Standards Male'!H$148,IF(J23<=VLOOKUP(N23,'Standards Male'!E$149:J$159,5,FALSE),'Standards Male'!I$148,IF(J23<=VLOOKUP(N23,'Standards Male'!E$149:J$159,6,FALSE),'Standards Male'!J$148,'Standards Male'!J$148))))) -> #N/A | Q23: Alan Pritchard
A24: 2 | B24: Bev Jones | C24: =VLOOKUP($B24,$H$2:$L$34,3,FALSE) -> #N/A | D24: =VLOOKUP($B24,$H$2:$L$34,5,FALSE) -> #N/A | E24: 7 | G24: 22 | I24: 0.066921296 | J24: =I24-K24 -> 0.066921296 | K24: 0 | M24: =I24/G$1 -> 0.0066921296 | N24: =VLOOKUP(H24,Ages!A$1:J$166,10,FALSE) -> #N/A | O24: =IF(J24<=VLOOKUP(N24,'Standards Female'!E$149:J$159,2,FALSE),'Standards Female'!F$148,IF(J24<=VLOOKUP(N24,'Standards Female'!E$149:J$159,3,FALSE),'Standards Female'!G$148,IF(J24<=VLOOKUP(N24,'Standards Female'!E$149:J$159,4,FALSE),'Standards Female'!H$148,IF(J24<=VLOOKUP(N24,'Standards Female'!E$149:J$159,5,FALSE),'Standards Female'!I$148,IF(J24<=VLOOKUP(N24,'Standards Female'!E$149:J$159,6,FALSE),'Standards Female'!J$148,'Standards Female'!J$148))))) -> #N/A | Q24: Kim & John Holohan
A25: 3 | B25: Christina Smith | C25: =VLOOKUP($B25,$H$2:$L$34,3,FALSE) -> #N/A | D25: =VLOOKUP($B25,$H$2:$L$34,5,FALSE) -> #N/A | E25: 7 | G25: 23 | I25: 0.068564815 | J25: =I25-K25 -> 0.068564815 | K25: 0 | M25: =I25/G$1 -> 0.0068564815 | N25: =VLOOKUP(H25,Ages!A$1:J$166,10,FALSE) -> #N/A | O25: =IF(J25<=VLOOKUP(N25,'Standards Female'!E$149:J$159,2,FALSE),'Standards Female'!F$148,IF(J25<=VLOOKUP(N25,'Standards Female'!E$149:J$159,3,FALSE),'Standards Female'!G$148,IF(J25<=VLOOKUP(N25,'Standards Female'!E$149:J$159,4,FALSE),'Standards Female'!H$148,IF(J25<=VLOOKUP(N25,'Standards Female'!E$149:J$159,5,FALSE),'Standards Female'!I$148,IF(J25<=VLOOKUP(N25,'Standards Female'!E$149:J$159,6,FALSE),'Standards Female'!J$148,'Standards Female'!J$148))))) -> #N/A | Q25: Paul & Linda Rees
