Workbook
Name Event: #REF!
Name mile: [1]Men!$D$14
Name mile: [1]Men!$D$14
Name mile: [1]Men!$D$14
Name mile: #REF!
Name World_Standard_Times: [2]DropDownLists!$H$2:$H$13

Sheet RULES
A1: The GP for 2025-2026 season has had a facelift
A2: It was noted that divisions were getting large, and only 20% of the numbers in each division could realistically compete for a top 3 place.
A3: We have reduced numbers in each division and increased divisions to 10.Thus giving more people a chance to push for a top 3 place
A5: Runners have been grouped, based on average points scored from the past 10 GP’s, therefor:-
A6: Group | B6: Avg Points
A7: 1 | B7: 96-100
A8: 2 | B8: 92-95
A9: 3 | B9: 89-91
A10: 4 | B10: 85-88
A11: 5 | B11: 80-84
A12: 6 | B12: 75-79
A13: 7 | B13: 70-74
A14: 8 | B14: 65-69
A15: 9 | B15: 60-64
A16: 10 | B16: < 60
A17: These were based on the first fixture of this season and the 2nd – 10th fixtures of last season.
A18: Some people’s avg points will have been affected because of things like injury, low turn out in GP, following training plans etc.
A19: Some have been placed in divisions where we think they will thrive, even though their avg is different to the division they are in.
A21: Please let me know if you think you are in the wrong division and I’ll do my best to explain or accommodate you.
A23: For every race we will also have a spot prize. This will be given to the Xth placed person in the race.
A24: The number will be drawn/generated once the race has started or numbers in the race are know to the officials.
A26: Below are race rules regarding the Grand Prix
A27: · Best 5 out of 8 races count
A28: · Only the top 3 in each division win a prize
A29: · You must complete at least 4 out of 8 races to qualify for a top 3 prize.
A30: · All runners are responsible for checking their own results and informing the author before the next race.
A31: · You have to be a paid up member to score any points.
... A34: o If 1. above equal then a joint trophy

Sheet Race 1
A1: 01/07/2026 Ynystawe | G1: 3.1 | H1: Mile | I1: 46204
A2: Pos | B2: Group Order | C2: Time | D2: Points | E2: Div | G2: Pos | H2: Name | I2: Time | J2: Points | K2: Min per Mile | L2: Cat | M2: Standard | O2: Pos | P2: Ladies Only | Q2: Time
A3: 1 | B3: Gareth Parry | C3: =VLOOKUP($B3,$H$2:$J$46,2,FALSE) -> 0.013541667 | D3: =VLOOKUP($B3,$H$2:$J$46,3,FALSE) -> 100 | E3: 1 | G3: 1 | H3: Gareth Parry | I3: 0.013541667 | J3: 100 | K3: =I3/G$1 -> 0.0043682796 | L3: =VLOOKUP(H3,Ages!A$1:J$166,10,FALSE) -> 45-49 | M3: =IF(I3<=VLOOKUP(L3,'Standards Male'!E$49:J$60,2,FALSE),'Standards Male'!F$48,IF(I3<=VLOOKUP(L3,'Standards Male'!E$49:J$60,3,FALSE),'Standards Male'!G$48,IF(I3<=VLOOKUP(L3,'Standards Male'!E$49:J$60,4,FALSE),'Standards Male'!H$48,IF(I3<=VLOOKUP(L3,'Standards Male'!E$49:J$60,5,FALSE),'Standards Male'!I$48,IF(I3<=VLOOKUP(L3,'Standards Male'!E$49:J$60,6,FALSE),'Standards Male'!J$48,'Standards Male'!J$48))))) -> Gold | O3: 1 | P3: Megan Chick | Q3: 00:21:28
A4: 2 | B4: Justin Sperrin | C4: =VLOOKUP($B4,$H$2:$J$46,2,FALSE) -> 0.014178241 | D4: =VLOOKUP($B4,$H$2:$J$46,3,FALSE) -> 99 | E4: 1 | G4: 2 | H4: Justin Sperrin | I4: 0.014178241 | J4: 99 | K4: =I4/G$1 -> 0.004573626 | L4: =VLOOKUP(H4,Ages!A$1:J$166,10,FALSE) -> 0-34 | M4: =IF(I4<=VLOOKUP(L4,'Standards Male'!E$49:J$60,2,FALSE),'Standards Male'!F$48,IF(I4<=VLOOKUP(L4,'Standards Male'!E$49:J$60,3,FALSE),'Standards Male'!G$48,IF(I4<=VLOOKUP(L4,'Standards Male'!E$49:J$60,4,FALSE),'Standards Male'!H$48,IF(I4<=VLOOKUP(L4,'Standards Male'!E$49:J$60,5,FALSE),'Standards Male'!I$48,IF(I4<=VLOOKUP(L4,'Standards Male'!E$49:J$60,6,FALSE),'Standards Male'!J$48,'Standards Male'!J$48))))) -> Bronze | O4: 2 | P4: Michelle Grey | Q4: 00:23:57
A5: 3 | B5: Lee Morris | C5: =VLOOKUP($B5,$H$2:$J$46,2,FALSE) -> 0.014166667 | D5: =VLOOKUP($B5,$H$2:$J$46,3,FALSE) -> 98 | E5: 1 | G5: 3 | H5: Lee Morris | I5: 0.014166667 | J5: 98 | K5: =I5/G$1 -> 0.0045698925 | L5: =VLOOKUP(H5,Ages!A$1:J$166,10,FALSE) -> 40-44 | M5: =IF(I5<=VLOOKUP(L5,'Standards Male'!E$49:J$60,2,FALSE),'Standards Male'!F$48,IF(I5<=VLOOKUP(L5,'Standards Male'!E$49:J$60,3,FALSE),'Standards Male'!G$48,IF(I5<=VLOOKUP(L5,'Standards Male'!E$49:J$60,4,FALSE),'Standards Male'!H$48,IF(I5<=VLOOKUP(L5,'Standards Male'!E$49:J$60,5,FALSE),'Standards Male'!I$48,IF(I5<=VLOOKUP(L5,'Standards Male'!E$49:J$60,6,FALSE),'Standards Male'!J$48,'Standards Male'!J$48))))) -> Silver | O5: 3 | P5: Laura Gilbert | Q5: 00:24:10
A6: 4 | B6: Paul Jenkins | C6: =VLOOKUP($B6,$H$2:$J$46,2,FALSE) -> 0.014421296 | D6: =VLOOKUP($B6,$H$2:$J$46,3,FALSE) -> 97 | E6: 1 | G6: 4 | H6: Paul Jenkins | I6: 0.014421296 | J6: 97 | K6: =I6/G$1 -> 0.0046520311 | L6: =VLOOKUP(H6,Ages!A$1:J$166,10,FALSE) -> 45-49 | M6: =IF(I6<=VLOOKUP(L6,'Standards Male'!E$49:J$60,2,FALSE),'Standards Male'!F$48,IF(I6<=VLOOKUP(L6,'Standards Male'!E$49:J$60,3,FALSE),'Standards Male'!G$48,IF(I6<=VLOOKUP(L6,'Standards Male'!E$49:J$60,4,FALSE),'Standards Male'!H$48,IF(I6<=VLOOKUP(L6,'Standards Male'!E$49:J$60,5,FALSE),'Standards Male'!I$48,IF(I6<=VLOOKUP(L6,'Standards Male'!E$49:J$60,6,FALSE),'Standards Male'!J$48,'Standards Male'!J$48))))) -> Silver | O6: 4 | P6: Clare Baxter | Q6: 00:25:46
A7: 5 | B7: Aron Jones | C7: =VLOOKUP($B7,$H$2:$J$46,2,FALSE) -> 0.014594907 | D7: =VLOOKUP($B7,$H$2:$J$46,3,FALSE) -> 96 | E7: 1 | G7: 5 | H7: Aron Jones | I7: 0.014594907 | J7: 96 | K7: =I7/G$1 -> 0.0047080346 | L7: =VLOOKUP(H7,Ages!A$1:J$166,10,FALSE) -> 40-44 | M7: =IF(I7<=VLOOKUP(L7,'Standards Male'!E$49:J$60,2,FALSE),'Standards Male'!F$48,IF(I7<=VLOOKUP(L7,'Standards Male'!E$49:J$60,3,FALSE),'Standards Male'!G$48,IF(I7<=VLOOKUP(L7,'Standards Male'!E$49:J$60,4,FALSE),'Standards Male'!H$48,IF(I7<=VLOOKUP(L7,'Standards Male'!E$49:J$60,5,FALSE),'Standards Male'!I$48,IF(I7<=VLOOKUP(L7,'Standards Male'!E$49:J$60,6,FALSE),'Standards Male'!J$48,'Standards Male'!J$48))))) -> Bronze | O7: 5 | P7: Julie Archer | Q7: 00:26:00
A8: 6 | B8: Dan Evans | C8: =VLOOKUP($B8,$H$2:$J$46,2,FALSE) -> 0.014722222 | D8: =VLOOKUP($B8,$H$2:$J$46,3,FALSE) -> 95 | E8: 1 | G8: 6 | H8: Dan Evans | I8: 0.014722222 | J8: 95 | K8: =I8/G$1 -> 0.0047491039 | L8: =VLOOKUP(H8,Ages!A$1:J$166,10,FALSE) -> 35-39 | M8: =IF(I8<=VLOOKUP(L8,'Standards Male'!E$49:J$60,2,FALSE),'Standards Male'!F$48,IF(I8<=VLOOKUP(L8,'Standards Male'!E$49:J$60,3,FALSE),'Standards Male'!G$48,IF(I8<=VLOOKUP(L8,'Standards Male'!E$49:J$60,4,FALSE),'Standards Male'!H$48,IF(I8<=VLOOKUP(L8,'Standards Male'!E$49:J$60,5,FALSE),'Standards Male'!I$48,IF(I8<=VLOOKUP(L8,'Standards Male'!E$49:J$60,6,FALSE),'Standards Male'!J$48,'Standards Male'!J$48))))) -> Bronze | O8: 6 | P8: Diane Ridgeway | Q8: 00:26:30
A9: 1 | B9: Gavin Davies | C9: =VLOOKUP($B9,$H$2:$J$46,2,FALSE) -> 0.014768519 | D9: =VLOOKUP($B9,$H$2:$J$46,3,FALSE) -> 94 | E9: 2 | G9: 7 | H9: Gavin Davies | I9: 0.014768519 | J9: 94 | K9: =I9/G$1 -> 0.0047640382 | L9: =VLOOKUP(H9,Ages!A$1:J$166,10,FALSE) -> 60-64 | M9: =IF(I9<=VLOOKUP(L9,'Standards Male'!E$49:J$60,2,FALSE),'Standards Male'!F$48,IF(I9<=VLOOKUP(L9,'Standards Male'!E$49:J$60,3,FALSE),'Standards Male'!G$48,IF(I9<=VLOOKUP(L9,'Standards Male'!E$49:J$60,4,FALSE),'Standards Male'!H$48,IF(I9<=VLOOKUP(L9,'Standards Male'!E$49:J$60,5,FALSE),'Standards Male'!I$48,IF(I9<=VLOOKUP(L9,'Standards Male'!E$49:J$60,6,FALSE),'Standards Male'!J$48,'Standards Male'!J$48))))) -> Gold | O9: 7 | P9: Caroline Sandles | Q9: 00:26:55
A10: 2 | B10: Megan Chick | C10: =VLOOKUP($B10,$H$2:$J$46,2,FALSE) -> 0.014907407 | D10: =VLOOKUP($B10,$H$2:$J$46,3,FALSE) -> 93 | E10: 2 | G10: 8 | H10: Megan Chick | I10: 0.014907407 | J10: 93 | K10: =I10/G$1 -> 0.0048088411 | L10: =VLOOKUP(H10,Ages!A$1:J$166,10,FALSE) -> 0-34 | M10: =IF(I10<=VLOOKUP(L10,'Standards Male'!E$49:J$60,2,FALSE),'Standards Male'!F$48,IF(I10<=VLOOKUP(L10,'Standards Male'!E$49:J$60,3,FALSE),'Standards Male'!G$48,IF(I10<=VLOOKUP(L10,'Standards Male'!E$49:J$60,4,FALSE),'Standards Male'!H$48,IF(I10<=VLOOKUP(L10,'Standards Male'!E$49:J$60,5,FALSE),'Standards Male'!I$48,IF(I10<=VLOOKUP(L10,'Standards Male'!E$49:J$60,6,FALSE),'Standards Male'!J$48,'Standards Male'!J$48))))) -> Copper | O10: 8 | P10: Jia Ping Lee | Q10: 00:27:05
A11: 3 | B11: Chris Snary | C11: =VLOOKUP($B11,$H$2:$J$46,2,FALSE) -> 0.025659722 | D11: =VLOOKUP($B11,$H$2:$J$46,3,FALSE) -> 59 | E11: 2 | G11: 9 | H11: Rob Sandles | I11: 0.016180556 | J11: 92 | K11: =I11/G$1 -> 0.0052195341 | L11: =VLOOKUP(H11,Ages!A$1:J$166,10,FALSE) -> 60-64 | M11: =IF(I11<=VLOOKUP(L11,'Standards Male'!E$49:J$60,2,FALSE),'Standards Male'!F$48,IF(I11<=VLOOKUP(L11,'Standards Male'!E$49:J$60,3,FALSE),'Standards Male'!G$48,IF(I11<=VLOOKUP(L11,'Standards Male'!E$49:J$60,4,FALSE),'Standards Male'!H$48,IF(I11<=VLOOKUP(L11,'Standards Male'!E$49:J$60,5,FALSE),'Standards Male'!I$48,IF(I11<=VLOOKUP(L11,'Standards Male'!E$49:J$60,6,FALSE),'Standards Male'!J$48,'Standards Male'!J$48))))) -> Silver | O11: 9 | P11: Sharon Trotman | Q11: 00:27:30
A12: 1 | B12: Rob Sandles | C12: =VLOOKUP($B12,$H$2:$J$46,2,FALSE) -> 0.016180556 | D12: =VLOOKUP($B12,$H$2:$J$46,3,FALSE) -> 92 | E12: 3 | G12: 10 | H12: Sean Morgans | I12: 0.016412037 | J12: 91 | K12: =I12/G$1 -> 0.0052942055 | L12: =VLOOKUP(H12,Ages!A$1:J$166,10,FALSE) -> 55-59 | M12: =IF(I12<=VLOOKUP(L12,'Standards Male'!E$49:J$60,2,FALSE),'Standards Male'!F$48,IF(I12<=VLOOKUP(L12,'Standards Male'!E$49:J$60,3,FALSE),'Standards Male'!G$48,IF(I12<=VLOOKUP(L12,'Standards Male'!E$49:J$60,4,FALSE),'Standards Male'!H$48,IF(I12<=VLOOKUP(L12,'Standards Male'!E$49:J$60,5,FALSE),'Standards Male'!I$48,IF(I12<=VLOOKUP(L12,'Standards Male'!E$49:J$60,6,FALSE),'Standards Male'!J$48,'Standards Male'!J$48))))) -> Bronze | O12: 10 | P12: Christina Smith | Q12: 00:27:43
A13: 2 | B13: Sean Morgans | C13: =VLOOKUP($B13,$H$2:$J$46,2,FALSE) -> 0.016412037 | D13: =VLOOKUP($B13,$H$2:$J$46,3,FALSE) -> 91 | E13: 3 | G13: 11 | H13: Hans Thompson | I13: 0.016585648 | J13: 90 | K13: =I13/G$1 -> 0.0053502091 | L13: =VLOOKUP(H13,Ages!A$1:J$166,10,FALSE) -> 70-74 | M13: =IF(I13<=VLOOKUP(L13,'Standards Male'!E$49:J$60,2,FALSE),'Standards Male'!F$48,IF(I13<=VLOOKUP(L13,'Standards Male'!E$49:J$60,3,FALSE),'Standards Male'!G$48,IF(I13<=VLOOKUP(L13,'Standards Male'!E$49:J$60,4,FALSE),'Standards Male'!H$48,IF(I13<=VLOOKUP(L13,'Standards Male'!E$49:J$60,5,FALSE),'Standards Male'!I$48,IF(I13<=VLOOKUP(L13,'Standards Male'!E$49:J$60,6,FALSE),'Standards Male'!J$48,'Standards Male'!J$48))))) -> Gold | O13: 11 | P13: Eiri Evans-Jones | Q13: 00:30:16
A14: 3 | B14: Hans Thompson | C14: =VLOOKUP($B14,$H$2:$J$46,2,FALSE) -> 0.016585648 | D14: =VLOOKUP($B14,$H$2:$J$46,3,FALSE) -> 90 | E14: 3 | G14: 12 | H14: Michelle Grey | I14: 0.016631944 | J14: 89 | K14: =I14/G$1 -> 0.0053651434 | L14: =VLOOKUP(H14,Ages!A$1:J$166,10,FALSE) -> 45-49 | M14: =IF(I14<=VLOOKUP(L14,'Standards Male'!E$49:J$60,2,FALSE),'Standards Male'!F$48,IF(I14<=VLOOKUP(L14,'Standards Male'!E$49:J$60,3,FALSE),'Standards Male'!G$48,IF(I14<=VLOOKUP(L14,'Standards Male'!E$49:J$60,4,FALSE),'Standards Male'!H$48,IF(I14<=VLOOKUP(L14,'Standards Male'!E$49:J$60,5,FALSE),'Standards Male'!I$48,IF(I14<=VLOOKUP(L14,'Standards Male'!E$49:J$60,6,FALSE),'Standards Male'!J$48,'Standards Male'!J$48))))) -> Copper | O14: 12 | P14: Meaghan Jenkins | Q14: 00:30:40
... A23: 5 | B23: Clare Baxter | C23: =VLOOKUP($B23,$H$2:$J$46,2,FALSE) -> 0.017893519 | D23: =VLOOKUP($B23,$H$2:$J$46,3,FALSE) -> 81 | E23: 4 | G23: 21 | H23: Julie Archer | I23: 0.018055556 | J23: 80 | K23: =I23/G$1 -> 0.0058243728 | L23: =VLOOKUP(H23,Ages!A$1:J$166,10,FALSE) -> 55-59 | M23: =IF(I23<=VLOOKUP(L23,'Standards Male'!E$49:J$60,2,FALSE),'Standards Male'!F$48,IF(I23<=VLOOKUP(L23,'Standards Male'!E$49:J$60,3,FALSE),'Standards Male'!G$48,IF(I23<=VLOOKUP(L23,'Standards Male'!E$49:J$60,4,FALSE),'Standards Male'!H$48,IF(I23<=VLOOKUP(L23,'Standards Male'!E$49:J$60,5,FALSE),'Standards Male'!I$48,IF(I23<=VLOOKUP(L23,'Standards Male'!E$49:J$60,6,FALSE),'Standards Male'!J$48,'Standards Male'!J$48))))) -> Copper | O23: 21 | P23: Jane Wallace | Q23: 00:36:54
A24: 6 | B24: Diane Ridgeway | C24: =VLOOKUP($B24,$H$2:$J$46,2,FALSE) -> 0.018402778 | D24: =VLOOKUP($B24,$H$2:$J$46,3,FALSE) -> 79 | E24: 4 | G24: 22 | H24: Diane Ridgeway | I24: 0.018402778 | J24: 79 | K24: =I24/G$1 -> 0.0059363799 | L24: =VLOOKUP(H24,Ages!A$1:J$166,10,FALSE) -> 55-59 | M24: =IF(I24<=VLOOKUP(L24,'Standards Male'!E$49:J$60,2,FALSE),'Standards Male'!F$48,IF(I24<=VLOOKUP(L24,'Standards Male'!E$49:J$60,3,FALSE),'Standards Male'!G$48,IF(I24<=VLOOKUP(L24,'Standards Male'!E$49:J$60,4,FALSE),'Standards Male'!H$48,IF(I24<=VLOOKUP(L24,'Standards Male'!E$49:J$60,5,FALSE),'Standards Male'!I$48,IF(I24<=VLOOKUP(L24,'Standards Male'!E$49:J$60,6,FALSE),'Standards Male'!J$48,'Standards Male'!J$48))))) -> Copper
A25: 1 | B25: Julie Archer | C25: =VLOOKUP($B25,$H$2:$J$46,2,FALSE) -> 0.018055556 | D25: =VLOOKUP($B25,$H$2:$J$46,3,FALSE) -> 80 | E25: 5 | G25: 23 | H25: Caroline Sandles | I25: 0.01869213 | J25: 78 | K25: =I25/G$1 -> 0.0060297192 | L25: =VLOOKUP(H25,Ages!A$1:J$166,10,FALSE) -> 55-59 | M25: =IF(I25<=VLOOKUP(L25,'Standards Male'!E$49:J$60,2,FALSE),'Standards Male'!F$48,IF(I25<=VLOOKUP(L25,'Standards Male'!E$49:J$60,3,FALSE),'Standards Male'!G$48,IF(I25<=VLOOKUP(L25,'Standards Male'!E$49:J$60,4,FALSE),'Standards Male'!H$48,IF(I25<=VLOOKUP(L25,'Standards Male'!E$49:J$60,5,FALSE),'Standards Male'!I$48,IF(I25<=VLOOKUP(L25,'Standards Male'!E$49:J$60,6,FALSE),'Standards Male'!J$48,'Standards Male'!J$48))))) -> Copper | O25: Marshals
A26: 2 | B26: Caroline Sandles | C26: =VLOOKUP($B26,$H$2:$J$46,2,FALSE) -> 0.01869213 | D26: =VLOOKUP($B26,$H$2:$J$46,3,FALSE) -> 78 | E26: 5 | G26: 24 | H26: Jia Ping Lee | I26: 0.01880787 | J26: 77 | K26: =I26/G$1 -> 0.006067055 | L26: =VLOOKUP(H26,Ages!A$1:J$166,10,FALSE) -> 0-34 | M26: =IF(I26<=VLOOKUP(L26,'Standards Male'!E$49:J$60,2,FALSE),'Standards Male'!F$48,IF(I26<=VLOOKUP(L26,'Standards Male'!E$49:J$60,3,FALSE),'Standards Male'!G$48,IF(I26<=VLOOKUP(L26,'Standards Male'!E$49:J$60,4,FALSE),'Standards Male'!H$48,IF(I26<=VLOOKUP(L26,'Standards Male'!E$49:J$60,5,FALSE),'Standards Male'!I$48,IF(I26<=VLOOKUP(L26,'Standards Male'!E$49:J$60,6,FALSE),'Standards Male'!J$48,'Standards Male'!J$48))))) -> Copper | O26: Katie Williams (Organiser)
A27: 3 | B27: Sharon Trotman | C27: =VLOOKUP($B27,$H$2:$J$46,2,FALSE) -> 0.019097222 | D27: =VLOOKUP($B27,$H$2:$J$46,3,FALSE) -> 76 | E27: 5 | G27: 25 | H27: Sharon Trotman | I27: 0.019097222 | J27: 76 | K27: =I27/G$1 -> 0.0061603943 | L27: =VLOOKUP(H27,Ages!A$1:J$166,10,FALSE) -> 55-59 | M27: =IF(I27<=VLOOKUP(L27,'Standards Male'!E$49:J$60,2,FALSE),'Standards Male'!F$48,IF(I27<=VLOOKUP(L27,'Standards Male'!E$49:J$60,3,FALSE),'Standards Male'!G$48,IF(I27<=VLOOKUP(L27,'Standards Male'!E$49:J$60,4,FALSE),'Standards Male'!H$48,IF(I27<=VLOOKUP(L27,'Standards Male'!E$49:J$60,5,FALSE),'Standards Male'!I$48,IF(I27<=VLOOKUP(L27,'Standards Male'!E$49:J$60,6,FALSE),'Standards Male'!J$48,'Standards Male'!J$48))))) -> Copper | O27: Nathan Williams (Organiser)
A28: 1 | B28: Jia Ping Lee | C28: =VLOOKUP($B28,$H$2:$J$46,2,FALSE) -> 0.01880787 | D28: =VLOOKUP($B28,$H$2:$J$46,3,FALSE) -> 77 | E28: 6 | G28: 26 | H28: Christina Smith | I28: 0.019247685 | J28: 75 | K28: =I28/G$1 -> 0.0062089307 | L28: =VLOOKUP(H28,Ages!A$1:J$166,10,FALSE) -> 65-69 | M28: =IF(I28<=VLOOKUP(L28,'Standards Male'!E$49:J$60,2,FALSE),'Standards Male'!F$48,IF(I28<=VLOOKUP(L28,'Standards Male'!E$49:J$60,3,FALSE),'Standards Male'!G$48,IF(I28<=VLOOKUP(L28,'Standards Male'!E$49:J$60,4,FALSE),'Standards Male'!H$48,IF(I28<=VLOOKUP(L28,'Standards Male'!E$49:J$60,5,FALSE),'Standards Male'!I$48,IF(I28<=VLOOKUP(L28,'Standards Male'!E$49:J$60,6,FALSE),'Standards Male'!J$48,'Standards Male'!J$48))))) -> Bronze | O28: Karen Dusgate
A29: 2 | B29: Christina Smith | C29: =VLOOKUP($B29,$H$2:$J$46,2,FALSE) -> 0.019247685 | D29: =VLOOKUP($B29,$H$2:$J$46,3,FALSE) -> 75 | E29: 6 | G29: 27 | H29: Steve McLelland | I29: 0.019652778 | J29: 74 | K29: =I29/G$1 -> 0.0063396057 | L29: =VLOOKUP(H29,Ages!A$1:J$166,10,FALSE) -> 70-74 | M29: =IF(I29<=VLOOKUP(L29,'Standards Male'!E$49:J$60,2,FALSE),'Standards Male'!F$48,IF(I29<=VLOOKUP(L29,'Standards Male'!E$49:J$60,3,FALSE),'Standards Male'!G$48,IF(I29<=VLOOKUP(L29,'Standards Male'!E$49:J$60,4,FALSE),'Standards Male'!H$48,IF(I29<=VLOOKUP(L29,'Standards Male'!E$49:J$60,5,FALSE),'Standards Male'!I$48,IF(I29<=VLOOKUP(L29,'Standards Male'!E$49:J$60,6,FALSE),'Standards Male'!J$48,'Standards Male'!J$48))))) -> Bronze | O29: Mark Jenkins
A30: 3 | B30: Steve McLelland | C30: =VLOOKUP($B30,$H$2:$J$46,2,FALSE) -> 0.019652778 | D30: =VLOOKUP($B30,$H$2:$J$46,3,FALSE) -> 74 | E30: 6 | G30: 28 | H30: Leighton Jones | I30: 0.020115741 | J30: 73 | K30: =I30/G$1 -> 0.0064889486 | L30: =VLOOKUP(H30,Ages!A$1:J$166,10,FALSE) -> 75-79 | M30: =IF(I30<=VLOOKUP(L30,'Standards Male'!E$49:J$60,2,FALSE),'Standards Male'!F$48,IF(I30<=VLOOKUP(L30,'Standards Male'!E$49:J$60,3,FALSE),'Standards Male'!G$48,IF(I30<=VLOOKUP(L30,'Standards Male'!E$49:J$60,4,FALSE),'Standards Male'!H$48,IF(I30<=VLOOKUP(L30,'Standards Male'!E$49:J$60,5,FALSE),'Standards Male'!I$48,IF(I30<=VLOOKUP(L30,'Standards Male'!E$49:J$60,6,FALSE),'Standards Male'!J$48,'Standards Male'!J$48))))) -> Bronze | O30: Victoria Barber
A31: 4 | B31: Leighton Jones | C31: =VLOOKUP($B31,$H$2:$J$46,2,FALSE) -> 0.020115741 | D31: =VLOOKUP($B31,$H$2:$J$46,3,FALSE) -> 73 | E31: 6 | G31: 29 | H31: Mike Prasad | I31: 0.020497685 | J31: 72 | K31: =I31/G$1 -> 0.0066121565 | L31: =VLOOKUP(H31,Ages!A$1:J$166,10,FALSE) -> 55-59 | M31: =IF(I31<=VLOOKUP(L31,'Standards Male'!E$49:J$60,2,FALSE),'Standards Male'!F$48,IF(I31<=VLOOKUP(L31,'Standards Male'!E$49:J$60,3,FALSE),'Standards Male'!G$48,IF(I31<=VLOOKUP(L31,'Standards Male'!E$49:J$60,4,FALSE),'Standards Male'!H$48,IF(I31<=VLOOKUP(L31,'Standards Male'!E$49:J$60,5,FALSE),'Standards Male'!I$48,IF(I31<=VLOOKUP(L31,'Standards Male'!E$49:J$60,6,FALSE),'Standards Male'!J$48,'Standards Male'!J$48))))) -> Copper | O31: Alan Pritchard
A32: 5 | B32: Mike Prasad | C32: =VLOOKUP($B32,$H$2:$J$46,2,FALSE) -> 0.020497685 | D32: =VLOOKUP($B32,$H$2:$J$46,3,FALSE) -> 72 | E32: 6 | G32: 30 | H32: David Doherty | I32: 0.020798611 | J32: 71 | K32: =I32/G$1 -> 0.0067092294 | L32: =VLOOKUP(H32,Ages!A$1:J$166,10,FALSE) -> 70-74 | M32: =IF(I32<=VLOOKUP(L32,'Standards Male'!E$49:J$60,2,FALSE),'Standards Male'!F$48,IF(I32<=VLOOKUP(L32,'Standards Male'!E$49:J$60,3,FALSE),'Standards Male'!G$48,IF(I32<=VLOOKUP(L32,'Standards Male'!E$49:J$60,4,FALSE),'Standards Male'!H$48,IF(I32<=VLOOKUP(L32,'Standards Male'!E$49:J$60,5,FALSE),'Standards Male'!I$48,IF(I32<=VLOOKUP(L32,'Standards Male'!E$49:J$60,6,FALSE),'Standards Male'!J$48,'Standards Male'!J$48))))) -> Bronze | O32: Alice Sullivan
A33: 6 | B33: David Doherty | C33: =VLOOKUP($B33,$H$2:$J$46,2,FALSE) -> 0.020798611 | D33: =VLOOKUP($B33,$H$2:$J$46,3,FALSE) -> 71 | E33: 6 | G33: 31 | H33: Eiri Evans-Jones | I33: 0.021018519 | J33: 70 | K33: =I33/G$1 -> 0.0067801673 | L33: =VLOOKUP(H33,Ages!A$1:J$166,10,FALSE) -> 45-49 | M33: =IF(I33<=VLOOKUP(L33,'Standards Male'!E$49:J$60,2,FALSE),'Standards Male'!F$48,IF(I33<=VLOOKUP(L33,'Standards Male'!E$49:J$60,3,FALSE),'Standards Male'!G$48,IF(I33<=VLOOKUP(L33,'Standards Male'!E$49:J$60,4,FALSE),'Standards Male'!H$48,IF(I33<=VLOOKUP(L33,'Standards Male'!E$49:J$60,5,FALSE),'Standards Male'!I$48,IF(I33<=VLOOKUP(L33,'Standards Male'!E$49:J$60,6,FALSE),'Standards Male'!J$48,'Standards Male'!J$48))))) -> Copper | O33: Nicola Rowe
A34: 1 | B34: Eiri Evans-Jones | C34: =VLOOKUP($B34,$H$2:$J$46,2,FALSE) -> 0.021018519 | D34: =VLOOKUP($B34,$H$2:$J$46,3,FALSE) -> 70 | E34: 7 | G34: 32 | H34: Meaghan Jenkins | I34: 0.021296296 | J34: 69 | K34: =I34/G$1 -> 0.006869773 | L34: =VLOOKUP(H34,Ages!A$1:J$166,10,FALSE) -> 0-34 | M34: =IF(I34<=VLOOKUP(L34,'Standards Male'!E$49:J$60,2,FALSE),'Standards Male'!F$48,IF(I34<=VLOOKUP(L34,'Standards Male'!E$49:J$60,3,FALSE),'Standards Male'!G$48,IF(I34<=VLOOKUP(L34,'Standards Male'!E$49:J$60,4,FALSE),'Standards Male'!H$48,IF(I34<=VLOOKUP(L34,'Standards Male'!E$49:J$60,5,FALSE),'Standards Male'!I$48,IF(I34<=VLOOKUP(L34,'Standards Male'!E$49:J$60,6,FALSE),'Standards Male'!J$48,'Standards Male'!J$48))))) -> Copper | O34: Paula Stockley
A35: 2 | B35: Meaghan Jenkins | C35: =VLOOKUP($B35,$H$2:$J$46,2,FALSE) -> 0.021296296 | D35: =VLOOKUP($B35,$H$2:$J$46,3,FALSE) -> 69 | E35: 7 | G35: 33 | H35: Victoria Holmes | I35: 0.021747685 | J35: 68 | K35: =I35/G$1 -> 0.0070153823 | L35: =VLOOKUP(H35,Ages!A$1:J$166,10,FALSE) -> 0-34 | M35: =IF(I35<=VLOOKUP(L35,'Standards Male'!E$49:J$60,2,FALSE),'Standards Male'!F$48,IF(I35<=VLOOKUP(L35,'Standards Male'!E$49:J$60,3,FALSE),'Standards Male'!G$48,IF(I35<=VLOOKUP(L35,'Standards Male'!E$49:J$60,4,FALSE),'Standards Male'!H$48,IF(I35<=VLOOKUP(L35,'Standards Male'!E$49:J$60,5,FALSE),'Standards Male'!I$48,IF(I35<=VLOOKUP(L35,'Standards Male'!E$49:J$60,6,FALSE),'Standards Male'!J$48,'Standards Male'!J$48))))) -> Copper | O35: Meinir Jones
A36: 1 | B36: Victoria Holmes | C36: =VLOOKUP($B36,$H$2:$J$46,2,FALSE) -> 0.021747685 | D36: =VLOOKUP($B36,$H$2:$J$46,3,FALSE) -> 68 | E36: 8 | G36: 34 | H36: Manisha Rickards | I36: 0.022025463 | J36: 67 | K36: =I36/G$1 -> 0.0071049881 | L36: =VLOOKUP(H36,Ages!A$1:J$166,10,FALSE) -> 60-64 | M36: =IF(I36<=VLOOKUP(L36,'Standards Male'!E$49:J$60,2,FALSE),'Standards Male'!F$48,IF(I36<=VLOOKUP(L36,'Standards Male'!E$49:J$60,3,FALSE),'Standards Male'!G$48,IF(I36<=VLOOKUP(L36,'Standards Male'!E$49:J$60,4,FALSE),'Standards Male'!H$48,IF(I36<=VLOOKUP(L36,'Standards Male'!E$49:J$60,5,FALSE),'Standards Male'!I$48,IF(I36<=VLOOKUP(L36,'Standards Male'!E$49:J$60,6,FALSE),'Standards Male'!J$48,'Standards Male'!J$48))))) -> Copper | O36: Chris Hurdidge
... A38: 3 | B38: Caroline Morgan | C38: =VLOOKUP($B38,$H$2:$J$46,2,FALSE) -> 0.022349537 | D38: =VLOOKUP($B38,$H$2:$J$46,3,FALSE) -> 66 | E38: 8 | G38: 36 | H38: Sandra rees | I38: 0.023171296 | J38: 65 | K38: =I38/G$1 -> 0.0074746117 | L38: =VLOOKUP(H38,Ages!A$1:J$166,10,FALSE) -> 60-64 | M38: =IF(I38<=VLOOKUP(L38,'Standards Male'!E$49:J$60,2,FALSE),'Standards Male'!F$48,IF(I38<=VLOOKUP(L38,'Standards Male'!E$49:J$60,3,FALSE),'Standards Male'!G$48,IF(I38<=VLOOKUP(L38,'Standards Male'!E$49:J$60,4,FALSE),'Standards Male'!H$48,IF(I38<=VLOOKUP(L38,'Standards Male'!E$49:J$60,5,FALSE),'Standards Male'!I$48,IF(I38<=VLOOKUP(L38,'Standards Male'!E$49:J$60,6,FALSE),'Standards Male'!J$48,'Standards Male'!J$48))))) -> Copper | O38: Chris Snary (tail Runner)
A39: 4 | B39: Sandra rees | C39: =VLOOKUP($B39,$H$2:$J$46,2,FALSE) -> 0.023171296 | D39: =VLOOKUP($B39,$H$2:$J$46,3,FALSE) -> 65 | E39: 8 | G39: 37 | H39: Gina Southam | I39: 0.023275463 | J39: 64 | K39: =I39/G$1 -> 0.0075082139 | L39: 0-34 | M39: =IF(I39<=VLOOKUP(L39,'Standards Male'!E$49:J$60,2,FALSE),'Standards Male'!F$48,IF(I39<=VLOOKUP(L39,'Standards Male'!E$49:J$60,3,FALSE),'Standards Male'!G$48,IF(I39<=VLOOKUP(L39,'Standards Male'!E$49:J$60,4,FALSE),'Standards Male'!H$48,IF(I39<=VLOOKUP(L39,'Standards Male'!E$49:J$60,5,FALSE),'Standards Male'!I$48,IF(I39<=VLOOKUP(L39,'Standards Male'!E$49:J$60,6,FALSE),'Standards Male'!J$48,'Standards Male'!J$48))))) -> Copper
A40: 1 | B40: Gina Southam | C40: =VLOOKUP($B40,$H$2:$J$46,2,FALSE) -> 0.023275463 | D40: =VLOOKUP($B40,$H$2:$J$46,3,FALSE) -> 64 | E40: 9 | G40: 38 | H40: Frances Ratcliff | I40: 0.023344907 | J40: 63 | K40: =I40/G$1 -> 0.0075306153 | L40: =VLOOKUP(H40,Ages!A$1:J$166,10,FALSE) -> 40-44 | M40: =IF(I40<=VLOOKUP(L40,'Standards Male'!E$49:J$60,2,FALSE),'Standards Male'!F$48,IF(I40<=VLOOKUP(L40,'Standards Male'!E$49:J$60,3,FALSE),'Standards Male'!G$48,IF(I40<=VLOOKUP(L40,'Standards Male'!E$49:J$60,4,FALSE),'Standards Male'!H$48,IF(I40<=VLOOKUP(L40,'Standards Male'!E$49:J$60,5,FALSE),'Standards Male'!I$48,IF(I40<=VLOOKUP(L40,'Standards Male'!E$49:J$60,6,FALSE),'Standards Male'!J$48,'Standards Male'!J$48))))) -> Copper
A41: 2 | B41: Frances Ratcliff | C41: =VLOOKUP($B41,$H$2:$J$46,2,FALSE) -> 0.023344907 | D41: =VLOOKUP($B41,$H$2:$J$46,3,FALSE) -> 63 | E41: 9 | G41: 39 | H41: Fay Sharpe | I41: 0.023506944 | J41: 62 | K41: =I41/G$1 -> 0.0075828853 | L41: =VLOOKUP(H41,Ages!A$1:J$166,10,FALSE) -> 65-69 | M41: =IF(I41<=VLOOKUP(L41,'Standards Male'!E$49:J$60,2,FALSE),'Standards Male'!F$48,IF(I41<=VLOOKUP(L41,'Standards Male'!E$49:J$60,3,FALSE),'Standards Male'!G$48,IF(I41<=VLOOKUP(L41,'Standards Male'!E$49:J$60,4,FALSE),'Standards Male'!H$48,IF(I41<=VLOOKUP(L41,'Standards Male'!E$49:J$60,5,FALSE),'Standards Male'!I$48,IF(I41<=VLOOKUP(L41,'Standards Male'!E$49:J$60,6,FALSE),'Standards Male'!J$48,'Standards Male'!J$48))))) -> Copper
A42: 3 | B42: Lynn Holmes | C42: =VLOOKUP($B42,$H$2:$J$46,2,FALSE) -> 0.024699074 | D42: =VLOOKUP($B42,$H$2:$J$46,3,FALSE) -> 61 | E42: 9 | G42: 40 | H42: Lynn Holmes | I42: 0.024699074 | J42: 61 | K42: =I42/G$1 -> 0.0079674432 | L42: =VLOOKUP(H42,Ages!A$1:J$166,10,FALSE) -> 60-64 | M42: =IF(I42<=VLOOKUP(L42,'Standards Male'!E$49:J$60,2,FALSE),'Standards Male'!F$48,IF(I42<=VLOOKUP(L42,'Standards Male'!E$49:J$60,3,FALSE),'Standards Male'!G$48,IF(I42<=VLOOKUP(L42,'Standards Male'!E$49:J$60,4,FALSE),'Standards Male'!H$48,IF(I42<=VLOOKUP(L42,'Standards Male'!E$49:J$60,5,FALSE),'Standards Male'!I$48,IF(I42<=VLOOKUP(L42,'Standards Male'!E$49:J$60,6,FALSE),'Standards Male'!J$48,'Standards Male'!J$48))))) -> Copper
A43: 1 | B43: Fay Sharpe | C43: =VLOOKUP($B43,$H$2:$J$46,2,FALSE) -> 0.023506944 | D43: =VLOOKUP($B43,$H$2:$J$46,3,FALSE) -> 62 | E43: 10 | G43: 41 | H43: Jane Wallace | I43: 0.025625 | J43: 60 | K43: =I43/G$1 -> 0.008266129 | L43: =VLOOKUP(H43,Ages!A$1:J$166,10,FALSE) -> 60-64 | M43: =IF(I43<=VLOOKUP(L43,'Standards Male'!E$49:J$60,2,FALSE),'Standards Male'!F$48,IF(I43<=VLOOKUP(L43,'Standards Male'!E$49:J$60,3,FALSE),'Standards Male'!G$48,IF(I43<=VLOOKUP(L43,'Standards Male'!E$49:J$60,4,FALSE),'Standards Male'!H$48,IF(I43<=VLOOKUP(L43,'Standards Male'!E$49:J$60,5,FALSE),'Standards Male'!I$48,IF(I43<=VLOOKUP(L43,'Standards Male'!E$49:J$60,6,FALSE),'Standards Male'!J$48,'Standards Male'!J$48))))) -> Copper
A44: 2 | B44: Jane Wallace | C44: =VLOOKUP($B44,$H$2:$J$46,2,FALSE) -> 0.025625 | D44: =VLOOKUP($B44,$H$2:$J$46,3,FALSE) -> 60 | E44: 10 | G44: 42 | H44: Chris Snary | I44: 0.025659722 | J44: 59 | K44: =I44/G$1 -> 0.0082773297 | L44: =VLOOKUP(H44,Ages!A$1:J$166,10,FALSE) -> 35-39 | M44: =IF(I44<=VLOOKUP(L44,'Standards Male'!E$49:J$60,2,FALSE),'Standards Male'!F$48,IF(I44<=VLOOKUP(L44,'Standards Male'!E$49:J$60,3,FALSE),'Standards Male'!G$48,IF(I44<=VLOOKUP(L44,'Standards Male'!E$49:J$60,4,FALSE),'Standards Male'!H$48,IF(I44<=VLOOKUP(L44,'Standards Male'!E$49:J$60,5,FALSE),'Standards Male'!I$48,IF(I44<=VLOOKUP(L44,'Standards Male'!E$49:J$60,6,FALSE),'Standards Male'!J$48,'Standards Male'!J$48))))) -> Copper

Sheet Race 2
A1: Singleton Pk - 29/07/2026 | G1: 3.1 | H1: Mile
A2: Pos | B2: Group Order | C2: Time | D2: Points | E2: Div | G2: Pos | H2: Name | I2: Time | J2: Points | K2: Min/Mile | L2: Cat | M2: Standard | O2: Pos | P2: Ladies Only | Q2: Time
A3: 1 | B3: Gareth Parry | C3: =VLOOKUP($B3,$H$2:$J$66,2,FALSE) -> 0.013159722 | D3: =VLOOKUP($B3,$H$2:$J$66,3,FALSE) -> 100 | E3: 1 | G3: 1 | H3: Gareth Parry | I3: 0.013159722 | J3: 100 | K3: =I3/G$1 -> 0.0042450717 | L3: =VLOOKUP(H3,Ages!A$1:J$166,10,FALSE) -> 45-49 | M3: =IF(I3<=VLOOKUP(L3,'Standards Male'!E$49:J$60,2,FALSE),'Standards Male'!F$48,IF(I3<=VLOOKUP(L3,'Standards Male'!E$49:J$60,3,FALSE),'Standards Male'!G$48,IF(I3<=VLOOKUP(L3,'Standards Male'!E$49:J$60,4,FALSE),'Standards Male'!H$48,IF(I3<=VLOOKUP(L3,'Standards Male'!E$49:J$60,5,FALSE),'Standards Male'!I$48,IF(I3<=VLOOKUP(L3,'Standards Male'!E$49:J$60,6,FALSE),'Standards Male'!J$48,'Standards Male'!J$48))))) -> Gold | O3: 1 | P3: Megan Chick | Q3: 0.014513889
A4: 2 | B4: Ashley Pascoe | C4: =VLOOKUP($B4,$H$2:$J$66,2,FALSE) -> 0.013391204 | D4: =VLOOKUP($B4,$H$2:$J$66,3,FALSE) -> 99 | E4: 1 | G4: 2 | H4: Ashley Pascoe | I4: 0.013391204 | J4: 99 | K4: =I4/G$1 -> 0.0043197431 | L4: =VLOOKUP(H4,Ages!A$1:J$166,10,FALSE) -> 50-54 | M4: =IF(I4<=VLOOKUP(L4,'Standards Male'!E$49:J$60,2,FALSE),'Standards Male'!F$48,IF(I4<=VLOOKUP(L4,'Standards Male'!E$49:J$60,3,FALSE),'Standards Male'!G$48,IF(I4<=VLOOKUP(L4,'Standards Male'!E$49:J$60,4,FALSE),'Standards Male'!H$48,IF(I4<=VLOOKUP(L4,'Standards Male'!E$49:J$60,5,FALSE),'Standards Male'!I$48,IF(I4<=VLOOKUP(L4,'Standards Male'!E$49:J$60,6,FALSE),'Standards Male'!J$48,'Standards Male'!J$48))))) -> Gold | O4: 2 | P4: Laura Gilbert | Q4: 0.016736111
A5: 3 | B5: Justin Sperrin | C5: =VLOOKUP($B5,$H$2:$J$66,2,FALSE) -> 0.014282407 | D5: =VLOOKUP($B5,$H$2:$J$66,3,FALSE) -> 98 | E5: 1 | G5: 3 | H5: Justin Sperrin | I5: 0.014282407 | J5: 98 | K5: =I5/G$1 -> 0.0046072282 | L5: =VLOOKUP(H5,Ages!A$1:J$166,10,FALSE) -> 0-34 | M5: =IF(I5<=VLOOKUP(L5,'Standards Male'!E$49:J$60,2,FALSE),'Standards Male'!F$48,IF(I5<=VLOOKUP(L5,'Standards Male'!E$49:J$60,3,FALSE),'Standards Male'!G$48,IF(I5<=VLOOKUP(L5,'Standards Male'!E$49:J$60,4,FALSE),'Standards Male'!H$48,IF(I5<=VLOOKUP(L5,'Standards Male'!E$49:J$60,5,FALSE),'Standards Male'!I$48,IF(I5<=VLOOKUP(L5,'Standards Male'!E$49:J$60,6,FALSE),'Standards Male'!J$48,'Standards Male'!J$48))))) -> Bronze | O5: 3 | P5: Clare Baxter | Q5: 0.017326389
A6: 4 | B6: Aron Jones | C6: =VLOOKUP($B6,$H$2:$J$66,2,FALSE) -> 0.014293981 | D6: =VLOOKUP($B6,$H$2:$J$66,3,FALSE) -> 97 | E6: 1 | G6: 4 | H6: Aron Jones | I6: 0.014293981 | J6: 97 | K6: =I6/G$1 -> 0.0046109618 | L6: =VLOOKUP(H6,Ages!A$1:J$166,10,FALSE) -> 40-44 | M6: =IF(I6<=VLOOKUP(L6,'Standards Male'!E$49:J$60,2,FALSE),'Standards Male'!F$48,IF(I6<=VLOOKUP(L6,'Standards Male'!E$49:J$60,3,FALSE),'Standards Male'!G$48,IF(I6<=VLOOKUP(L6,'Standards Male'!E$49:J$60,4,FALSE),'Standards Male'!H$48,IF(I6<=VLOOKUP(L6,'Standards Male'!E$49:J$60,5,FALSE),'Standards Male'!I$48,IF(I6<=VLOOKUP(L6,'Standards Male'!E$49:J$60,6,FALSE),'Standards Male'!J$48,'Standards Male'!J$48))))) -> Bronze | O6: 4 | P6: Diane Ridgeway | Q6: 0.018136574
A7: 5 | B7: Paul Jenkins | C7: =VLOOKUP($B7,$H$2:$J$66,2,FALSE) -> 0.014351852 | D7: =VLOOKUP($B7,$H$2:$J$66,3,FALSE) -> 96 | E7: 1 | G7: 5 | H7: Paul Jenkins | I7: 0.014351852 | J7: 96 | K7: =I7/G$1 -> 0.0046296296 | L7: =VLOOKUP(H7,Ages!A$1:J$166,10,FALSE) -> 45-49 | M7: =IF(I7<=VLOOKUP(L7,'Standards Male'!E$49:J$60,2,FALSE),'Standards Male'!F$48,IF(I7<=VLOOKUP(L7,'Standards Male'!E$49:J$60,3,FALSE),'Standards Male'!G$48,IF(I7<=VLOOKUP(L7,'Standards Male'!E$49:J$60,4,FALSE),'Standards Male'!H$48,IF(I7<=VLOOKUP(L7,'Standards Male'!E$49:J$60,5,FALSE),'Standards Male'!I$48,IF(I7<=VLOOKUP(L7,'Standards Male'!E$49:J$60,6,FALSE),'Standards Male'!J$48,'Standards Male'!J$48))))) -> Silver | O7: 5 | P7: Julie Archer | Q7: 0.018206019
A8: 6 | B8: Megan Chick | C8: =VLOOKUP($B8,$H$2:$J$66,2,FALSE) -> 0.014513889 | D8: =VLOOKUP($B8,$H$2:$J$66,3,FALSE) -> 95 | E8: 2 | G8: 6 | H8: Megan Chick | I8: 0.014513889 | J8: 95 | K8: =I8/G$1 -> 0.0046818996 | L8: =VLOOKUP(H8,Ages!A$1:J$166,10,FALSE) -> 0-34 | M8: =IF(I8<=VLOOKUP(L8,'Standards Male'!E$49:J$60,2,FALSE),'Standards Male'!F$48,IF(I8<=VLOOKUP(L8,'Standards Male'!E$49:J$60,3,FALSE),'Standards Male'!G$48,IF(I8<=VLOOKUP(L8,'Standards Male'!E$49:J$60,4,FALSE),'Standards Male'!H$48,IF(I8<=VLOOKUP(L8,'Standards Male'!E$49:J$60,5,FALSE),'Standards Male'!I$48,IF(I8<=VLOOKUP(L8,'Standards Male'!E$49:J$60,6,FALSE),'Standards Male'!J$48,'Standards Male'!J$48))))) -> Bronze | O8: 6 | P8: Fran Newman | Q8: 0.018506944
A9: 7 | B9: Gavin Davies | C9: =VLOOKUP($B9,$H$2:$J$66,2,FALSE) -> 0.014664352 | D9: =VLOOKUP($B9,$H$2:$J$66,3,FALSE) -> 94 | E9: 2 | G9: 7 | H9: Gavin Davies | I9: 0.014664352 | J9: 94 | K9: =I9/G$1 -> 0.0047304361 | L9: =VLOOKUP(H9,Ages!A$1:J$166,10,FALSE) -> 60-64 | M9: =IF(I9<=VLOOKUP(L9,'Standards Male'!E$49:J$60,2,FALSE),'Standards Male'!F$48,IF(I9<=VLOOKUP(L9,'Standards Male'!E$49:J$60,3,FALSE),'Standards Male'!G$48,IF(I9<=VLOOKUP(L9,'Standards Male'!E$49:J$60,4,FALSE),'Standards Male'!H$48,IF(I9<=VLOOKUP(L9,'Standards Male'!E$49:J$60,5,FALSE),'Standards Male'!I$48,IF(I9<=VLOOKUP(L9,'Standards Male'!E$49:J$60,6,FALSE),'Standards Male'!J$48,'Standards Male'!J$48))))) -> Gold | O9: 7 | P9: Jenny Stanford | Q9: 0.018564815
A10: 8 | B10: James Bennett | C10: =VLOOKUP($B10,$H$2:$J$66,2,FALSE) -> 0.015173611 | D10: =VLOOKUP($B10,$H$2:$J$66,3,FALSE) -> 93 | E10: 2 | G10: 8 | H10: James Bennett | I10: 0.015173611 | J10: 93 | K10: =I10/G$1 -> 0.0048947133 | L10: =VLOOKUP(H10,Ages!A$1:J$166,10,FALSE) -> 35-39 | M10: =IF(I10<=VLOOKUP(L10,'Standards Male'!E$49:J$60,2,FALSE),'Standards Male'!F$48,IF(I10<=VLOOKUP(L10,'Standards Male'!E$49:J$60,3,FALSE),'Standards Male'!G$48,IF(I10<=VLOOKUP(L10,'Standards Male'!E$49:J$60,4,FALSE),'Standards Male'!H$48,IF(I10<=VLOOKUP(L10,'Standards Male'!E$49:J$60,5,FALSE),'Standards Male'!I$48,IF(I10<=VLOOKUP(L10,'Standards Male'!E$49:J$60,6,FALSE),'Standards Male'!J$48,'Standards Male'!J$48))))) -> Bronze | O10: 8 | P10: Caroline Sandles | Q10: 0.018796296
A11: 9 | B11: Kevin Watson | C11: =VLOOKUP($B11,$H$2:$J$66,2,FALSE) -> 0.015486111 | D11: =VLOOKUP($B11,$H$2:$J$66,3,FALSE) -> 92 | E11: 2 | G11: 9 | H11: Kevin Watson | I11: 0.015486111 | J11: 92 | K11: =I11/G$1 -> 0.0049955197 | L11: =VLOOKUP(H11,Ages!A$1:J$166,10,FALSE) -> 50-54 | M11: =IF(I11<=VLOOKUP(L11,'Standards Male'!E$49:J$60,2,FALSE),'Standards Male'!F$48,IF(I11<=VLOOKUP(L11,'Standards Male'!E$49:J$60,3,FALSE),'Standards Male'!G$48,IF(I11<=VLOOKUP(L11,'Standards Male'!E$49:J$60,4,FALSE),'Standards Male'!H$48,IF(I11<=VLOOKUP(L11,'Standards Male'!E$49:J$60,5,FALSE),'Standards Male'!I$48,IF(I11<=VLOOKUP(L11,'Standards Male'!E$49:J$60,6,FALSE),'Standards Male'!J$48,'Standards Male'!J$48))))) -> Silver | O11: 9 | P11: Jia Ping Lee | Q11: 0.019201389
A12: 10 | B12: Chris Snary | C12: =VLOOKUP($B12,$H$2:$J$66,2,FALSE) -> 0.016736111 | D12: =VLOOKUP($B12,$H$2:$J$66,3,FALSE) -> 88 | E12: 2 | G12: 10 | H12: Rob Sandles | I12: 0.016134259 | J12: 91 | K12: =I12/G$1 -> 0.0052045998 | L12: =VLOOKUP(H12,Ages!A$1:J$166,10,FALSE) -> 60-64 | M12: =IF(I12<=VLOOKUP(L12,'Standards Male'!E$49:J$60,2,FALSE),'Standards Male'!F$48,IF(I12<=VLOOKUP(L12,'Standards Male'!E$49:J$60,3,FALSE),'Standards Male'!G$48,IF(I12<=VLOOKUP(L12,'Standards Male'!E$49:J$60,4,FALSE),'Standards Male'!H$48,IF(I12<=VLOOKUP(L12,'Standards Male'!E$49:J$60,5,FALSE),'Standards Male'!I$48,IF(I12<=VLOOKUP(L12,'Standards Male'!E$49:J$60,6,FALSE),'Standards Male'!J$48,'Standards Male'!J$48))))) -> Silver | O12: 10 | P12: Michelle Grey | Q12: 0.019467593
A13: 11 | B13: Rob Sandles | C13: =VLOOKUP($B13,$H$2:$J$66,2,FALSE) -> 0.016134259 | D13: =VLOOKUP($B13,$H$2:$J$66,3,FALSE) -> 91 | E13: 3 | G13: 11 | H13: Hans Thompson | I13: 0.016458333 | J13: 90 | K13: =I13/G$1 -> 0.0053091398 | L13: =VLOOKUP(H13,Ages!A$1:J$166,10,FALSE) -> 70-74 | M13: =IF(I13<=VLOOKUP(L13,'Standards Male'!E$49:J$60,2,FALSE),'Standards Male'!F$48,IF(I13<=VLOOKUP(L13,'Standards Male'!E$49:J$60,3,FALSE),'Standards Male'!G$48,IF(I13<=VLOOKUP(L13,'Standards Male'!E$49:J$60,4,FALSE),'Standards Male'!H$48,IF(I13<=VLOOKUP(L13,'Standards Male'!E$49:J$60,5,FALSE),'Standards Male'!I$48,IF(I13<=VLOOKUP(L13,'Standards Male'!E$49:J$60,6,FALSE),'Standards Male'!J$48,'Standards Male'!J$48))))) -> Gold | O13: 11 | P13: Christina Smith | Q13: 0.019525463
A14: 12 | B14: Hans Thompson | C14: =VLOOKUP($B14,$H$2:$J$66,2,FALSE) -> 0.016458333 | D14: =VLOOKUP($B14,$H$2:$J$66,3,FALSE) -> 90 | E14: 3 | G14: 12 | H14: Laura Gilbert | I14: 0.016736111 | J14: 89 | K14: =I14/G$1 -> 0.0053987455 | L14: =VLOOKUP(H14,Ages!A$1:J$166,10,FALSE) -> 35-39 | M14: =IF(I14<=VLOOKUP(L14,'Standards Male'!E$49:J$60,2,FALSE),'Standards Male'!F$48,IF(I14<=VLOOKUP(L14,'Standards Male'!E$49:J$60,3,FALSE),'Standards Male'!G$48,IF(I14<=VLOOKUP(L14,'Standards Male'!E$49:J$60,4,FALSE),'Standards Male'!H$48,IF(I14<=VLOOKUP(L14,'Standards Male'!E$49:J$60,5,FALSE),'Standards Male'!I$48,IF(I14<=VLOOKUP(L14,'Standards Male'!E$49:J$60,6,FALSE),'Standards Male'!J$48,'Standards Male'!J$48))))) -> Copper | O14: 12 | P14: Kelly Bamford | Q14: 0.020243056
... A29: 27 | B29: Jia Ping Lee | C29: =VLOOKUP($B29,$H$2:$J$66,2,FALSE) -> 0.019201389 | D29: =VLOOKUP($B29,$H$2:$J$66,3,FALSE) -> 75 | E29: 6 | G29: 27 | H29: Michelle Grey | I29: 0.019467593 | J29: 74 | K29: =I29/G$1 -> 0.0062798686 | L29: =VLOOKUP(H29,Ages!A$1:J$166,10,FALSE) -> 45-49 | M29: =IF(I29<=VLOOKUP(L29,'Standards Male'!E$49:J$60,2,FALSE),'Standards Male'!F$48,IF(I29<=VLOOKUP(L29,'Standards Male'!E$49:J$60,3,FALSE),'Standards Male'!G$48,IF(I29<=VLOOKUP(L29,'Standards Male'!E$49:J$60,4,FALSE),'Standards Male'!H$48,IF(I29<=VLOOKUP(L29,'Standards Male'!E$49:J$60,5,FALSE),'Standards Male'!I$48,IF(I29<=VLOOKUP(L29,'Standards Male'!E$49:J$60,6,FALSE),'Standards Male'!J$48,'Standards Male'!J$48))))) -> Copper | O29: 27 | P29: Fay Sharpe | Q29: 0.026828704
A30: 28 | B30: Christina Smith | C30: =VLOOKUP($B30,$H$2:$J$66,2,FALSE) -> 0.019525463 | D30: =VLOOKUP($B30,$H$2:$J$66,3,FALSE) -> 73 | E30: 6 | G30: 28 | H30: Christina Smith | I30: 0.019525463 | J30: 73 | K30: =I30/G$1 -> 0.0062985364 | L30: =VLOOKUP(H30,Ages!A$1:J$166,10,FALSE) -> 65-69 | M30: =IF(I30<=VLOOKUP(L30,'Standards Male'!E$49:J$60,2,FALSE),'Standards Male'!F$48,IF(I30<=VLOOKUP(L30,'Standards Male'!E$49:J$60,3,FALSE),'Standards Male'!G$48,IF(I30<=VLOOKUP(L30,'Standards Male'!E$49:J$60,4,FALSE),'Standards Male'!H$48,IF(I30<=VLOOKUP(L30,'Standards Male'!E$49:J$60,5,FALSE),'Standards Male'!I$48,IF(I30<=VLOOKUP(L30,'Standards Male'!E$49:J$60,6,FALSE),'Standards Male'!J$48,'Standards Male'!J$48))))) -> Bronze
A31: 29 | B31: Leighton Jones | C31: =VLOOKUP($B31,$H$2:$J$66,2,FALSE) -> 0.020046296 | D31: =VLOOKUP($B31,$H$2:$J$66,3,FALSE) -> 72 | E31: 6 | G31: 29 | H31: Leighton Jones | I31: 0.020046296 | J31: 72 | K31: =I31/G$1 -> 0.0064665472 | L31: =VLOOKUP(H31,Ages!A$1:J$166,10,FALSE) -> 75-79 | M31: =IF(I31<=VLOOKUP(L31,'Standards Male'!E$49:J$60,2,FALSE),'Standards Male'!F$48,IF(I31<=VLOOKUP(L31,'Standards Male'!E$49:J$60,3,FALSE),'Standards Male'!G$48,IF(I31<=VLOOKUP(L31,'Standards Male'!E$49:J$60,4,FALSE),'Standards Male'!H$48,IF(I31<=VLOOKUP(L31,'Standards Male'!E$49:J$60,5,FALSE),'Standards Male'!I$48,IF(I31<=VLOOKUP(L31,'Standards Male'!E$49:J$60,6,FALSE),'Standards Male'!J$48,'Standards Male'!J$48))))) -> Bronze | O31: Marshals
A32: 30 | B32: David Doherty | C32: =VLOOKUP($B32,$H$2:$J$66,2,FALSE) -> 0.020335648 | D32: =VLOOKUP($B32,$H$2:$J$66,3,FALSE) -> 70 | E32: 6 | G32: 30 | H32: Kelly Bamford | I32: 0.020243056 | J32: 71 | K32: =I32/G$1 -> 0.0065300179 | L32: =VLOOKUP(H32,Ages!A$1:J$166,10,FALSE) -> 45-49 | M32: =IF(I32<=VLOOKUP(L32,'Standards Male'!E$49:J$60,2,FALSE),'Standards Male'!F$48,IF(I32<=VLOOKUP(L32,'Standards Male'!E$49:J$60,3,FALSE),'Standards Male'!G$48,IF(I32<=VLOOKUP(L32,'Standards Male'!E$49:J$60,4,FALSE),'Standards Male'!H$48,IF(I32<=VLOOKUP(L32,'Standards Male'!E$49:J$60,5,FALSE),'Standards Male'!I$48,IF(I32<=VLOOKUP(L32,'Standards Male'!E$49:J$60,6,FALSE),'Standards Male'!J$48,'Standards Male'!J$48))))) -> Copper | O32: Lee Morris (Organiser)
A33: 31 | B33: Steve McLelland | C33: =VLOOKUP($B33,$H$2:$J$66,2,FALSE) -> 0.020659722 | D33: =VLOOKUP($B33,$H$2:$J$66,3,FALSE) -> 68 | E33: 6 | G33: 31 | H33: David Doherty | I33: 0.020335648 | J33: 70 | K33: =I33/G$1 -> 0.0065598865 | L33: =VLOOKUP(H33,Ages!A$1:J$166,10,FALSE) -> 70-74 | M33: =IF(I33<=VLOOKUP(L33,'Standards Male'!E$49:J$60,2,FALSE),'Standards Male'!F$48,IF(I33<=VLOOKUP(L33,'Standards Male'!E$49:J$60,3,FALSE),'Standards Male'!G$48,IF(I33<=VLOOKUP(L33,'Standards Male'!E$49:J$60,4,FALSE),'Standards Male'!H$48,IF(I33<=VLOOKUP(L33,'Standards Male'!E$49:J$60,5,FALSE),'Standards Male'!I$48,IF(I33<=VLOOKUP(L33,'Standards Male'!E$49:J$60,6,FALSE),'Standards Male'!J$48,'Standards Male'!J$48))))) -> Bronze | O33: Mark Jenkins (Organiser)
A34: 32 | B34: Kelly Bamford | C34: =VLOOKUP($B34,$H$2:$J$66,2,FALSE) -> 0.020243056 | D34: =VLOOKUP($B34,$H$2:$J$66,3,FALSE) -> 71 | E34: 7 | G34: 32 | H34: Eiri Evans-Jones | I34: 0.020451389 | J34: 69 | K34: =I34/G$1 -> 0.0065972222 | L34: =VLOOKUP(H34,Ages!A$1:J$166,10,FALSE) -> 45-49 | M34: =IF(I34<=VLOOKUP(L34,'Standards Male'!E$49:J$60,2,FALSE),'Standards Male'!F$48,IF(I34<=VLOOKUP(L34,'Standards Male'!E$49:J$60,3,FALSE),'Standards Male'!G$48,IF(I34<=VLOOKUP(L34,'Standards Male'!E$49:J$60,4,FALSE),'Standards Male'!H$48,IF(I34<=VLOOKUP(L34,'Standards Male'!E$49:J$60,5,FALSE),'Standards Male'!I$48,IF(I34<=VLOOKUP(L34,'Standards Male'!E$49:J$60,6,FALSE),'Standards Male'!J$48,'Standards Male'!J$48))))) -> Copper | O34: Karen Dusgate
A35: 33 | B35: Eiri Evans-Jones | C35: =VLOOKUP($B35,$H$2:$J$66,2,FALSE) -> 0.020451389 | D35: =VLOOKUP($B35,$H$2:$J$66,3,FALSE) -> 69 | E35: 7 | G35: 33 | H35: Steve McLelland | I35: 0.020659722 | J35: 68 | K35: =I35/G$1 -> 0.0066644265 | L35: =VLOOKUP(H35,Ages!A$1:J$166,10,FALSE) -> 70-74 | M35: =IF(I35<=VLOOKUP(L35,'Standards Male'!E$49:J$60,2,FALSE),'Standards Male'!F$48,IF(I35<=VLOOKUP(L35,'Standards Male'!E$49:J$60,3,FALSE),'Standards Male'!G$48,IF(I35<=VLOOKUP(L35,'Standards Male'!E$49:J$60,4,FALSE),'Standards Male'!H$48,IF(I35<=VLOOKUP(L35,'Standards Male'!E$49:J$60,5,FALSE),'Standards Male'!I$48,IF(I35<=VLOOKUP(L35,'Standards Male'!E$49:J$60,6,FALSE),'Standards Male'!J$48,'Standards Male'!J$48))))) -> Bronze | O35: Ian Bamford
A36: 34 | B36: Saran Lewis | C36: =VLOOKUP($B36,$H$2:$J$66,2,FALSE) -> 0.02125 | D36: =VLOOKUP($B36,$H$2:$J$66,3,FALSE) -> 67 | E36: 7 | G36: 34 | H36: Saran Lewis | I36: 0.02125 | J36: 67 | K36: =I36/G$1 -> 0.0068548387 | L36: =VLOOKUP(H36,Ages!A$1:J$166,10,FALSE) -> 45-49 | M36: =IF(I36<=VLOOKUP(L36,'Standards Male'!E$49:J$60,2,FALSE),'Standards Male'!F$48,IF(I36<=VLOOKUP(L36,'Standards Male'!E$49:J$60,3,FALSE),'Standards Male'!G$48,IF(I36<=VLOOKUP(L36,'Standards Male'!E$49:J$60,4,FALSE),'Standards Male'!H$48,IF(I36<=VLOOKUP(L36,'Standards Male'!E$49:J$60,5,FALSE),'Standards Male'!I$48,IF(I36<=VLOOKUP(L36,'Standards Male'!E$49:J$60,6,FALSE),'Standards Male'!J$48,'Standards Male'!J$48))))) -> Copper | O36: Victoria Barber
A37: 35 | B37: Debbie Gibbs | C37: =VLOOKUP($B37,$H$2:$J$66,2,FALSE) -> 0.021770833 | D37: =VLOOKUP($B37,$H$2:$J$66,3,FALSE) -> 66 | E37: 7 | G37: 35 | H37: Debbie Gibbs | I37: 0.021770833 | J37: 66 | K37: =I37/G$1 -> 0.0070228495 | L37: =VLOOKUP(H37,Ages!A$1:J$166,10,FALSE) -> 45-49 | M37: =IF(I37<=VLOOKUP(L37,'Standards Male'!E$49:J$60,2,FALSE),'Standards Male'!F$48,IF(I37<=VLOOKUP(L37,'Standards Male'!E$49:J$60,3,FALSE),'Standards Male'!G$48,IF(I37<=VLOOKUP(L37,'Standards Male'!E$49:J$60,4,FALSE),'Standards Male'!H$48,IF(I37<=VLOOKUP(L37,'Standards Male'!E$49:J$60,5,FALSE),'Standards Male'!I$48,IF(I37<=VLOOKUP(L37,'Standards Male'!E$49:J$60,6,FALSE),'Standards Male'!J$48,'Standards Male'!J$48))))) -> Copper | O37: Alan Pritchard
A38: 36 | B38: Meaghan Jenkins | C38: =VLOOKUP($B38,$H$2:$J$66,2,FALSE) -> 0.022199074 | D38: =VLOOKUP($B38,$H$2:$J$66,3,FALSE) -> 65 | E38: 7 | G38: 36 | H38: Meaghan Jenkins | I38: 0.022199074 | J38: 65 | K38: =I38/G$1 -> 0.0071609916 | L38: =VLOOKUP(H38,Ages!A$1:J$166,10,FALSE) -> 0-34 | M38: =IF(I38<=VLOOKUP(L38,'Standards Male'!E$49:J$60,2,FALSE),'Standards Male'!F$48,IF(I38<=VLOOKUP(L38,'Standards Male'!E$49:J$60,3,FALSE),'Standards Male'!G$48,IF(I38<=VLOOKUP(L38,'Standards Male'!E$49:J$60,4,FALSE),'Standards Male'!H$48,IF(I38<=VLOOKUP(L38,'Standards Male'!E$49:J$60,5,FALSE),'Standards Male'!I$48,IF(I38<=VLOOKUP(L38,'Standards Male'!E$49:J$60,6,FALSE),'Standards Male'!J$48,'Standards Male'!J$48))))) -> Copper | O38: Alice Sullivan
A39: 37 | B39: Meghann Millership | C39: =VLOOKUP($B39,$H$2:$J$66,2,FALSE) -> 0.022581019 | D39: =VLOOKUP($B39,$H$2:$J$66,3,FALSE) -> 64 | E39: 8 | G39: 37 | H39: Meghann Millership | I39: 0.022581019 | J39: 64 | K39: =I39/G$1 -> 0.0072841995 | L39: 0-34 | M39: =IF(I39<=VLOOKUP(L39,'Standards Male'!E$49:J$60,2,FALSE),'Standards Male'!F$48,IF(I39<=VLOOKUP(L39,'Standards Male'!E$49:J$60,3,FALSE),'Standards Male'!G$48,IF(I39<=VLOOKUP(L39,'Standards Male'!E$49:J$60,4,FALSE),'Standards Male'!H$48,IF(I39<=VLOOKUP(L39,'Standards Male'!E$49:J$60,5,FALSE),'Standards Male'!I$48,IF(I39<=VLOOKUP(L39,'Standards Male'!E$49:J$60,6,FALSE),'Standards Male'!J$48,'Standards Male'!J$48))))) -> Copper | O39: Nicola Rowe
A40: 38 | B40: Victoria Holmes | C40: =VLOOKUP($B40,$H$2:$J$66,2,FALSE) -> 0.023634259 | D40: =VLOOKUP($B40,$H$2:$J$66,3,FALSE) -> 62 | E40: 8 | G40: 38 | H40: Laura Hall | I40: 0.023229167 | J40: 63 | K40: =I40/G$1 -> 0.0074932796 | L40: =VLOOKUP(H40,Ages!A$1:J$166,10,FALSE) -> 60-64 | M40: =IF(I40<=VLOOKUP(L40,'Standards Male'!E$49:J$60,2,FALSE),'Standards Male'!F$48,IF(I40<=VLOOKUP(L40,'Standards Male'!E$49:J$60,3,FALSE),'Standards Male'!G$48,IF(I40<=VLOOKUP(L40,'Standards Male'!E$49:J$60,4,FALSE),'Standards Male'!H$48,IF(I40<=VLOOKUP(L40,'Standards Male'!E$49:J$60,5,FALSE),'Standards Male'!I$48,IF(I40<=VLOOKUP(L40,'Standards Male'!E$49:J$60,6,FALSE),'Standards Male'!J$48,'Standards Male'!J$48))))) -> Copper | O40: Paula Stockley
A41: 39 | B41: Manisha Rickards | C41: =VLOOKUP($B41,$H$2:$J$66,2,FALSE) -> 0.02412037 | D41: =VLOOKUP($B41,$H$2:$J$66,3,FALSE) -> 61 | E41: 8 | G41: 39 | H41: Victoria Holmes | I41: 0.023634259 | J41: 62 | K41: =I41/G$1 -> 0.0076239546 | L41: =VLOOKUP(H41,Ages!A$1:J$166,10,FALSE) -> 0-34 | M41: =IF(I41<=VLOOKUP(L41,'Standards Male'!E$49:J$60,2,FALSE),'Standards Male'!F$48,IF(I41<=VLOOKUP(L41,'Standards Male'!E$49:J$60,3,FALSE),'Standards Male'!G$48,IF(I41<=VLOOKUP(L41,'Standards Male'!E$49:J$60,4,FALSE),'Standards Male'!H$48,IF(I41<=VLOOKUP(L41,'Standards Male'!E$49:J$60,5,FALSE),'Standards Male'!I$48,IF(I41<=VLOOKUP(L41,'Standards Male'!E$49:J$60,6,FALSE),'Standards Male'!J$48,'Standards Male'!J$48))))) -> Copper | O41: Nicola Julian
A42: 40 | B42: Laura Hall | C42: =VLOOKUP($B42,$H$2:$J$66,2,FALSE) -> 0.023229167 | D42: =VLOOKUP($B42,$H$2:$J$66,3,FALSE) -> 63 | E42: 9 | G42: 40 | H42: Manisha Rickards | I42: 0.02412037 | J42: 61 | K42: =I42/G$1 -> 0.0077807646 | L42: =VLOOKUP(H42,Ages!A$1:J$166,10,FALSE) -> 60-64 | M42: =IF(I42<=VLOOKUP(L42,'Standards Male'!E$49:J$60,2,FALSE),'Standards Male'!F$48,IF(I42<=VLOOKUP(L42,'Standards Male'!E$49:J$60,3,FALSE),'Standards Male'!G$48,IF(I42<=VLOOKUP(L42,'Standards Male'!E$49:J$60,4,FALSE),'Standards Male'!H$48,IF(I42<=VLOOKUP(L42,'Standards Male'!E$49:J$60,5,FALSE),'Standards Male'!I$48,IF(I42<=VLOOKUP(L42,'Standards Male'!E$49:J$60,6,FALSE),'Standards Male'!J$48,'Standards Male'!J$48))))) -> Copper | O42: Chris Hurdidge
A43: 41 | B43: Caroline Jones I | C43: =VLOOKUP($B43,$H$2:$J$66,2,FALSE) -> 0.024768519 | D43: =VLOOKUP($B43,$H$2:$J$66,3,FALSE) -> 60 | E43: 9 | G43: 41 | H43: Caroline Jones I | I43: 0.024768519 | J43: 60 | K43: =I43/G$1 -> 0.0079898447 | L43: =VLOOKUP(H43,Ages!A$1:J$166,10,FALSE) -> 50-54 | M43: =IF(I43<=VLOOKUP(L43,'Standards Male'!E$49:J$60,2,FALSE),'Standards Male'!F$48,IF(I43<=VLOOKUP(L43,'Standards Male'!E$49:J$60,3,FALSE),'Standards Male'!G$48,IF(I43<=VLOOKUP(L43,'Standards Male'!E$49:J$60,4,FALSE),'Standards Male'!H$48,IF(I43<=VLOOKUP(L43,'Standards Male'!E$49:J$60,5,FALSE),'Standards Male'!I$48,IF(I43<=VLOOKUP(L43,'Standards Male'!E$49:J$60,6,FALSE),'Standards Male'!J$48,'Standards Male'!J$48))))) -> Copper | O43: Julie Davies
A44: 42 | B44: Lynn Holmes | C44: =VLOOKUP($B44,$H$2:$J$66,2,FALSE) -> 0.024895833 | D44: =VLOOKUP($B44,$H$2:$J$66,3,FALSE) -> 59 | E44: 9 | G44: 42 | H44: Lynn Holmes | I44: 0.024895833 | J44: 59 | K44: =I44/G$1 -> 0.008030914 | L44: =VLOOKUP(H44,Ages!A$1:J$166,10,FALSE) -> 60-64 | M44: =IF(I44<=VLOOKUP(L44,'Standards Male'!E$49:J$60,2,FALSE),'Standards Male'!F$48,IF(I44<=VLOOKUP(L44,'Standards Male'!E$49:J$60,3,FALSE),'Standards Male'!G$48,IF(I44<=VLOOKUP(L44,'Standards Male'!E$49:J$60,4,FALSE),'Standards Male'!H$48,IF(I44<=VLOOKUP(L44,'Standards Male'!E$49:J$60,5,FALSE),'Standards Male'!I$48,IF(I44<=VLOOKUP(L44,'Standards Male'!E$49:J$60,6,FALSE),'Standards Male'!J$48,'Standards Male'!J$48))))) -> Copper | O44: Nathan Williams
A45: 43 | B45: Jane Wallace | C45: =VLOOKUP($B45,$H$2:$J$66,2,FALSE) -> 0.025335648 | D45: =VLOOKUP($B45,$H$2:$J$66,3,FALSE) -> 58 | E45: 10 | G45: 43 | H45: Jane Wallace | I45: 0.025335648 | J45: 58 | K45: =I45/G$1 -> 0.0081727897 | L45: =VLOOKUP(H45,Ages!A$1:J$166,10,FALSE) -> 60-64 | M45: =IF(I45<=VLOOKUP(L45,'Standards Male'!E$49:J$60,2,FALSE),'Standards Male'!F$48,IF(I45<=VLOOKUP(L45,'Standards Male'!E$49:J$60,3,FALSE),'Standards Male'!G$48,IF(I45<=VLOOKUP(L45,'Standards Male'!E$49:J$60,4,FALSE),'Standards Male'!H$48,IF(I45<=VLOOKUP(L45,'Standards Male'!E$49:J$60,5,FALSE),'Standards Male'!I$48,IF(I45<=VLOOKUP(L45,'Standards Male'!E$49:J$60,6,FALSE),'Standards Male'!J$48,'Standards Male'!J$48))))) -> Copper | O45: Fay Sharpe
A46: 44 | B46: Clare Daniel | C46: =VLOOKUP($B46,$H$2:$J$66,2,FALSE) -> 0.025393519 | D46: =VLOOKUP($B46,$H$2:$J$66,3,FALSE) -> 57 | E46: 10 | G46: 44 | H46: Clare Daniel | I46: 0.025393519 | J46: 57 | K46: =I46/G$1 -> 0.0081914576 | L46: =VLOOKUP(H46,Ages!A$1:J$166,10,FALSE) -> 35-39 | M46: =IF(I46<=VLOOKUP(L46,'Standards Male'!E$49:J$60,2,FALSE),'Standards Male'!F$48,IF(I46<=VLOOKUP(L46,'Standards Male'!E$49:J$60,3,FALSE),'Standards Male'!G$48,IF(I46<=VLOOKUP(L46,'Standards Male'!E$49:J$60,4,FALSE),'Standards Male'!H$48,IF(I46<=VLOOKUP(L46,'Standards Male'!E$49:J$60,5,FALSE),'Standards Male'!I$48,IF(I46<=VLOOKUP(L46,'Standards Male'!E$49:J$60,6,FALSE),'Standards Male'!J$48,'Standards Male'!J$48))))) -> Copper | O46: Helen Jenkins
A47: 45 | B47: Sophie Grunhut | C47: =VLOOKUP($B47,$H$2:$J$66,2,FALSE) -> 0.025439815 | D47: =VLOOKUP($B47,$H$2:$J$66,3,FALSE) -> 56 | E47: 10 | G47: 45 | H47: Sophie Grunhut | I47: 0.025439815 | J47: 56 | K47: =I47/G$1 -> 0.0082063919 | L47: =VLOOKUP(H47,Ages!A$1:J$166,10,FALSE) -> 0-34 | M47: =IF(I47<=VLOOKUP(L47,'Standards Male'!E$49:J$60,2,FALSE),'Standards Male'!F$48,IF(I47<=VLOOKUP(L47,'Standards Male'!E$49:J$60,3,FALSE),'Standards Male'!G$48,IF(I47<=VLOOKUP(L47,'Standards Male'!E$49:J$60,4,FALSE),'Standards Male'!H$48,IF(I47<=VLOOKUP(L47,'Standards Male'!E$49:J$60,5,FALSE),'Standards Male'!I$48,IF(I47<=VLOOKUP(L47,'Standards Male'!E$49:J$60,6,FALSE),'Standards Male'!J$48,'Standards Male'!J$48))))) -> Copper
A48: 46 | B48: Linda Owens | C48: =VLOOKUP($B48,$H$2:$J$66,2,FALSE) -> 0.026759259 | D48: =VLOOKUP($B48,$H$2:$J$66,3,FALSE) -> 55 | E48: 10 | G48: 46 | H48: Linda Owens | I48: 0.026759259 | J48: 55 | K48: =I48/G$1 -> 0.0086320191 | L48: =VLOOKUP(H48,Ages!A$1:J$166,10,FALSE) -> 75-79 | M48: =IF(I48<=VLOOKUP(L48,'Standards Male'!E$49:J$60,2,FALSE),'Standards Male'!F$48,IF(I48<=VLOOKUP(L48,'Standards Male'!E$49:J$60,3,FALSE),'Standards Male'!G$48,IF(I48<=VLOOKUP(L48,'Standards Male'!E$49:J$60,4,FALSE),'Standards Male'!H$48,IF(I48<=VLOOKUP(L48,'Standards Male'!E$49:J$60,5,FALSE),'Standards Male'!I$48,IF(I48<=VLOOKUP(L48,'Standards Male'!E$49:J$60,6,FALSE),'Standards Male'!J$48,'Standards Male'!J$48))))) -> Copper
A49: 47 | B49: Fay Sharpe | C49: =VLOOKUP($B49,$H$2:$J$66,2,FALSE) -> 0.026828704 | D49: =VLOOKUP($B49,$H$2:$J$66,3,FALSE) -> 54 | E49: 10 | G49: 47 | H49: Fay Sharpe | I49: 0.026828704 | J49: 54 | K49: =I49/G$1 -> 0.0086544205 | L49: =VLOOKUP(H49,Ages!A$1:J$166,10,FALSE) -> 65-69 | M49: =IF(I49<=VLOOKUP(L49,'Standards Male'!E$49:J$60,2,FALSE),'Standards Male'!F$48,IF(I49<=VLOOKUP(L49,'Standards Male'!E$49:J$60,3,FALSE),'Standards Male'!G$48,IF(I49<=VLOOKUP(L49,'Standards Male'!E$49:J$60,4,FALSE),'Standards Male'!H$48,IF(I49<=VLOOKUP(L49,'Standards Male'!E$49:J$60,5,FALSE),'Standards Male'!I$48,IF(I49<=VLOOKUP(L49,'Standards Male'!E$49:J$60,6,FALSE),'Standards Male'!J$48,'Standards Male'!J$48))))) -> Copper

Sheet Race 3
A1: Llanelli-Tumble Path | G1: 6.2 | H1: Mile | I1: 45896
A2: Pos | B2: Group Order | C2: Time | D2: Points | E2: Div | G2: Pos | H2: Race Order | I2: Time | J2: Points | K2: Min/Mile | L2: Cat | M2: Standard | O2: Pos | P2: Ladies Only | Q2: Time
A3: 1 | B3: Ashley Pascoe | C3: =VLOOKUP($B3,$H$2:$J$45,2,FALSE) -> 0.028645833 | D3: =VLOOKUP($B3,$H$2:$J$34,3,FALSE) -> 100 | E3: 1 | G3: 1 | H3: Ashley Pascoe | I3: 0.028645833 | J3: 100 | K3: =I3/G$1 -> 0.0046202957 | L3: =VLOOKUP(H3,Ages!A$1:J$166,10,FALSE) -> 50-54 | M3: =IF(I3<=VLOOKUP(L3,'Standards Male'!E$92:J$103,2,FALSE),'Standards Male'!F$91,IF(I3<=VLOOKUP(L3,'Standards Male'!E$92:J$103,3,FALSE),'Standards Male'!G$91,IF(I3<=VLOOKUP(L3,'Standards Male'!E$92:J$103,4,FALSE),'Standards Male'!H$91,IF(I3<=VLOOKUP(L3,'Standards Male'!E$92:J$103,5,FALSE),'Standards Male'!I$91,IF(I3<=VLOOKUP(L3,'Standards Male'!E$92:J$103,6,FALSE),'Standards Male'!J$91,'Standards Male'!J$91))))) -> Silver | O3: 1 | P3: Megan Chick | Q3: 0.030787037
A4: 2 | B4: Lee Morris | C4: =VLOOKUP($B4,$H$2:$J$45,2,FALSE) -> 0.029108796 | D4: =VLOOKUP($B4,$H$2:$J$34,3,FALSE) -> 99 | E4: 1 | G4: 2 | H4: Lee Morris | I4: 0.029108796 | J4: 99 | K4: =I4/G$1 -> 0.0046949671 | L4: =VLOOKUP(H4,Ages!A$1:J$166,10,FALSE) -> 40-44 | M4: =IF(I4<=VLOOKUP(L4,'Standards Male'!E$92:J$103,2,FALSE),'Standards Male'!F$91,IF(I4<=VLOOKUP(L4,'Standards Male'!E$92:J$103,3,FALSE),'Standards Male'!G$91,IF(I4<=VLOOKUP(L4,'Standards Male'!E$92:J$103,4,FALSE),'Standards Male'!H$91,IF(I4<=VLOOKUP(L4,'Standards Male'!E$92:J$103,5,FALSE),'Standards Male'!I$91,IF(I4<=VLOOKUP(L4,'Standards Male'!E$92:J$103,6,FALSE),'Standards Male'!J$91,'Standards Male'!J$91))))) -> Bronze | O4: 2 | P4: Caroline Sandles | Q4: 0.037743056
A5: 3 | B5: Justin Sperrin | C5: =VLOOKUP($B5,$H$2:$J$45,2,FALSE) -> 0.029502315 | D5: =VLOOKUP($B5,$H$2:$J$43,3,FALSE) -> 98 | E5: 1 | G5: 3 | H5: Justin Sperrin | I5: 0.029502315 | J5: 98 | K5: =I5/G$1 -> 0.0047584379 | L5: =VLOOKUP(H5,Ages!A$1:J$166,10,FALSE) -> 0-34 | M5: =IF(I5<=VLOOKUP(L5,'Standards Male'!E$92:J$103,2,FALSE),'Standards Male'!F$91,IF(I5<=VLOOKUP(L5,'Standards Male'!E$92:J$103,3,FALSE),'Standards Male'!G$91,IF(I5<=VLOOKUP(L5,'Standards Male'!E$92:J$103,4,FALSE),'Standards Male'!H$91,IF(I5<=VLOOKUP(L5,'Standards Male'!E$92:J$103,5,FALSE),'Standards Male'!I$91,IF(I5<=VLOOKUP(L5,'Standards Male'!E$92:J$103,6,FALSE),'Standards Male'!J$91,'Standards Male'!J$91))))) -> Bronze | O5: 3 | P5: Fran Newman | Q5: 0.038449074
A6: 4 | B6: Aron Jones | C6: =VLOOKUP($B6,$H$2:$J$45,2,FALSE) -> 0.029895833 | D6: =VLOOKUP($B6,$H$2:$J$43,3,FALSE) -> 97 | E6: 1 | G6: 4 | H6: Aron Jones | I6: 0.029895833 | J6: 97 | K6: =I6/G$1 -> 0.0048219086 | L6: =VLOOKUP(H6,Ages!A$1:J$166,10,FALSE) -> 40-44 | M6: =IF(I6<=VLOOKUP(L6,'Standards Male'!E$92:J$103,2,FALSE),'Standards Male'!F$91,IF(I6<=VLOOKUP(L6,'Standards Male'!E$92:J$103,3,FALSE),'Standards Male'!G$91,IF(I6<=VLOOKUP(L6,'Standards Male'!E$92:J$103,4,FALSE),'Standards Male'!H$91,IF(I6<=VLOOKUP(L6,'Standards Male'!E$92:J$103,5,FALSE),'Standards Male'!I$91,IF(I6<=VLOOKUP(L6,'Standards Male'!E$92:J$103,6,FALSE),'Standards Male'!J$91,'Standards Male'!J$91))))) -> Bronze | O6: 4 | P6: Jia Ping Lee | Q6: 0.038900463
A7: 5 | B7: Paul Jenkins | C7: =VLOOKUP($B7,$H$2:$J$45,2,FALSE) -> 0.030173611 | D7: =VLOOKUP($B7,$H$2:$J$43,3,FALSE) -> 96 | E7: 1 | G7: 5 | H7: Paul Jenkins | I7: 0.030173611 | J7: 96 | K7: =I7/G$1 -> 0.0048667115 | L7: =VLOOKUP(H7,Ages!A$1:J$166,10,FALSE) -> 45-49 | M7: =IF(I7<=VLOOKUP(L7,'Standards Male'!E$92:J$103,2,FALSE),'Standards Male'!F$91,IF(I7<=VLOOKUP(L7,'Standards Male'!E$92:J$103,3,FALSE),'Standards Male'!G$91,IF(I7<=VLOOKUP(L7,'Standards Male'!E$92:J$103,4,FALSE),'Standards Male'!H$91,IF(I7<=VLOOKUP(L7,'Standards Male'!E$92:J$103,5,FALSE),'Standards Male'!I$91,IF(I7<=VLOOKUP(L7,'Standards Male'!E$92:J$103,6,FALSE),'Standards Male'!J$91,'Standards Male'!J$91))))) -> Silver | O7: 5 | P7: Diane Ridgeway | Q7: 0.039201389
A8: 6 | B8: Dan Evans | C8: =VLOOKUP($B8,$H$2:$J$45,2,FALSE) -> 0.033414352 | D8: =VLOOKUP($B8,$H$2:$J$43,3,FALSE) -> 89 | E8: 1 | G8: 6 | H8: Megan Chick | I8: 0.030787037 | J8: 95 | K8: =I8/G$1 -> 0.0049656511 | L8: =VLOOKUP(H8,Ages!A$1:J$166,10,FALSE) -> 0-34 | M8: =IF(I8<=VLOOKUP(L8,'Standards Male'!E$92:J$103,2,FALSE),'Standards Male'!F$91,IF(I8<=VLOOKUP(L8,'Standards Male'!E$92:J$103,3,FALSE),'Standards Male'!G$91,IF(I8<=VLOOKUP(L8,'Standards Male'!E$92:J$103,4,FALSE),'Standards Male'!H$91,IF(I8<=VLOOKUP(L8,'Standards Male'!E$92:J$103,5,FALSE),'Standards Male'!I$91,IF(I8<=VLOOKUP(L8,'Standards Male'!E$92:J$103,6,FALSE),'Standards Male'!J$91,'Standards Male'!J$91))))) -> Copper | O8: 6 | P8: Jenny Stanford | Q8: 0.039513889
A9: 1 | B9: Megan Chick | C9: =VLOOKUP($B9,$H$2:$J$45,2,FALSE) -> 0.030787037 | D9: =VLOOKUP($B9,$H$2:$J$43,3,FALSE) -> 95 | E9: 2 | G9: 7 | H9: Kevin Watson | I9: 0.031944444 | J9: 94 | K9: =I9/G$1 -> 0.0051523297 | L9: =VLOOKUP(H9,Ages!A$1:J$166,10,FALSE) -> 50-54 | M9: =IF(I9<=VLOOKUP(L9,'Standards Male'!E$92:J$103,2,FALSE),'Standards Male'!F$91,IF(I9<=VLOOKUP(L9,'Standards Male'!E$92:J$103,3,FALSE),'Standards Male'!G$91,IF(I9<=VLOOKUP(L9,'Standards Male'!E$92:J$103,4,FALSE),'Standards Male'!H$91,IF(I9<=VLOOKUP(L9,'Standards Male'!E$92:J$103,5,FALSE),'Standards Male'!I$91,IF(I9<=VLOOKUP(L9,'Standards Male'!E$92:J$103,6,FALSE),'Standards Male'!J$91,'Standards Male'!J$91))))) -> Bronze | O9: 7 | P9: Louise Steer | Q9: 0.040949074
A10: 2 | B10: Kevin Watson | C10: =VLOOKUP($B10,$H$2:$J$45,2,FALSE) -> 0.031944444 | D10: =VLOOKUP($B10,$H$2:$J$43,3,FALSE) -> 94 | E10: 2 | G10: 8 | H10: Mark Bamford | I10: 0.032523148 | J10: 93 | K10: =I10/G$1 -> 0.0052456691 | L10: =VLOOKUP(H10,Ages!A$1:J$166,10,FALSE) -> 50-54 | M10: =IF(I10<=VLOOKUP(L10,'Standards Male'!E$92:J$103,2,FALSE),'Standards Male'!F$91,IF(I10<=VLOOKUP(L10,'Standards Male'!E$92:J$103,3,FALSE),'Standards Male'!G$91,IF(I10<=VLOOKUP(L10,'Standards Male'!E$92:J$103,4,FALSE),'Standards Male'!H$91,IF(I10<=VLOOKUP(L10,'Standards Male'!E$92:J$103,5,FALSE),'Standards Male'!I$91,IF(I10<=VLOOKUP(L10,'Standards Male'!E$92:J$103,6,FALSE),'Standards Male'!J$91,'Standards Male'!J$91))))) -> Bronze | O10: 8 | P10: Kelly Bamford | Q10: 0.041388889
A11: 3 | B11: Mark Bamford | C11: =VLOOKUP($B11,$H$2:$J$45,2,FALSE) -> 0.032523148 | D11: =VLOOKUP($B11,$H$2:$J$43,3,FALSE) -> 93 | E11: 2 | G11: 9 | H11: Rob Sandles | I11: 0.033043981 | J11: 92 | K11: =I11/G$1 -> 0.0053296744 | L11: =VLOOKUP(H11,Ages!A$1:J$166,10,FALSE) -> 60-64 | M11: =IF(I11<=VLOOKUP(L11,'Standards Male'!E$92:J$103,2,FALSE),'Standards Male'!F$91,IF(I11<=VLOOKUP(L11,'Standards Male'!E$92:J$103,3,FALSE),'Standards Male'!G$91,IF(I11<=VLOOKUP(L11,'Standards Male'!E$92:J$103,4,FALSE),'Standards Male'!H$91,IF(I11<=VLOOKUP(L11,'Standards Male'!E$92:J$103,5,FALSE),'Standards Male'!I$91,IF(I11<=VLOOKUP(L11,'Standards Male'!E$92:J$103,6,FALSE),'Standards Male'!J$91,'Standards Male'!J$91))))) -> Silver | O11: 9 | P11: Eiri Evans-Jones | Q11: 0.042175926
A12: 4 | B12: Rob Sandles | C12: =VLOOKUP($B12,$H$2:$J$45,2,FALSE) -> 0.033043981 | D12: =VLOOKUP($B12,$H$2:$J$43,3,FALSE) -> 92 | E12: 2 | G12: 10 | H12: James Bennett | I12: 0.033113426 | J12: 91 | K12: =I12/G$1 -> 0.0053408751 | L12: =VLOOKUP(H12,Ages!A$1:J$166,10,FALSE) -> 35-39 | M12: =IF(I12<=VLOOKUP(L12,'Standards Male'!E$92:J$103,2,FALSE),'Standards Male'!F$91,IF(I12<=VLOOKUP(L12,'Standards Male'!E$92:J$103,3,FALSE),'Standards Male'!G$91,IF(I12<=VLOOKUP(L12,'Standards Male'!E$92:J$103,4,FALSE),'Standards Male'!H$91,IF(I12<=VLOOKUP(L12,'Standards Male'!E$92:J$103,5,FALSE),'Standards Male'!I$91,IF(I12<=VLOOKUP(L12,'Standards Male'!E$92:J$103,6,FALSE),'Standards Male'!J$91,'Standards Male'!J$91))))) -> Copper | O12: 10 | P12: Manisha Rickards | Q12: 0.044895833
